BEGIN:VCALENDAR
VERSION:2.0
PRODID:-//Vkind - ECPv6.15.14//NONSGML v1.0//EN
CALSCALE:GREGORIAN
METHOD:PUBLISH
X-WR-CALNAME:Vkind
X-ORIGINAL-URL:https://www.vkind.com
X-WR-CALDESC:Events for Vkind
REFRESH-INTERVAL;VALUE=DURATION:PT1H
X-Robots-Tag:noindex
X-PUBLISHED-TTL:PT1H
BEGIN:VTIMEZONE
TZID:-04:00
END:VTIMEZONE
BEGIN:VTIMEZONE
TZID:-05:00
END:VTIMEZONE
BEGIN:VEVENT
DTSTART;TZID=-04:00:20250309T140000
DTEND;TZID=-04:00:20250309T153000
DTSTAMP:20260424T032051
CREATED:20250224T084547Z
LAST-MODIFIED:20250308T153048Z
UID:10007888-1741528800-1741534200@www.vkind.com
SUMMARY:Launch of the VSDC Animal Rights Discussion and Education Group
DESCRIPTION:***Update 3/4/25: The new location for this event is the Cleveland Park Library\, 3310 Connecticut Ave NW\, Washington\, DC 20008.*** \nPlease join us as the [Veg Society of DC](vsdc.org) launches the Animal Rights Discussion and Education Group. \nIf you’ve been looking for a way to educate yourself on animal rights and issues affecting animals in our world today with the support of a like-minded community\, then this group is for you. The VSDC Animal Rights Discussion and Education Group will discuss thoughts\, questions\, concerns\, and news related to animal rights. It seeks to provide a safe space for discussions around issues affecting captive animals\, farmed animals\, animals used in research\, wild animals\, companion animals\, and more. \nAll are welcome\, from those well-versed in animal rights philosophy and issues to those who are just starting off on their journey and are curious to learn more. Please come with an open mind\, an open heart\, and a willingness to engage with diverse opinions with curiosity and respect. \nThe plan is for the group to meet every other month. The topic of each meeting and any accompanying materials will be planned in advance and posted in event announcements via this VSDC meetup group. Participants are encouraged to offer topic ideas and materials for discussion at subsequent meetings. \n**Date / Time:** Sunday\, March 9\, from 2 to 3:30 pm.\n*Note: Daylight Savings Time starts March 9th so plan accordingly.* \n**Location:** Cleveland Park Library (2nd floor conference room)\n3310 Connecticut Ave NW\, Washington\, DC 20008 \n****NOTE: no food is allowed in the conference room; only covered beverages (non-alcoholic) are allowed. You must be very careful to leave the space in clean condition.**** \n**Metro:** The library is only 1 to 2 blocks from the Cleveland Park Metro Station on the Red line. \n**Parking:** There is street parking which is usually free on Sundays. Please read and follow all parking signs. \n*VSDC thanks **Anjali Baliga for leading this initiative.** Email ‘ARdiscuss@vsdc.org’ for further information.* \n**VSDC: More Than A Meetup**\nWe are so glad to have you as part of The Veg Society of DC Vegan Meetup group\, and we enjoy seeing you at our events. Did you know that [VSDC](vsdc.org) is a nonprofit organization with membership benefits?\nWith VSDC membership\, you will save money at area restaurants and businesses\, attend VSDC member-only events\, and\, most importantly\, support us as a clear and consistent voice for improving the lives of all beings through community building and education centered on the benefits of a vegan diet and lifestyle.\nThe VSDC membership fee is minimal\, but the impact is significant! [Become a member of VSDC](https://vsdc.org/membership/). \n**Liability Waiver and Code of Conduct**\nWhen you sign up to attend\, you automatically acknowledge [VSDC’s Liability Waiver](https://vsdc.org/activity-waiver/) and commit to follow the code of conduct found at [Policies – VSDC – Veg Society of DC](https://vsdc.org/policies/). \n**VSDC. Creating communities. For your health\, the animals\, and the planet.**
URL:https://www.vkind.com/vegan-events/launch-of-the-vsdc-animal-rights-discussion-and-education-group/
LOCATION:Cleveland Park Library\, 3310 Connecticut Ave NW\, Washington\, DC\, 20008\, United States
ATTACH;FMTTYPE=image/jpeg:https://www.vkind.com/wp-content/uploads/2025/02/1024x576-Q2sAjZ.tmp_.jpg
GEO:38.933746;-77.057755
X-APPLE-STRUCTURED-LOCATION;VALUE=URI;X-ADDRESS=Cleveland Park Library 3310 Connecticut Ave NW Washington DC 20008 United States;X-APPLE-RADIUS=500;X-TITLE=3310 Connecticut Ave NW:geo:-77.057755,38.933746
END:VEVENT
BEGIN:VEVENT
DTSTART;TZID=-05:00:20250111T143000
DTEND;TZID=-05:00:20250111T163000
DTSTAMP:20260424T032051
CREATED:20250102T095045Z
LAST-MODIFIED:20250111T133049Z
UID:10007860-1736605800-1736613000@www.vkind.com
SUMMARY:VSDC Veg Singles Improv Workshop
DESCRIPTION:**LOCATION CHANGE TO CLEVELAND PARK LIBRARY** \nJoin the VSDC Singles Group for an improv workshop! This event is strictly for fun. You do not need to have any experience with improv to join. \nSol Aziz – VSDC member and instructor with Washington Improv Theater – will be leading the group through some beginner-friendly improv games. \nThis event will take place in Meeting Room 1 at the Cleveland Park Library. \nAnyone who wants to grab food after the workshop can head to one of the vegan-friendly restaurants in Cleveland Park. \n**As a VSDC singles event\, this event is for vegan and vegan-aspiring adults who do not currently have a romantic partner.** People of any sexual orientation may join as long as they are single. Anyone 21 or older is welcome. You do not need to be looking to date; you can just come socialize with other singles. \n**Transportation**\nThe nearest Metro station is Cleveland Park on the red line. There is street parking\, but it can be hard to find\, so we recommend using public transportation. \n**VSDC: More Than A Meetup**\nWe are so glad to have you as part of The Veg Society of DC Vegan Meetup group\, and we enjoy seeing you at our events. Did you know that [VSDC](https://vsdc.org/) is a nonprofit organization with membership benefits?\nWith VSDC membership\, you will save money at area restaurants and businesses\, attend VSDC member-only events\, and\, most importantly\, support us as a clear and consistent voice for improving the lives of all beings through community building and education centered on the benefits of a vegan diet and lifestyle.\nThe VSDC membership fee is minimal\, but the impact is significant! [Become a member of VSDC](https://vsdc.org/membership/). \n**Liability Waiver and Code of Conduct**\nWhen you sign up to attend\, you automatically acknowledge [VSDC’s Liability Waiver](https://vsdc.org/activity-waiver/) and commit to follow the code of conduct found at [Policies – VSDC – Veg Society of DC](https://vsdc.org/policies/).
URL:https://www.vkind.com/vegan-events/vsdc-veg-singles-improv-workshop/
LOCATION:Cleveland Park Library\, 3310 Connecticut Ave NW\, Washington\, DC\, 20008\, United States
ATTACH;FMTTYPE=image/jpeg:https://www.vkind.com/wp-content/uploads/2025/01/1024x576-bhDOgC.tmp_.jpg
GEO:38.933746;-77.057755
X-APPLE-STRUCTURED-LOCATION;VALUE=URI;X-ADDRESS=Cleveland Park Library 3310 Connecticut Ave NW Washington DC 20008 United States;X-APPLE-RADIUS=500;X-TITLE=3310 Connecticut Ave NW:geo:-77.057755,38.933746
END:VEVENT
END:VCALENDAR