BEGIN:VCALENDAR
VERSION:2.0
PRODID:-//Vkind - ECPv6.15.14//NONSGML v1.0//EN
CALSCALE:GREGORIAN
METHOD:PUBLISH
X-WR-CALNAME:Vkind
X-ORIGINAL-URL:https://www.vkind.com
X-WR-CALDESC:Events for Vkind
REFRESH-INTERVAL;VALUE=DURATION:PT1H
X-Robots-Tag:noindex
X-PUBLISHED-TTL:PT1H
BEGIN:VTIMEZONE
TZID:-04:00
END:VTIMEZONE
BEGIN:VTIMEZONE
TZID:-05:00
END:VTIMEZONE
BEGIN:VEVENT
DTSTART;TZID=-04:00:20240316T100000
DTEND;TZID=-04:00:20240316T113000
DTSTAMP:20260422T183247
CREATED:20240229T145045Z
LAST-MODIFIED:20240316T005022Z
UID:10007656-1710583200-1710588600@www.vkind.com
SUMMARY:VSDC at Cinaholic Gambrills for New Vegan Gluten Free Options!
DESCRIPTION:Join us for another mouthwatering VSDC event at Cinnaholic Gambrills as we unveil the newest additions to the menu – delectable **vegan** **gluten-free** treats! Get ready to indulge in the irresistible flavors of **Chocolate Chip Banana Bread** and **Brownies**\, crafted with love and packed with deliciousness. \nAt this meetup\, you’ll have the exclusive opportunity to be among the first to savor these vegan goodies. Samples of the gluten-free options will be provided for free\, everything else from the extensive menu will be available for purchase. Whether you’re a seasoned vegan or simply a lover of scrumptious desserts\, there’s something for everyone to enjoy!\nJoin us for a morning of indulgence\, community\, and of course\, incredible treats. Don’t miss out on this chance to satisfy your sweet tooth guilt-free! \n**RSVP** to secure your spot and ensure you don’t miss out on the chance to taste these tantalizing new creations. Spread the word\, bring your friends\, and let’s make this VSDC event another unforgettable gathering!\nLet’s come together to celebrate compassion\, creativity\, and the joy of plant-based living. We can’t wait to see you there! 🌱🍌🍫 \n📅 Date: Sat\, Mar 16\n🕒 Time: 10am\n📍 Location: Cinnaholic Gambrills\n[1403 S Main Chapel Way Ste 105\, Gambrills\, MD]\nPlenty of parking is available in the rear side of building. \n**VSDC: More Than A Meetup.**\nWe are so glad to have you as part of The Veg Society of DC Vegan Meetup group\, and we enjoy seeing you at our events. Did you know that [VSDC](https://vsdc.org/) is a nonprofit organization with membership benefits?\nWith VSDC membership\, you will save money at area restaurants and businesses\, attend VSDC member-only events\, and\, most importantly\, support us as a clear and consistent voice for improving the lives of all beings through community building and education centered on the benefits of a vegan diet and lifestyle.\nThe membership fee is minimal\, but the impact is significant! [Become a member of VSDC](https://vsdc.org/membership/). \n**Liability Waiver and Code of Conduct.**\nWhen you sign up to attend\, you automatically acknowledge [VSDC’s Liability Waiver](https://vsdc.org/activity-waiver/) and commit to follow the code of conduct found at [Policies – VSDC – Veg Society of DC](https://vsdc.org/policies/). \n**VSDC. Creating communities. For your health\, the animals\, and the planet.**
URL:https://www.vkind.com/vegan-events/vsdc-at-cinaholic-gambrills-for-new-vegan-gluten-free-options/
LOCATION:Cinnaholic\, 1403 S Main Chapel Way #105\, Gambrills\, MD\, 21054\, United States
ATTACH;FMTTYPE=image/jpeg:https://www.vkind.com/wp-content/uploads/2024/01/1024x576-cRcuwJ.tmp_.jpg
GEO:39.032215;-76.68562
X-APPLE-STRUCTURED-LOCATION;VALUE=URI;X-ADDRESS=Cinnaholic 1403 S Main Chapel Way #105 Gambrills MD 21054 United States;X-APPLE-RADIUS=500;X-TITLE=1403 S Main Chapel Way #105:geo:-76.68562,39.032215
END:VEVENT
BEGIN:VEVENT
DTSTART;TZID=-05:00:20240130T180000
DTEND;TZID=-05:00:20240130T193000
DTSTAMP:20260422T183247
CREATED:20240117T082014Z
LAST-MODIFIED:20240131T004517Z
UID:10007627-1706637600-1706643000@www.vkind.com
SUMMARY:VSDC at Cinnaholic\, Gambrills\, MD: New Veganuary Dessert!
DESCRIPTION:January 30th\, 2024 marks the conclusion of[ Veganuary’s ](https://veganuary.com/)10th Anniversary. To commemorate this exciting occasion we are inviting you to celebrate with a complimentary first-of-its-kind dessert. \nAs seen on Shark Tank\, Cinnaholic\, in Gambrills\, MD\, is introducing a new cinnamon roll and WE are invited to be the first to taste this new dessert. \nLet’s ALL meet at Cinnaholic located at 1403 S Main Chapel Way #105\, Gambrills\, MD 21054 on Tuesday\, January 30th at 6:00 PM \nEveryone is welcome— delicious dessert\, warm beverages\, and of course great company! \nThe Waugh Chapel Center has plenty of parking. \n**VSDC: More Than A Meetup**\nWe are so glad to have you as part of The Veg Society of DC Vegan Meetup group\, and we enjoy seeing you at our events. Did you know that [VSDC](https://vsdc.org/) is a nonprofit organization with membership benefits? \nWith VSDC membership\, you will save money at area restaurants and businesses\, attend VSDC member-only events\, and\, most importantly\, support us as a clear and consistent voice for improving the lives of all beings through community building and education centered on the benefits of a vegan diet and lifestyle. \nThe membership fee is minimal\, but the impact is significant! [Become a member of VSDC](https://vsdc.org/membership/). \n**Liability Waiver and Code of Conduct**\nWhen you sign up to attend\, you automatically acknowledge [VSDC’s Liability Waiver](https://vsdc.org/activity-waiver/) and commit to follow the code of conduct found at [Policies – VSDC – Veg Society of DC](https://vsdc.org/policies/).
URL:https://www.vkind.com/vegan-events/vsdc-at-cinnaholic-gambrills-md-new-veganuary-dessert/
LOCATION:Cinnaholic\, 1403 S Main Chapel Way #105\, Gambrills\, MD\, 21054\, United States
ATTACH;FMTTYPE=image/jpeg:https://www.vkind.com/wp-content/uploads/2024/01/1024x576-cRcuwJ.tmp_.jpg
GEO:39.032215;-76.68562
X-APPLE-STRUCTURED-LOCATION;VALUE=URI;X-ADDRESS=Cinnaholic 1403 S Main Chapel Way #105 Gambrills MD 21054 United States;X-APPLE-RADIUS=500;X-TITLE=1403 S Main Chapel Way #105:geo:-76.68562,39.032215
END:VEVENT
END:VCALENDAR