BEGIN:VCALENDAR
VERSION:2.0
PRODID:-//Vkind - ECPv6.15.14//NONSGML v1.0//EN
CALSCALE:GREGORIAN
METHOD:PUBLISH
X-ORIGINAL-URL:https://www.vkind.com
X-WR-CALDESC:Events for Vkind
REFRESH-INTERVAL;VALUE=DURATION:PT1H
X-Robots-Tag:noindex
X-PUBLISHED-TTL:PT1H
BEGIN:VTIMEZONE
TZID:-04:00
END:VTIMEZONE
BEGIN:VTIMEZONE
TZID:-05:00
END:VTIMEZONE
BEGIN:VEVENT
DTSTART;TZID=-04:00:20240720T090000
DTEND;TZID=-04:00:20240720T130000
DTSTAMP:20260422T170058
CREATED:20240514T033544Z
LAST-MODIFIED:20240720T171544Z
UID:10007715-1721466000-1721480400@www.vkind.com
SUMMARY:Vegan Trekkers: Strenuous 8 Mile Loop Hike at Catoctin
DESCRIPTION:Join Vegan Trekkers for a (very) strenuous 8.5 mile hike in Catoctin Mountain Park. \nWe will be starting from the visitor center and ascending steeply eastward to Chimney Rock. After exploring both Chimney and Wolf Rocks\, we will head North to Thurmont Vista. We will continue the loop westward to Blue Ridge Summit Vista\, and then head south to explore the Hog Rock. The descend southward will be steep but we will get to admire Cunningham Falls. \nMeeting Point & Parking: [Catoctin Mountain Visitor Center](https://goo.gl/maps/w9Kf4xBXLVXBsC5v7)\nMeeting Time: 9:00am\nDistance: 8.5 miles\nPace: moderate (2 – 2.5 miles/hr)\nDifficulty: (very) strenuous\nDuration: ~5 hours\nType of trail: natural\nRestrooms: at the Visitor Center \nThis hike is strenuous with some steep inclines and declines and very rough and rocky terrain. So please make sure that you meet these requirements in order to attend this hike:\n– fit to do 8.5 miles with considerable elevation change.\n– handle rough and rocky and steep trail.\n– hiking shoes with good tread (sneakers won’t do the job!). \nSuggested Carpool Location (please put a comment if you would like to carpool at this location): [Gaithersburg Park n Ride](https://goo.gl/maps/mnWjawrLZL1of9rL6)\nMeeting time at this carpool: 8:00 am. \nWhen you sign up to join a hike you automatically acknowledge\nVSDC Vegan Trekkers Liability Waiver: https://vsdc.org/activity-waiver/ \nTransportation\nBy Car: [https://goo.gl/maps/w9Kf4xBXLVXBsC5v7](https://goo.gl/maps/w9Kf4xBXLVXBsC5v7) \nDog friendly?: Yes. Please keep your dog leashed at all times. \nFood/Water: Bring your own vegan snack and (non-alcoholic) beverage to enjoy. Please carry plenty of water! \nWeather: Be prepared! We will hike rain or shine\, but if conditions pose a danger\, we’ll cancel the hike and post a notice in the “comments” section. We suggest that hikers wear comfortable footwear and suitable clothing made from quick-dry\, synthetic fabrics\, as cotton can lead to uncomfortable blisters and life-threatening hypothermia in case of inclement weather. \n*For important updates regularly monitor the “comments” section below.*\n*Don’t be a no show! If your plans change\, update your RSVP.* \nPlease read The 10 Essentials of Hiking: [https://americanhiking.org/resources/10essentials/](https://americanhiking.org/resources/10essentials/) \n**Rules** \n* Pets: When hikes are organized in dog-friendly areas\, hikers are invited to bring their pet(s). However\, dogs are the sole responsibility of the owner(s) who brought them; should be up-to-date on their vaccinations & in possession of the relevant tags; and should be under the control of their owner(s) at all times. Dogs that demonstrate consistently aggressive or otherwise out-of-control behavior will be banned from future hikes. Owners should come prepared to dispose of their dogs’ waste in appropriate receptacles.\n* Alcohol/Smoking/Intoxicants: Use of intoxicants such as alcohol\, cigarettes and/or illegal substances is banned during the hikes. \n**VSDC: More Than A Meetup**\nWe are so glad to have you as part of The Veg Society of DC Vegan Meetup group\, and we enjoy seeing you at our events. Did you know that [VSDC](https://vsdc.org/) is a nonprofit organization with membership benefits? \nWith VSDC membership\, you will save money at area restaurants and businesses\, attend VSDC member-only events\, and\, most importantly\, support us as a clear and consistent voice for improving the lives of all beings through community building and education centered on the benefits of a vegan diet and lifestyle. \nThe membership fee is minimal\, but the impact is significant! [Become a member of VSDC](https://vsdc.org/membership/). \n**Liability Waiver and Code of Conduct**\nWhen you sign up to attend\, you automatically acknowledge [VSDC’s Liability Waiver](https://vsdc.org/activity-waiver/) and commit to follow the code of conduct found at [Policies – VSDC – Veg Society of DC](https://vsdc.org/policies/). \n**VSDC. Creating communities. For your health\, the animals\, and the planet.**
URL:https://www.vkind.com/vegan-events/vegan-trekkers-strenuous-8-mile-loop-hike-at-catoctin/
LOCATION:Catoctin Mountain Park Visitor Center\, 14707 Park Central Rd\, Thurmont\, MD\, 21788\, United States
ATTACH;FMTTYPE=image/jpeg:https://www.vkind.com/wp-content/uploads/2022/03/1024x576-lD763y.tmp_.jpg
GEO:39.63415;-77.44996
X-APPLE-STRUCTURED-LOCATION;VALUE=URI;X-ADDRESS=Catoctin Mountain Park Visitor Center 14707 Park Central Rd Thurmont MD 21788 United States;X-APPLE-RADIUS=500;X-TITLE=14707 Park Central Rd:geo:-77.44996,39.63415
END:VEVENT
BEGIN:VEVENT
DTSTART;TZID=-04:00:20240310T093000
DTEND;TZID=-04:00:20240310T143000
DTSTAMP:20260422T170058
CREATED:20240303T165518Z
LAST-MODIFIED:20240309T205047Z
UID:10007660-1710063000-1710081000@www.vkind.com
SUMMARY:VSDC Vegan Trekkers Hike: Strenuous 8 Mile Loop at Catoctin
DESCRIPTION:Join Vegan Trekkers for a (very) strenuous 8.5 mile hike in Catoctin Mountain Park. \nWe will be starting from the visitor center and ascending steeply eastward to Chimney Rock. After exploring both Chimney and Wolf Rocks\, we will head North to Thurmont Vista. We will continue the loop westward to Blue Ridge Summit Vista\, and then head south to explore the Hog Rock. The descend southward will be steep but we will get to admire Cunningham Falls. \nMeeting Point & Parking: [Catoctin Mountain Visitor Center](https://goo.gl/maps/w9Kf4xBXLVXBsC5v7)\nMeeting Time: 9:15am\nDistance: 8.5 miles\nPace: moderate (2 – 2.5 miles/hr)\nDifficulty: (very) strenuous\nDuration: ~5 hours\nType of trail: natural\nHiking Map: attached in the pictures\nRestrooms: at the Visitor Center \nThis hike is strenuous with some steep inclines and declines and very rough and rocky terrain. So please make sure that you meet these requirements in order to attend this hike:\n– fit to do 8.5 miles with considerable elevation change.\n– handle rough and rocky and steep trail.\n– hiking shoes with good tread (sneakers won’t do the job!). \nSuggested Carpool Location (please put a comment if you would like to carpool at this location): [Gaithersburg Park n Ride](https://goo.gl/maps/mnWjawrLZL1of9rL6)\nMeeting time at this carpool: 8:15am. \nOptional post hike lunch: [Hippy Chick Hummus (Vegan)](https://hippy-chick-hummus.square.site/s/order/) \nWhen you sign up to join a hike you automatically acknowledge\nVSDC Vegan Trekkers Liability Waiver: https://vsdc.org/activity-waiver/ \nTransportation\nBy Car: https://goo.gl/maps/w9Kf4xBXLVXBsC5v7 \nDog friendly?: Yes. Please keep your dog leashed at all times. \nFood/Water: Bring your own vegan snack and (non-alcoholic) beverage to enjoy. Please carry plenty of water! \nWeather: Be prepared! We will hike rain or shine\, but if conditions pose a danger\, we’ll cancel the hike and post a notice in the “comments” section. We suggest that hikers wear comfortable footwear and suitable clothing made from quick-dry\, synthetic fabrics\, as cotton can lead to uncomfortable blisters and life-threatening hypothermia in case of inclement weather. \n*For important updates regularly monitor the “comments” section below.*\n*Don’t be a no show! If your plans change\, update your RSVP.* \nWhen you sign up to join a hike you automatically acknowledge\n[VSDC Vegan Trekkers Activity Liability Waiver](https://vsdc.org/activity-waiver/) – https://vsdc.org/activity-waiver/ \n*Please also view the Rules listed at the end of this description*\nPlease read The 10 Essentials of Hiking: https://americanhiking.org/resources/10essentials/ \nRULES \nPets: When hikes are organized in dog-friendly areas\, hikers are invited to bring their pet(s). However\, dogs are the sole responsibility of the owner(s) who brought them; should be up-to-date on their vaccinations & in possession of the relevant tags; and should be under the control of their owner(s) at all times. Dogs that demonstrate consistently aggressive or otherwise out-of-control behavior will be banned from future hikes. Owners should come prepared to dispose of their dogs’ waste in appropriate receptacles. \nAlcohol/Smoking/Intoxicants: Use of intoxicants such as alcohol\, cigarettes and/or illegal substances is banned during the hikes. \nBy coming to this event\, we expect you to follow the code of conduct found at [Policies – VSDC – Veg Society of DC](https://vsdc.org/policies/). \n**VSDC: More Than A Meetup** \nWe are so glad to have you as part of The Veg Society of DC Vegan Meetup group\, and we enjoy seeing you at our events. Did you know that [VSDC](https://vsdc.org/) is a nonprofit organization with membership benefits?\nWith VSDC membership\, you will save money at area restaurants and businesses\, attend VSDC member-only events\, and\, most importantly\, support us as a clear and consistent voice for improving the lives of all beings through community building and education centered on the benefits of a vegan diet and lifestyle. \nThe membership fee is minimal\, but the impact is significant! [Become a member of VSDC](https://vsdc.org/membership/). \n**VSDC. Creating communities. For your health\, the animals\, and the planet.**
URL:https://www.vkind.com/vegan-events/vegan-trekkers-hike-strenuous-8-mile-loop-at-catoctin-2/
LOCATION:Catoctin Mountain Park Visitor Center\, 14707 Park Central Rd\, Thurmont\, MD\, 21788\, United States
ATTACH;FMTTYPE=image/jpeg:https://www.vkind.com/wp-content/uploads/2022/03/1024x576-lD763y.tmp_.jpg
GEO:39.63415;-77.44996
X-APPLE-STRUCTURED-LOCATION;VALUE=URI;X-ADDRESS=Catoctin Mountain Park Visitor Center 14707 Park Central Rd Thurmont MD 21788 United States;X-APPLE-RADIUS=500;X-TITLE=14707 Park Central Rd:geo:-77.44996,39.63415
END:VEVENT
BEGIN:VEVENT
DTSTART;TZID=-05:00:20231111T093000
DTEND;TZID=-05:00:20231111T143000
DTSTAMP:20260422T170058
CREATED:20231025T142527Z
LAST-MODIFIED:20231110T204539Z
UID:10007572-1699695000-1699713000@www.vkind.com
SUMMARY:Vegan Trekkers Hike: Strenuous 8 Mile Loop at Catoctin
DESCRIPTION:Join Vegan Trekkers for a (very) strenuous 8.5 mile hike in Catoctin Mountain Park. \nWe will be starting from the visitor center and ascending steeply eastward to Chimney Rock. After exploring both Chimney and Wolf Rocks\, we will head North to Thurmont Vista. We will continue the loop westward to Blue Ridge Summit Vista\, and then head south to explore the Hog Rock. The descend southward will be steep but we will get to admire Cunningham Falls. \nMeeting Point & Parking: [Catoctin Mountain Visitor Center](https://goo.gl/maps/w9Kf4xBXLVXBsC5v7)\nMeeting Time: 9:15am\nDistance: 8.5 miles\nPace: moderate (2 – 2.5 miles/hr)\nDifficulty: (very) strenuous\nDuration: ~5 hours\nType of trail: natural\nHiking Map: attached in the pictures\nRestrooms: at the Visitor Center \nThis hike is strenuous with some steep inclines and declines and very rough and rocky terrain. So please make sure that you meet these requirements in order to attend this hike:\n– fit to do 8.5 miles with considerable elevation change.\n– handle rough and rocky and steep trail.\n– hiking shoes with good tread (sneakers won’t do the job!). \nSuggested Carpool Location (please put a comment if you would like to carpool at this location): [Gaithersburg Park n Ride](https://goo.gl/maps/mnWjawrLZL1of9rL6)\nMeeting time at this carpool: 8:15am. \nOptional post hike lunch: [Hippy Chick Hummus (Vegan)](https://hippy-chick-hummus.square.site/s/order/) \nWhen you sign up to join a hike you automatically acknowledge\nVSDC Vegan Trekkers Liability Waiver: https://vsdc.org/activity-waiver/ \nTransportation\nBy Car: https://goo.gl/maps/w9Kf4xBXLVXBsC5v7 \nDog friendly?: Yes. Please keep your dog leashed at all times. \nFood/Water: Bring your own vegan snack and (non-alcoholic) beverage to enjoy. Please carry plenty of water! \nWeather: Be prepared! We will hike rain or shine\, but if conditions pose a danger\, we’ll cancel the hike and post a notice in the “comments” section. We suggest that hikers wear comfortable footwear and suitable clothing made from quick-dry\, synthetic fabrics\, as cotton can lead to uncomfortable blisters and life-threatening hypothermia in case of inclement weather. \n*For important updates regularly monitor the “comments” section below.*\n*Don’t be a no show! If your plans change\, update your RSVP.* \nWhen you sign up to join a hike you automatically acknowledge\n[VSDC Vegan Trekkers Activity Liability Waiver](https://vsdc.org/activity-waiver/) – https://vsdc.org/activity-waiver/ \n*Please also view the Rules listed at the end of this description*\nPlease read The 10 Essentials of Hiking: https://americanhiking.org/resources/10essentials/ \nRULES \nPets: When hikes are organized in dog-friendly areas\, hikers are invited to bring their pet(s). However\, dogs are the sole responsibility of the owner(s) who brought them; should be up-to-date on their vaccinations & in possession of the relevant tags; and should be under the control of their owner(s) at all times. Dogs that demonstrate consistently aggressive or otherwise out-of-control behavior will be banned from future hikes. Owners should come prepared to dispose of their dogs’ waste in appropriate receptacles. \nAlcohol/Smoking/Intoxicants: Use of intoxicants such as alcohol\, cigarettes and/or illegal substances is banned during the hikes. \n*** \nVSDC (http://www.vsdc.org) is a clear and consistent voice for improving the lives of all beings through education on the benefits of a vegan diet & lifestyle. Sharing food is the bond that brings families together; so it is with VSDC. From simply “breaking bread” to experiencing delicious and nutritious vegan foods from around the world\, we make your journey easier\, enjoyable & meaningful. \n**VSDC. Creating communities. For your health\, the animals\, and the planet.**
URL:https://www.vkind.com/vegan-events/vegan-trekkers-hike-strenuous-8-mile-loop-at-catoctin/
LOCATION:Catoctin Mountain Park Visitor Center\, 14707 Park Central Rd\, Thurmont\, MD\, 21788\, United States
ATTACH;FMTTYPE=image/jpeg:https://www.vkind.com/wp-content/uploads/2022/03/1024x576-lD763y.tmp_.jpg
GEO:39.63415;-77.44996
X-APPLE-STRUCTURED-LOCATION;VALUE=URI;X-ADDRESS=Catoctin Mountain Park Visitor Center 14707 Park Central Rd Thurmont MD 21788 United States;X-APPLE-RADIUS=500;X-TITLE=14707 Park Central Rd:geo:-77.44996,39.63415
END:VEVENT
END:VCALENDAR