BEGIN:VCALENDAR
VERSION:2.0
PRODID:-//Vkind - ECPv6.15.14//NONSGML v1.0//EN
CALSCALE:GREGORIAN
METHOD:PUBLISH
X-WR-CALNAME:Vkind
X-ORIGINAL-URL:https://www.vkind.com
X-WR-CALDESC:Events for Vkind
REFRESH-INTERVAL;VALUE=DURATION:PT1H
X-Robots-Tag:noindex
X-PUBLISHED-TTL:PT1H
BEGIN:VTIMEZONE
TZID:-04:00
END:VTIMEZONE
BEGIN:VEVENT
DTSTART;TZID=-04:00:20250429T183000
DTEND;TZID=-04:00:20250429T210000
DTSTAMP:20260422T233827
CREATED:20250411T055547Z
LAST-MODIFIED:20250411T055553Z
UID:10007923-1745951400-1745960400@www.vkind.com
SUMMARY:Eating for Tomorrow: Film Screening & Talk-Back for Earth Month
DESCRIPTION:Please join us on Tuesday\, April 29th from 6:30 to 9 pm\, for this film screening and talk-back to celebrate Earth Month. This event is in collaboration with [Plant Powered Metro New York (PPMNY)](https://www.plantpoweredmetrony.org/) and the Green Feather Foundation. It is a pay-what-you-can event and the price range is from $0 to $25. \nThe food we eat has the power to shape the future of our planet. This Earth Month\, join us for a special community screening of *Eating for Tomorrow*\, the 2021 documentary narrated by Academy Award-winning actress Kate Winslet. \nFrom the depths of the Amazon rainforest to the windswept Scottish coastlines\, *Eating for Tomorrow* takes viewers on a breathtaking journey across the globe\, exposing the environmental consequences of our food choices. Through powerful storytelling — from indigenous voices on the frontlines of climate change to world-renowned scientists and global thought leaders — this eye-opening film uncovers urgent truths while offering a message of hope and empowerment. \nAfter the screening\, stay for an engaging talk-back moderated by PPMNY’s Wendy Sax\, featuring vegan activist Saurabh Dalal and another TBD individual. Together\, we’ll explore practical steps to create a more sustainable food system — for ourselves\, our communities\, and future generations. \n**To register for this event\, you MUST GO to the event webpage by [clicking here to complete the registration form](https://www.greenfeather.org/event-details/eating-for-tomorrow-film-screening-talk-back-for-earth-month).** ***RSVP’ing here on this meetup page will NOT get you into the event.*** \n**Event Location:** Carriage House Annex\n225 E 67th St\, New York\, NY 10065\n*(PLEASE plan well in advance and come on time!)* \n**Train Directions:** Take the F or N or Q or R train to Lexington Ave / 63rd St\, or take the 4 or 6 train to 68 St – Hunter College. The venue is just a few short blocks from either subway station. \n***After the event and for whoever wants to join as time permits\, a number of us will find a nearby venue for vegan food and further conversations.*** \nDo bring a friend and RSVP asap!\nRemember it is a pay-what-you-can event (price range from $0 to $25) and you must register here:\nhttps://www.greenfeather.org/event-details/eating-for-tomorrow-film-screening-talk-back-for-earth-month \nWe look forward to seeing you on the 29th at 6:30 pm!\n~~Saurabh
URL:https://www.vkind.com/vegan-events/eating-for-tomorrow-film-screening-talk-back-for-earth-month/
LOCATION:Carriage House Annex\, 225 E 67th St\, New York\, NY\, 10065\, United States
ATTACH;FMTTYPE=image/jpeg:https://www.vkind.com/wp-content/uploads/2025/04/1024x576-RaTaaD.tmp_.jpg
GEO:40.766174;-73.96127
X-APPLE-STRUCTURED-LOCATION;VALUE=URI;X-ADDRESS=Carriage House Annex 225 E 67th St New York NY 10065 United States;X-APPLE-RADIUS=500;X-TITLE=225 E 67th St:geo:-73.96127,40.766174
END:VEVENT
END:VCALENDAR