BEGIN:VCALENDAR
VERSION:2.0
PRODID:-//Vkind - ECPv6.15.14//NONSGML v1.0//EN
CALSCALE:GREGORIAN
METHOD:PUBLISH
X-WR-CALNAME:Vkind
X-ORIGINAL-URL:https://www.vkind.com
X-WR-CALDESC:Events for Vkind
REFRESH-INTERVAL;VALUE=DURATION:PT1H
X-Robots-Tag:noindex
X-PUBLISHED-TTL:PT1H
BEGIN:VTIMEZONE
TZID:-04:00
END:VTIMEZONE
BEGIN:VEVENT
DTSTART;TZID=-04:00:20240908T130000
DTEND;TZID=-04:00:20240908T160000
DTSTAMP:20260423T222337
CREATED:20240821T083550Z
LAST-MODIFIED:20240904T143523Z
UID:10007773-1725800400-1725811200@www.vkind.com
SUMMARY:VSDC at Global Veggie Fest
DESCRIPTION:**This event was initially listed on a Saturday. It is being held on SUNDAY!** \nJoin VSDC at the Global Veggie Fest to sample authentic international cuisine. \nHosted by the Capital Memorial Church\, this event in years past has featured vegetarian and vegan cuisine from cultures around the globe. Entire rooms are dedicated to cuisine from each continent as participants graze on a world of plant-rich delights. You cannot go hungry here! \nYou can [purchase a ticket online](https://www.eventbrite.com/e/1st-global-veggie-fest-tickets-982868755907) or at the door for $10. Children 10 and under are free. \nYou can access the site by taking the Metro to the Van Ness-UDC stop and walking six blocks. There will also be free parking (on a space-available basis) on-site. \n**VSDC: More Than A Meetup**\nWe are so glad you are part of The Veg Society of DC Vegan Meetup group and enjoy seeing you at our events. Did you know that [VSDC](https://vsdc.org/) is a nonprofit organization with membership benefits? \nWith VSDC membership\, you will save money at area restaurants and businesses\, attend VSDC member-only events\, and\, most importantly\, support us as a clear and consistent voice for improving the lives of all beings through community building and education centered on the benefits of a vegan diet and lifestyle. \nThe VSDC membership fee is minimal\, but the impact is significant! [Become a member of VSDC](https://vsdc.org/membership/). \n**Liability Waiver and Code of Conduct**\nWhen you sign up to attend\, you automatically acknowledge [VSDC’s Liability Waiver](https://vsdc.org/activity-waiver/) and commit to follow the code of conduct found at [Policies – VSDC – Veg Society of DC](https://vsdc.org/policies/). \n**VSDC. Creating communities. For your health\, the animals\, and the planet.**
URL:https://www.vkind.com/vegan-events/vsdc-at-global-veggie-fest/
LOCATION:Capital Memorial Church\, 3150 Chesapeake Street Northwest Washington\, DC 20008\, Washington\, DC\, 20008\, United States
ATTACH;FMTTYPE=image/jpeg:https://www.vkind.com/wp-content/uploads/2024/08/1024x576-hlMS43.tmp_.jpg
GEO:38.950172;-77.063965
X-APPLE-STRUCTURED-LOCATION;VALUE=URI;X-ADDRESS=Capital Memorial Church 3150 Chesapeake Street Northwest Washington DC 20008 Washington DC 20008 United States;X-APPLE-RADIUS=500;X-TITLE=3150 Chesapeake Street Northwest Washington\, DC 20008:geo:-77.063965,38.950172
END:VEVENT
END:VCALENDAR