BEGIN:VCALENDAR
VERSION:2.0
PRODID:-//Vkind - ECPv6.15.14//NONSGML v1.0//EN
CALSCALE:GREGORIAN
METHOD:PUBLISH
X-ORIGINAL-URL:https://www.vkind.com
X-WR-CALDESC:Events for Vkind
REFRESH-INTERVAL;VALUE=DURATION:PT1H
X-Robots-Tag:noindex
X-PUBLISHED-TTL:PT1H
BEGIN:VTIMEZONE
TZID:-04:00
END:VTIMEZONE
BEGIN:VEVENT
DTSTART;TZID=-04:00:20240513T190000
DTEND;TZID=-04:00:20240513T210000
DTSTAMP:20260424T102128
CREATED:20240424T122031Z
LAST-MODIFIED:20240511T173538Z
UID:10007696-1715626800-1715634000@www.vkind.com
SUMMARY:Candle - Vegan Kosher near Murray Hill (Kips Bay / Rose Hill)
DESCRIPTION:**Come before 7:00pm and we will promptly seat at 7:00pm.** \nJoin us and experience the rebirth of “Candle” — New York City’s cherished beacon of vegan gastronomy\, rekindled in 2023. Following the closure of the iconic Candle Cafe\, Candle 79\, and Candle Cafe West in 2019 and 2020\, the spirit of Candle has been reignited in a vibrant new venue. This revival is more than just a restaurant; it’s a homage to nearly three decades of pioneering vegan cuisine\, encapsulating the soulful history and cherished memories of its predecessors. \n**VegNews**: “Candle is back and better than ever … The restaurant is serving many of the iconic dishes that made the Candle family of vegan restaurants a longtime favorite among foodies and inspired vegan chefs nationwide with their impressive gourmet cookbooks…” \n**HappyCow**: “… offers a variety of items such as tofu & seitan dishes\, greens & vegetables\, chimichurri skewers\, mezze platter\, grilled kale salad\, polenta fries\, and more…” \n**BirdEye**: “The menu features a variety of delicious and healthy dishes\, none of which are too heavy. Choose from sandwiches like the Tuscan seitan Parmesan sandwich or the Mediterranean wrap\, all kinds of salads\, and larger dishes like mole grilled tofu or Tuscan lasagna.” \n**For those of you who have never attended one of our Meetup events:** this is an incredibly friendly & welcoming group. It will be easy to find our group: we are taking over the majority of the restaurant. Also\, everyone pays for their own meal. Easy! \n**Where to Meet**: Look for us inside or ask the staff if needed. \n**Train Directions**: The closest trains are the (4) (6) to 33rd St\, (N) (Q) (R) (W) to 28 St\, (1) (2) to 28th St. Please note any MTA reroutes on the day of event. \n**Come before 7:00pm and we will promptly seat at 7:00pm.** \nEddie
URL:https://www.vkind.com/vegan-events/candle-vegan-kosher-near-murray-hill-kips-bay-rose-hill/
LOCATION:Candle\, 388 3rd Ave\, New York\, NY\, 10016\, United States
ATTACH;FMTTYPE=image/jpeg:https://www.vkind.com/wp-content/uploads/2024/04/1024x576-ea4LX2.tmp_.jpg
GEO:40.741898;-73.98119
X-APPLE-STRUCTURED-LOCATION;VALUE=URI;X-ADDRESS=Candle 388 3rd Ave New York NY 10016 United States;X-APPLE-RADIUS=500;X-TITLE=388 3rd Ave:geo:-73.98119,40.741898
END:VEVENT
END:VCALENDAR