BEGIN:VCALENDAR
VERSION:2.0
PRODID:-//Vkind - ECPv6.15.14//NONSGML v1.0//EN
CALSCALE:GREGORIAN
METHOD:PUBLISH
X-ORIGINAL-URL:https://www.vkind.com
X-WR-CALDESC:Events for Vkind
REFRESH-INTERVAL;VALUE=DURATION:PT1H
X-Robots-Tag:noindex
X-PUBLISHED-TTL:PT1H
BEGIN:VTIMEZONE
TZID:America/Toronto
BEGIN:DAYLIGHT
TZOFFSETFROM:-0500
TZOFFSETTO:-0400
TZNAME:EDT
DTSTART:20220313T070000
END:DAYLIGHT
BEGIN:STANDARD
TZOFFSETFROM:-0400
TZOFFSETTO:-0500
TZNAME:EST
DTSTART:20221106T060000
END:STANDARD
BEGIN:DAYLIGHT
TZOFFSETFROM:-0500
TZOFFSETTO:-0400
TZNAME:EDT
DTSTART:20230312T070000
END:DAYLIGHT
BEGIN:STANDARD
TZOFFSETFROM:-0400
TZOFFSETTO:-0500
TZNAME:EST
DTSTART:20231105T060000
END:STANDARD
BEGIN:DAYLIGHT
TZOFFSETFROM:-0500
TZOFFSETTO:-0400
TZNAME:EDT
DTSTART:20240310T070000
END:DAYLIGHT
BEGIN:STANDARD
TZOFFSETFROM:-0400
TZOFFSETTO:-0500
TZNAME:EST
DTSTART:20241103T060000
END:STANDARD
END:VTIMEZONE
BEGIN:VEVENT
DTSTART;TZID=America/Toronto:20230819T120000
DTEND;TZID=America/Toronto:20230819T180000
DTSTAMP:20260423T205131
CREATED:20230728T144307Z
LAST-MODIFIED:20230728T144307Z
UID:10007479-1692446400-1692468000@www.vkind.com
SUMMARY:Burlington VegFest 2023
DESCRIPTION:Promoting awareness of the health\, environmental and ethical benefits of a vegan lifestyle \nWE ARE BURLINGTON VEGFEST\, a small\, local\, volunteer-led committee of vegans who are excited to bring the VegFest movement to Burlington! This event welcomes any and all – from the plant-based-curious to the long-term committed vegans – to join us for a day celebrating a way of living that is centered on compassion\, health and sustainability\, all while supporting local businesses\, organizations\, and other causes. \nPlease consider making a donation here https://www.burlingtonvegfest.com/donate
URL:https://www.vkind.com/vegan-events/burlington-vegfest-2023/
LOCATION:Burloak Waterfront Park\, 5420 Lakeshore Road\, Burlington\, ON L7L 1C9\, Canada
ATTACH;FMTTYPE=image/jpeg:https://www.vkind.com/wp-content/uploads/2023/07/Burlington-VegFest-2023.jpg
GEO:43.3681427;-79.7276091
X-APPLE-STRUCTURED-LOCATION;VALUE=URI;X-ADDRESS=Burloak Waterfront Park 5420 Lakeshore Road Burlington ON L7L 1C9 Canada;X-APPLE-RADIUS=500;X-TITLE=5420 Lakeshore Road:geo:-79.7276091,43.3681427
END:VEVENT
END:VCALENDAR