BEGIN:VCALENDAR
VERSION:2.0
PRODID:-//Vkind - ECPv6.15.14//NONSGML v1.0//EN
CALSCALE:GREGORIAN
METHOD:PUBLISH
X-WR-CALNAME:Vkind
X-ORIGINAL-URL:https://www.vkind.com
X-WR-CALDESC:Events for Vkind
REFRESH-INTERVAL;VALUE=DURATION:PT1H
X-Robots-Tag:noindex
X-PUBLISHED-TTL:PT1H
BEGIN:VTIMEZONE
TZID:-04:00
END:VTIMEZONE
BEGIN:VTIMEZONE
TZID:-05:00
END:VTIMEZONE
BEGIN:VEVENT
DTSTART;TZID=-04:00:20240514T180000
DTEND;TZID=-04:00:20240514T193000
DTSTAMP:20260424T075745
CREATED:20240224T115059Z
LAST-MODIFIED:20240514T031542Z
UID:10007654-1715709600-1715715000@www.vkind.com
SUMMARY:CANCELLED DUE TO WEATHER! VSDC Evening Walk at Brookside Gardens in Wheaton
DESCRIPTION:Update: We will reschedule this event for another day given the rainy forecast. \nPlease join your fellow VSDCers to enjoy spring at the Brookside Gardens! The gardens offer paved paths and gentle slopes. We will walk several miles at a brisk pace while enjoying the garden views! \nBrookside Gardens is free and offers parking. \nThis event may be rescheduled to another day if it is rainy\, so watch for updates! \n**VSDC: More Than A Meetup**\nWe are so glad to have you as part of The Veg Society of DC Vegan Meetup group\, and we enjoy seeing you at our events. Did you know that [VSDC](https://vsdc.org/) is a nonprofit organization with membership benefits? \nWith VSDC membership\, you will save money at area restaurants and businesses\, attend VSDC member-only events\, and\, most importantly\, support us as a clear and consistent voice for improving the lives of all beings through community building and education centered on the benefits of a vegan diet and lifestyle. \nThe membership fee is minimal\, but the impact is significant! [Become a member of VSDC](https://vsdc.org/membership/). \n**Liability Waiver and Code of Conduct**\nWhen you sign up to attend\, you automatically acknowledge [VSDC’s Liability Waiver](https://vsdc.org/activity-waiver/) and commit to follow the code of conduct found at [Policies – VSDC – Veg Society of DC](https://vsdc.org/policies/). \n**VSDC. Creating communities. For your health\, the animals\, and the planet.**
URL:https://www.vkind.com/vegan-events/vsdc-evening-walk-at-brookside-gardens-in-wheaton/
LOCATION:Brookside Gardens\, 1800 Glenallan Ave\, Wheaton\, MD\, 20902\, United States
ATTACH;FMTTYPE=image/jpeg:https://www.vkind.com/wp-content/uploads/2024/02/1024x576-iAJU2Q.tmp_.jpg
GEO:39.059708;-77.039116
X-APPLE-STRUCTURED-LOCATION;VALUE=URI;X-ADDRESS=Brookside Gardens 1800 Glenallan Ave Wheaton MD 20902 United States;X-APPLE-RADIUS=500;X-TITLE=1800 Glenallan Ave:geo:-77.039116,39.059708
END:VEVENT
BEGIN:VEVENT
DTSTART;TZID=-05:00:20230101T203000
DTEND;TZID=-05:00:20230101T220000
DTSTAMP:20260424T075745
CREATED:20221230T030508Z
LAST-MODIFIED:20230101T032005Z
UID:10000400-1672605000-1672610400@www.vkind.com
SUMMARY:VSDC Visit to Garden of Lights\, Brookside Gardens\, Wheaton\, MD\, $10.00 Fee
DESCRIPTION:**It looks like it has sold out!** \nLet’s try this again! It’s going to be well above freezing this time! Start the new year with a stroll around the Garden of Lights. This is the last time slot on the last day. \n$10/person Advanced Ticket Purchase required through Eventbrite at https://www.montgomeryparks.org/parks-and-trails/brookside-gardens/garden-of-lights . Space is limited so don’t delay. \nPlease join us for Brookside Gardens’ 24th year of Garden of Lights on Sunday\, January 1st at 8:30 pm. Walk with us through the outdoor twinkling lights and glimmering displays that dot the paths and flowerbeds throughout the 50 acres in Wheaton\, MD. More than one million dazzling and colorful LED lights are handwoven into original works depicting animals\, flowers\, and other natural elements. You will be dazzled by the computerized light display matching lights with music\, fog bubbles\, and there will be great opportunities to get that perfect selfie. \nNote that tickets will not be sold on site this year. Be sure to get your tickets online AS SOON AS POSSIBLE so they don’t sell out. \n* Tickets are $10 per person\, age three and older\, and are only available online at https://www.eventbrite.com/e/2022-garden-of-lights-at-brookside-gardens-montgomery-parks-tickets-428040008187\n* Every person five and older must have a ticket.\n* Tickets are timed-entry with a specific day and entrance time for your arrival. Please choose 1/1 at 8:30 pm\n* Checkout and pay online.\n* You will receive digital tickets in your confirmation email.\n* Please print a hard copy to bring with you to the event.\n* You must arrive within thirty minutes of the ticketed time slot to redeem your ticket.\n* Tickets are non-refundable. \nWeather: We will meet rain\, shine\, or snow. But if conditions pose a threat\, the event will be cancelled. Please check the comments below frequently for updates. \n*** \nVSDC (http://www.vsdc.org) is a clear and consistent voice for improving the lives of all beings through education on the benefits of a vegan diet & lifestyle. Sharing food is the bond that brings families together; so it is with VSDC. From simply “breaking bread” to experiencing delicious and nutritious vegan foods from around the world\, we make your journey easier\, enjoyable & meaningful. \nVSDC. Creating communities. For your health\, the animals\, and the planet.
URL:https://www.vkind.com/vegan-events/vsdc-visit-to-garden-of-lights-brookside-gardens-wheaton-md-10-00-fee-2/
LOCATION:Brookside Gardens\, 1800 Glenallan Ave\, Wheaton\, MD\, 20902\, United States
ATTACH;FMTTYPE=image/jpeg:https://www.vkind.com/wp-content/uploads/2022/11/1024x576-GzChGN.tmp_.jpg
GEO:39.059708;-77.039116
X-APPLE-STRUCTURED-LOCATION;VALUE=URI;X-ADDRESS=Brookside Gardens 1800 Glenallan Ave Wheaton MD 20902 United States;X-APPLE-RADIUS=500;X-TITLE=1800 Glenallan Ave:geo:-77.039116,39.059708
END:VEVENT
BEGIN:VEVENT
DTSTART;TZID=-05:00:20221223T193000
DTEND;TZID=-05:00:20221223T213000
DTSTAMP:20260424T075745
CREATED:20221115T220511Z
LAST-MODIFIED:20221223T023528Z
UID:10000349-1671823800-1671831000@www.vkind.com
SUMMARY:VSDC Visit to Garden of Lights\, Brookside Gardens\, Wheaton\, MD\, $10.00 Fee
DESCRIPTION:***THIS EVENT IS SOLD OUT*** \n$10/person Advanced Ticket Purchase required through Eventbrite at https://www.montgomeryparks.org/parks-and-trails/brookside-gardens/garden-of-lights . Space is limited so don’t delay \nPlease join us for Brookside Gardens’ 24th year of Garden of Lights on Thursday\, December 23th at 7:30 pm. Walk with us through the outdoor twinkling lights and glimmering displays that dot the paths and flowerbeds throughout the 50 acres in Wheaton\, MD. More than one million dazzling and colorful LED lights are handwoven into original works depicting animals\, flowers\, and other natural elements. You will be dazzled by the computerized light display matching lights with music\, fog bubbles\, and there will be great opportunities to get that perfect selfie. \nNote that tickets will not be sold on site this year. Be sure to get your tickets online AS SOON AS POSSIBLE so they don’t sell out. \n* Tickets are $10 per person\, age three and older\, and are only available online at https://www.eventbrite.com/e/2022-garden-of-lights-at-brookside-gardens-montgomery-parks-tickets-428040008187\n* Every person five and older must have a ticket.\n* Tickets are timed-entry with a specific day and entrance time for your arrival. Please choose 12/23 at 7:30 pm\n* Checkout and pay online.\n* You will receive digital tickets in your confirmation email.\n* Please print a hard copy to bring with you to the event.\n* You must arrive within thirty minutes of the ticketed time slot to redeem your ticket.\n* Tickets are non-refundable. \nWeather: We will meet rain\, shine\, or snow. But if conditions pose a threat\, the event will be cancelled. Please check the comments below frequently for updates. \n*** \nVSDC (http://www.vsdc.org) is a clear and consistent voice for improving the lives of all beings through education on the benefits of a vegan diet & lifestyle. Sharing food is the bond that brings families together; so it is with VSDC. From simply “breaking bread” to experiencing delicious and nutritious vegan foods from around the world\, we make your journey easier\, enjoyable & meaningful. \nVSDC. Creating communities. For your health\, the animals\, and the planet.
URL:https://www.vkind.com/vegan-events/vsdc-visit-to-garden-of-lights-brookside-gardens-wheaton-md-10-00-fee/
LOCATION:Brookside Gardens\, 1800 Glenallan Ave\, Wheaton\, MD\, 20902\, United States
ATTACH;FMTTYPE=image/jpeg:https://www.vkind.com/wp-content/uploads/2022/11/1024x576-GzChGN.tmp_.jpg
GEO:39.059708;-77.039116
X-APPLE-STRUCTURED-LOCATION;VALUE=URI;X-ADDRESS=Brookside Gardens 1800 Glenallan Ave Wheaton MD 20902 United States;X-APPLE-RADIUS=500;X-TITLE=1800 Glenallan Ave:geo:-77.039116,39.059708
END:VEVENT
END:VCALENDAR