BEGIN:VCALENDAR
VERSION:2.0
PRODID:-//Vkind - ECPv6.15.14//NONSGML v1.0//EN
CALSCALE:GREGORIAN
METHOD:PUBLISH
X-WR-CALNAME:Vkind
X-ORIGINAL-URL:https://www.vkind.com
X-WR-CALDESC:Events for Vkind
REFRESH-INTERVAL;VALUE=DURATION:PT1H
X-Robots-Tag:noindex
X-PUBLISHED-TTL:PT1H
BEGIN:VTIMEZONE
TZID:-05:00
END:VTIMEZONE
BEGIN:VEVENT
DTSTART;TZID=-05:00:20241229T150000
DTEND;TZID=-05:00:20241229T170000
DTSTAMP:20260423T225928
CREATED:20241205T183538Z
LAST-MODIFIED:20241229T084547Z
UID:10007849-1735484400-1735491600@www.vkind.com
SUMMARY:VSDC Vegan Children's Playgroup Year-End Celebration
DESCRIPTION:**Join Us for Year-End Fun with the VSDC Vegan Children’s Playgroup!** \nWe’re excited to celebrate together as we wrap up a wonderful year of learning and growing! Bring the kids for a fun-filled event with crafts\, vegan-themed book readings\, light refreshments\, and goodie bags. It’s a fantastic opportunity for our little vegan ones to unwind\, make new friends\, and enjoy some creative time together. \nParents\, we’d love to hear from you during the event too! Please share your thoughts on preferred activities so we can plan more exciting events for the future. \n*We hope to see you and your little ones there!* \nWhile the event and the VSDC Children’s Playgroup is all-vegan\, our meetup welcomes veg (or veg-curious) kids under the age of 10 to be accompanied by at least one parent or caregiver. \nThe long-term vision for this playgroup is to build community for veg kids to help instill more confidence in their lifestyle choices and provide a strong sense of belonging while also having fun! Additionally\, we seek to provide support for parents/caretakers by sharing helpful tips\, resources\, and inspiration for vegan families. \n**VSDC: More Than A Meetup**\nWe are so glad to have you as part of The Veg Society of DC Vegan Meetup group\, and we enjoy seeing you at our events. Did you know that [VSDC](http://vsdc.org/) is a nonprofit organization with membership benefits? With VSDC membership\, you will save money at area restaurants and businesses\, attend VSDC member-only events\, and\, most importantly\, support us as a clear and consistent voice for improving the lives of all beings through community building and education centered on the benefits of a vegan diet and lifestyle. \nThe VSDC membership fee is minimal\, but the impact is significant! [Become a member of VSDC](https://vsdc.org/membership/). \n**Liability Waiver and Code of Conduct**\nWhen you sign up to attend\, you automatically acknowledge [VSDC’s Liability Waiver](https://vsdc.org/activity-waiver/) and commit to follow the code of conduct found at [Policies – VSDC – Veg Society of DC](https://vsdc.org/policies/). \n**VSDC. Creating communities. For your health\, the animals\, and the planet.**
URL:https://www.vkind.com/vegan-events/vsdc-vegan-childrens-playgroup-year-end-celebration/
LOCATION:Brigadier General Charles E. McGee Library (Silver Spring Library)\, 900 Wayne Ave\, Silver Spring\, MD\, 20910\, United States
ATTACH;FMTTYPE=image/jpeg:https://www.vkind.com/wp-content/uploads/2024/12/1024x576-koXJJk.tmp_.jpg
GEO:38.99489;-77.02463
X-APPLE-STRUCTURED-LOCATION;VALUE=URI;X-ADDRESS=Brigadier General Charles E. McGee Library (Silver Spring Library) 900 Wayne Ave Silver Spring MD 20910 United States;X-APPLE-RADIUS=500;X-TITLE=900 Wayne Ave:geo:-77.02463,38.99489
END:VEVENT
END:VCALENDAR