BEGIN:VCALENDAR
VERSION:2.0
PRODID:-//Vkind - ECPv6.15.14//NONSGML v1.0//EN
CALSCALE:GREGORIAN
METHOD:PUBLISH
X-ORIGINAL-URL:https://www.vkind.com
X-WR-CALDESC:Events for Vkind
REFRESH-INTERVAL;VALUE=DURATION:PT1H
X-Robots-Tag:noindex
X-PUBLISHED-TTL:PT1H
BEGIN:VTIMEZONE
TZID:-04:00
END:VTIMEZONE
BEGIN:VEVENT
DTSTART;TZID=-04:00:20241027T120000
DTEND;TZID=-04:00:20241027T140000
DTSTAMP:20260424T090203
CREATED:20241011T063551Z
LAST-MODIFIED:20241021T114550Z
UID:10007820-1730030400-1730037600@www.vkind.com
SUMMARY:Vegan Trunk-or-Treat with VSDC Children's Playgroup
DESCRIPTION:**Let’s celebrate vegan Halloween together!** Wear your costumes and join us at the 3rd annual Vegan Trunk-or-Treat event hosted by Brewing Good Coffee Company\, an amazing all-vegan shop in Savage\, MD. The event takes place in the nearest parking lot and features a handful of decorated cars distributing only vegan candy (and some with allergy-friendly treats as well!). \nThis is an outdoor event. We will meet at the blue decorated van with a VSDC sign where Playgroup Coordinator\, Jen\, will be dressed as a butterfly. We will be there between 12pm – 2pm so feel free to stop by anytime during that timeframe and feel free to come and go. The kids will have fun collecting vegan goodies and getting to know each other! \nBrewing Good sells delicious vegan baked goods as well as breakfast/lunch options\, although lines will likely be long. We will supply light vegan snacks for our group\, but you may also wish to bring snacks or lunch for your kid(s)\, as well as folding chairs or blankets to sit on. \nFor event details\, [click here](https://docs.google.com/forms/d/e/1FAIpQLSdl8sFn1szTvPGA-1_F50Qbvav4jRbLOla_5EcK-z1yB8Q_0g/viewform) and for general location details\, visit [Brewing Good’s website here](https://brewinggoodcoffeecompany.com/pages/visit-us). \nWhile the event and the VSDC Children’s Playgroup is all-vegan\, our meetup welcomes veg (or veg-curious) kids under the age of 10 to be accompanied by at least one parent or caregiver. \nThe long-term vision for this playgroup is to build community for veg kids to help instill more confidence in their lifestyle choices and provide a strong sense of belonging while also having fun! Additionally\, we seek to provide support for parents/caretakers by sharing helpful tips\, resources\, and inspiration for vegan families. \n**VSDC: More Than A Meetup**\nWe are so glad to have you as part of The Veg Society of DC Vegan Meetup group\, and we enjoy seeing you at our events. Did you know that [VSDC](http://vsdc.org/) is a nonprofit organization with membership benefits?\nWith VSDC membership\, you will save money at area restaurants and businesses\, attend VSDC member-only events\, and\, most importantly\, support us as a clear and consistent voice for improving the lives of all beings through community building and education centered on the benefits of a vegan diet and lifestyle.\nThe VSDC membership fee is minimal\, but the impact is significant! [Become a member of VSDC](https://vsdc.org/membership/). \n**Liability Waiver and Code of Conduct**\nWhen you sign up to attend\, you automatically acknowledge [VSDC’s Liability Waiver](https://vsdc.org/activity-waiver/) and commit to follow the code of conduct found at [Policies – VSDC – Veg Society of DC](https://vsdc.org/policies/). \n**VSDC. Creating communities. For your health\, the animals\, and the planet.**
URL:https://www.vkind.com/vegan-events/vegan-trunk-or-treat-with-vsdc-childrens-playgroup/
LOCATION:Brewing Good Coffee Company\, 8600 Foundry St\, Savage\, MD\, 20763\, United States
ATTACH;FMTTYPE=image/jpeg:https://www.vkind.com/wp-content/uploads/2024/10/1024x576-ha1c61.tmp_.jpg
GEO:39.13596;-76.82504
X-APPLE-STRUCTURED-LOCATION;VALUE=URI;X-ADDRESS=Brewing Good Coffee Company 8600 Foundry St Savage MD 20763 United States;X-APPLE-RADIUS=500;X-TITLE=8600 Foundry St:geo:-76.82504,39.13596
END:VEVENT
END:VCALENDAR