BEGIN:VCALENDAR
VERSION:2.0
PRODID:-//Vkind - ECPv6.15.14//NONSGML v1.0//EN
CALSCALE:GREGORIAN
METHOD:PUBLISH
X-ORIGINAL-URL:https://www.vkind.com
X-WR-CALDESC:Events for Vkind
REFRESH-INTERVAL;VALUE=DURATION:PT1H
X-Robots-Tag:noindex
X-PUBLISHED-TTL:PT1H
BEGIN:VTIMEZONE
TZID:-04:00
END:VTIMEZONE
BEGIN:VEVENT
DTSTART;TZID=-04:00:20230702T150000
DTEND;TZID=-04:00:20230702T180000
DTSTAMP:20260423T083612
CREATED:20230609T151600Z
LAST-MODIFIED:20230702T211511Z
UID:10000558-1688310000-1688320800@www.vkind.com
SUMMARY:VSDC African American Networking Group & Vegans of Diaspora Joint Event
DESCRIPTION:Join VSDC’s African American Networking Group and the newly formed Vegans of the Diaspora for a vegan food and fun event with games and summertime fun at a member’s residence in Bowie\, Maryland on Sunday afternoon\, July 2. \nWe will provide a limited amount of food. Think Potluck. Attendees are encouraged to bring or prepare soy free vegan dishes. Vegan desserts are also welcome. Please have all ingredients listed for any dish you bring. \nThe VSDC member hosts’ home in Bowie\, MD has ample street parking \nFeel free to bring any other vegan food or beverages you would like either for yourself or to share. \nAll VSDC and Meetup members are invited. \nWHERE: The home is in Bowie\, MD 20720. It is 7 miles from the closest metro at New Carrolton. \nBy attending this event\, you agree to follow the code of conduct found at *[Policies – VSDC – Veg Society of DC](https://vsdc.org/policies)* \nVSDC (http://www.vsdc.org) is a clear and consistent voice for improving the lives of all beings through education on the benefits of a vegan diet & lifestyle. Sharing food is the bond that brings families together; so it is with VSDC. From simply “breaking bread” to experiencing delicious and nutritious vegan foods from around the world\, we make your journey easier\, enjoyable & meaningful. \n**VSDC. Creating communities. For your health\, the animals\, and the planet.**
URL:https://www.vkind.com/vegan-events/vsdc-african-american-networking-group-vegans-of-diaspora-joint-event/
LOCATION:Bowie\, Bowie\, MD\, us
ATTACH;FMTTYPE=image/jpeg:https://www.vkind.com/wp-content/uploads/2023/06/1024x576-R0IYMv.tmp_.jpg
GEO:38.94573;-76.7952
END:VEVENT
END:VCALENDAR