BEGIN:VCALENDAR
VERSION:2.0
PRODID:-//Vkind - ECPv6.15.14//NONSGML v1.0//EN
CALSCALE:GREGORIAN
METHOD:PUBLISH
X-WR-CALNAME:Vkind
X-ORIGINAL-URL:https://www.vkind.com
X-WR-CALDESC:Events for Vkind
REFRESH-INTERVAL;VALUE=DURATION:PT1H
X-Robots-Tag:noindex
X-PUBLISHED-TTL:PT1H
BEGIN:VTIMEZONE
TZID:-04:00
END:VTIMEZONE
BEGIN:VEVENT
DTSTART;TZID=-04:00:20230820T080000
DTEND;TZID=-04:00:20230820T100000
DTSTAMP:20260423T111453
CREATED:20230523T205030Z
LAST-MODIFIED:20230820T022551Z
UID:10000522-1692518400-1692525600@www.vkind.com
SUMMARY:Monthly Fun Run: Blue Bottle Coffee. Capital Crescent Trail. 6.0 miles
DESCRIPTION:This is a fun 6-mile run that starts and ends at Blue Bottle Coffee in Georgetown. We will do an out and back\, 6-mile run on the Capital Crescent Trail\, but feel free to extend or shorten. \nAll levels of runners are welcome. \nWeather: Be prepared! We will run rain or shine\, but if conditions pose a danger\, we’ll cancel the run and post a notice in the “comments” section. \n*For important updates regularly monitor the “comments” section below.* \n*Don’t be a no show! If your plans change\, update your RSVP.* \n*When you sign up to join a run you automatically acknowledge \nVSDC Physical Activity Liability Waiver: https://vsdc.org/activity-waiver/ \n*** \nVSDC (http://www.vsdc.org) is a clear and consistent voice for improving the lives of all beings through education on the benefits of a vegan diet & lifestyle. Sharing food is the bond that brings families together; so it is with VSDC. From simply “breaking bread” to experiencing delicious and nutritious vegan foods from around the world\, we make your journey easier\, enjoyable & meaningful. \nVSDC. Creating communities. For your health\, the animals\, and the planet. \n—
URL:https://www.vkind.com/vegan-events/monthly-fun-run-blue-bottle-coffee-capital-crescent-trail-6-0-miles-4/
LOCATION:Blue Bottle Coffee\, 1046 Potomac St NW\, Washington\, DC\, 20007\, us
ATTACH;FMTTYPE=image/jpeg:https://www.vkind.com/wp-content/uploads/2022/09/1024x576-Rd3i95.tmp_.jpg
GEO:38.904385;-77.06546
X-APPLE-STRUCTURED-LOCATION;VALUE=URI;X-ADDRESS=Blue Bottle Coffee 1046 Potomac St NW Washington DC 20007 us;X-APPLE-RADIUS=500;X-TITLE=1046 Potomac St NW:geo:-77.06546,38.904385
END:VEVENT
BEGIN:VEVENT
DTSTART;TZID=-04:00:20230723T080000
DTEND;TZID=-04:00:20230723T100000
DTSTAMP:20260423T111453
CREATED:20230521T203644Z
LAST-MODIFIED:20230723T055053Z
UID:10000520-1690099200-1690106400@www.vkind.com
SUMMARY:Monthly Fun Run: Blue Bottle Coffee. Capital Crescent Trail. 6.0 miles
DESCRIPTION:This is a fun 6-mile run that starts and ends at Blue Bottle Coffee in Georgetown. We will do an out and back\, 6-mile run on the Capital Crescent Trail\, but feel free to extend or shorten. \nAll levels of runners are welcome. \nWeather: Be prepared! We will run rain or shine\, but if conditions pose a danger\, we’ll cancel the run and post a notice in the “comments” section. \n*For important updates regularly monitor the “comments” section below.*\n*Don’t be a no show! If your plans change\, update your RSVP.*\n*When you sign up to join a run you automatically acknowledge\nVSDC Physical Activity Liability Waiver: https://vsdc.org/activity-waiver/ \n*** \nVSDC (http://www.vsdc.org) is a clear and consistent voice for improving the lives of all beings through education on the benefits of a vegan diet & lifestyle. Sharing food is the bond that brings families together; so it is with VSDC. From simply “breaking bread” to experiencing delicious and nutritious vegan foods from around the world\, we make your journey easier\, enjoyable & meaningful. \nVSDC. Creating communities. For your health\, the animals\, and the planet.\n—
URL:https://www.vkind.com/vegan-events/monthly-fun-run-blue-bottle-coffee-capital-crescent-trail-6-0-miles-3/
LOCATION:Blue Bottle Coffee\, 1046 Potomac St NW\, Washington\, DC\, 20007\, us
ATTACH;FMTTYPE=image/jpeg:https://www.vkind.com/wp-content/uploads/2022/09/1024x576-Rd3i95.tmp_.jpg
GEO:38.904385;-77.06546
X-APPLE-STRUCTURED-LOCATION;VALUE=URI;X-ADDRESS=Blue Bottle Coffee 1046 Potomac St NW Washington DC 20007 us;X-APPLE-RADIUS=500;X-TITLE=1046 Potomac St NW:geo:-77.06546,38.904385
END:VEVENT
BEGIN:VEVENT
DTSTART;TZID=-04:00:20230625T080000
DTEND;TZID=-04:00:20230625T100000
DTSTAMP:20260423T111453
CREATED:20230521T203642Z
LAST-MODIFIED:20230624T191537Z
UID:10000519-1687680000-1687687200@www.vkind.com
SUMMARY:Monthly Fun Run: Blue Bottle Coffee. Capital Crescent Trail. 6.0 miles
DESCRIPTION:This is a fun 6-mile run that starts and ends at Blue Bottle Coffee in Georgetown. We will do an out and back\, 6-mile run on the Capital Crescent Trail\, but feel free to extend or shorten. \nAll levels of runners are welcome. \nWeather: Be prepared! We will run rain or shine\, but if conditions pose a danger\, we’ll cancel the run and post a notice in the “comments” section. \n*For important updates regularly monitor the “comments” section below.*\n*Don’t be a no show! If your plans change\, update your RSVP.*\n*When you sign up to join a run you automatically acknowledge\nVSDC Physical Activity Liability Waiver: https://vsdc.org/activity-waiver/ \n*** \nVSDC (http://www.vsdc.org) is a clear and consistent voice for improving the lives of all beings through education on the benefits of a vegan diet & lifestyle. Sharing food is the bond that brings families together; so it is with VSDC. From simply “breaking bread” to experiencing delicious and nutritious vegan foods from around the world\, we make your journey easier\, enjoyable & meaningful. \nVSDC. Creating communities. For your health\, the animals\, and the planet.\n—
URL:https://www.vkind.com/vegan-events/monthly-fun-run-blue-bottle-coffee-capital-crescent-trail-6-0-miles-2/
LOCATION:Blue Bottle Coffee\, 1046 Potomac St NW\, Washington\, DC\, 20007\, us
ATTACH;FMTTYPE=image/jpeg:https://www.vkind.com/wp-content/uploads/2022/09/1024x576-Rd3i95.tmp_.jpg
GEO:38.904385;-77.06546
X-APPLE-STRUCTURED-LOCATION;VALUE=URI;X-ADDRESS=Blue Bottle Coffee 1046 Potomac St NW Washington DC 20007 us;X-APPLE-RADIUS=500;X-TITLE=1046 Potomac St NW:geo:-77.06546,38.904385
END:VEVENT
BEGIN:VEVENT
DTSTART;TZID=-04:00:20230528T080000
DTEND;TZID=-04:00:20230528T100000
DTSTAMP:20260423T111453
CREATED:20230521T203607Z
LAST-MODIFIED:20230527T210527Z
UID:10000518-1685260800-1685268000@www.vkind.com
SUMMARY:Monthly Fun Run: Blue Bottle Coffee. Capital Crescent Trail. 6.0 miles
DESCRIPTION:This is a fun 6-mile run that starts and ends at Blue Bottle Coffee in Georgetown. We will do an out and back\, 6-mile run on the Capital Crescent Trail\, but feel free to extend or shorten. \nAll levels of runners are welcome. \nWeather: Be prepared! We will run rain or shine\, but if conditions pose a danger\, we’ll cancel the run and post a notice in the “comments” section. \n*For important updates regularly monitor the “comments” section below.*\n*Don’t be a no show! If your plans change\, update your RSVP.*\n*When you sign up to join a run you automatically acknowledge\nVSDC Physical Activity Liability Waiver: https://vsdc.org/activity-waiver/ \n*** \nVSDC (http://www.vsdc.org) is a clear and consistent voice for improving the lives of all beings through education on the benefits of a vegan diet & lifestyle. Sharing food is the bond that brings families together; so it is with VSDC. From simply “breaking bread” to experiencing delicious and nutritious vegan foods from around the world\, we make your journey easier\, enjoyable & meaningful. \nVSDC. Creating communities. For your health\, the animals\, and the planet.\n—
URL:https://www.vkind.com/vegan-events/monthly-fun-run-blue-bottle-coffee-capital-crescent-trail-6-0-miles/
LOCATION:Blue Bottle Coffee\, 1046 Potomac St NW\, Washington\, DC\, 20007\, us
ATTACH;FMTTYPE=image/jpeg:https://www.vkind.com/wp-content/uploads/2022/09/1024x576-Rd3i95.tmp_.jpg
GEO:38.904385;-77.06546
X-APPLE-STRUCTURED-LOCATION;VALUE=URI;X-ADDRESS=Blue Bottle Coffee 1046 Potomac St NW Washington DC 20007 us;X-APPLE-RADIUS=500;X-TITLE=1046 Potomac St NW:geo:-77.06546,38.904385
END:VEVENT
BEGIN:VEVENT
DTSTART;TZID=-04:00:20221023T080000
DTEND;TZID=-04:00:20221023T100000
DTSTAMP:20260423T111453
CREATED:20220922T113612Z
LAST-MODIFIED:20221022T134953Z
UID:10000297-1666512000-1666519200@www.vkind.com
SUMMARY:Vegan Fun Run: Blue Bottle Coffee. Capital Crescent Trail. 6.0 miles
DESCRIPTION:This is a fun 6-mile run that starts and ends at Blue Bottle Coffee in Georgetown. We will do an out and back\, 6-mile run on the Capital Crescent Trail\, but feel free to extend or shorten. \nAll levels of runners are welcome. \nWeather: Be prepared! We will run rain or shine\, but if conditions pose a danger\, we’ll cancel the run and post a notice in the “comments” section. \n*For important updates regularly monitor the “comments” section below.*\n*Don’t be a no show! If your plans change\, update your RSVP.*\n*When you sign up to join a run you automatically acknowledge\nVSDC Physical Activity Liability Waiver: https://vsdc.org/activity-waiver/ \n*** \nVSDC (http://www.vsdc.org) is a clear and consistent voice for improving the lives of all beings through education on the benefits of a vegan diet & lifestyle. Sharing food is the bond that brings families together; so it is with VSDC. From simply “breaking bread” to experiencing delicious and nutritious vegan foods from around the world\, we make your journey easier\, enjoyable & meaningful. \nVSDC. Creating communities. For your health\, the animals\, and the planet.\n—
URL:https://www.vkind.com/vegan-events/vegan-fun-run-blue-bottle-coffee-capital-crescent-trail-6-0-miles-6/
LOCATION:Blue Bottle Coffee\, 1046 Potomac St NW\, Washington\, DC\, 20007\, us
ATTACH;FMTTYPE=image/jpeg:https://www.vkind.com/wp-content/uploads/2022/09/1024x576-Rd3i95.tmp_.jpg
GEO:38.904385;-77.06546
X-APPLE-STRUCTURED-LOCATION;VALUE=URI;X-ADDRESS=Blue Bottle Coffee 1046 Potomac St NW Washington DC 20007 us;X-APPLE-RADIUS=500;X-TITLE=1046 Potomac St NW:geo:-77.06546,38.904385
END:VEVENT
BEGIN:VEVENT
DTSTART;TZID=-04:00:20221009T080000
DTEND;TZID=-04:00:20221009T100000
DTSTAMP:20260423T111453
CREATED:20220922T113605Z
LAST-MODIFIED:20221008T132047Z
UID:10000296-1665302400-1665309600@www.vkind.com
SUMMARY:Vegan Fun Run: Blue Bottle Coffee. Capital Crescent Trail. 6.0 miles
DESCRIPTION:This is a fun 6-mile run that starts and ends at Blue Bottle Coffee in Georgetown. We will do an out and back\, 6-mile run on the Capital Crescent Trail\, but feel free to extend or shorten. \nAll levels of runners are welcome. \nWeather: Be prepared! We will run rain or shine\, but if conditions pose a danger\, we’ll cancel the run and post a notice in the “comments” section. \n*For important updates regularly monitor the “comments” section below.*\n*Don’t be a no show! If your plans change\, update your RSVP.*\n*When you sign up to join a run you automatically acknowledge\nVSDC Physical Activity Liability Waiver: https://vsdc.org/activity-waiver/ \n*** \nVSDC (http://www.vsdc.org) is a clear and consistent voice for improving the lives of all beings through education on the benefits of a vegan diet & lifestyle. Sharing food is the bond that brings families together; so it is with VSDC. From simply “breaking bread” to experiencing delicious and nutritious vegan foods from around the world\, we make your journey easier\, enjoyable & meaningful. \nVSDC. Creating communities. For your health\, the animals\, and the planet.\n—
URL:https://www.vkind.com/vegan-events/vegan-fun-run-blue-bottle-coffee-capital-crescent-trail-6-0-miles/
LOCATION:Blue Bottle Coffee\, 1046 Potomac St NW\, Washington\, DC\, 20007\, us
ATTACH;FMTTYPE=image/jpeg:https://www.vkind.com/wp-content/uploads/2022/09/1024x576-Rd3i95.tmp_.jpg
GEO:38.904385;-77.06546
X-APPLE-STRUCTURED-LOCATION;VALUE=URI;X-ADDRESS=Blue Bottle Coffee 1046 Potomac St NW Washington DC 20007 us;X-APPLE-RADIUS=500;X-TITLE=1046 Potomac St NW:geo:-77.06546,38.904385
END:VEVENT
BEGIN:VEVENT
DTSTART;TZID=-04:00:20220918T090000
DTEND;TZID=-04:00:20220918T100000
DTSTAMP:20260423T111453
CREATED:20220913T101957Z
LAST-MODIFIED:20220918T111006Z
UID:10000289-1663491600-1663495200@www.vkind.com
SUMMARY:Vegan Fun Run: Blue Bottle Coffee. Capital Crescent Trail. 6.0 miles
DESCRIPTION:This is a fun 6-mile run that starts and ends at Blue Bottle Coffee in Georgetown. We will do an out and back\, 6-mile run on the Capital Crescent Trail\, but feel free to extend or shorten. \nAll levels of runners are welcome. \nWeather: Be prepared! We will run rain or shine\, but if conditions pose a danger\, we’ll cancel the run and post a notice in the “comments” section. \n*For important updates regularly monitor the “comments” section below.*\n*Don’t be a no show! If your plans change\, update your RSVP.*\n*When you sign up to join a run you automatically acknowledge\nVSDC Physical Activity Liability Waiver: https://vsdc.org/activity-waiver/ \n*** \nVSDC (http://www.vsdc.org) is a clear and consistent voice for improving the lives of all beings through education on the benefits of a vegan diet & lifestyle. Sharing food is the bond that brings families together; so it is with VSDC. From simply “breaking bread” to experiencing delicious and nutritious vegan foods from around the world\, we make your journey easier\, enjoyable & meaningful. \nVSDC. Creating communities. For your health\, the animals\, and the planet.\n—
URL:https://www.vkind.com/vegan-events/vegan-fun-run-blue-bottle-coffee-capital-crescent-trail-6-0-miles-5/
LOCATION:Blue Bottle Coffee\, 1046 Potomac St NW\, Washington\, DC\, 20007\, us
ATTACH;FMTTYPE=image/jpeg:https://www.vkind.com/wp-content/uploads/2022/04/1024x576-WMst0I.tmp_.jpg
GEO:38.904385;-77.06546
X-APPLE-STRUCTURED-LOCATION;VALUE=URI;X-ADDRESS=Blue Bottle Coffee 1046 Potomac St NW Washington DC 20007 us;X-APPLE-RADIUS=500;X-TITLE=1046 Potomac St NW:geo:-77.06546,38.904385
END:VEVENT
END:VCALENDAR