BEGIN:VCALENDAR
VERSION:2.0
PRODID:-//Vkind - ECPv6.15.14//NONSGML v1.0//EN
CALSCALE:GREGORIAN
METHOD:PUBLISH
X-ORIGINAL-URL:https://www.vkind.com
X-WR-CALDESC:Events for Vkind
REFRESH-INTERVAL;VALUE=DURATION:PT1H
X-Robots-Tag:noindex
X-PUBLISHED-TTL:PT1H
BEGIN:VTIMEZONE
TZID:-05:00
END:VTIMEZONE
BEGIN:VEVENT
DTSTART;TZID=-05:00:20230219T170000
DTEND;TZID=-05:00:20230219T190000
DTSTAMP:20260424T140506
CREATED:20230128T085041Z
LAST-MODIFIED:20230220T103522Z
UID:10000429-1676826000-1676833200@www.vkind.com
SUMMARY:VSDC Restaurant Visit: Bistro Aracosia DC
DESCRIPTION:Acclaimed restaurant [Bistro Aracosia](https://www.bistroaracosia.com/) has developed a separate and extensive vegan menu\, which you can see [here.](https://drive.google.com/file/d/1qsY29yhnl1fk_ArpyuivrJ5lkcYzl-hn/view) \nLet’s check it out! \nDon’t be a no show! If your plans change\, update your RSVP.\nWhen you sign up to join\, you automatically acknowledge [VSDC’s Liability Waiver](https://vsdc.org/activity-waiver/) \nBy coming to this event\, we expect you to follow the code of conduct found at [Policies – VSDC – Veg Society of DC](https://vsdc.org/policies/)\n***\n[VSDC](https://vsdc.org/) is a clear and consistent voice for improving the lives of all beings through education on the benefits of a vegan diet & lifestyle. Sharing food is the bond that brings families together; so it is with VSDC. From simply “breaking bread” to experiencing delicious and nutritious vegan foods from around the world\, we make your journey easier\, enjoyable & meaningful. \n**VSDC. Creating communities. For your health\, the animals\, and the planet.**
URL:https://www.vkind.com/vegan-events/vsdc-restaurant-visit-bistro-aracosia-dc/
LOCATION:Bistro Aracosia\, 5100 MacArthur Blvd NW\, Washington\, DC\, 20016\, us
ATTACH;FMTTYPE=image/jpeg:https://www.vkind.com/wp-content/uploads/2023/01/1024x576-KcIGby.tmp_.jpg
GEO:38.924942;-77.10173
X-APPLE-STRUCTURED-LOCATION;VALUE=URI;X-ADDRESS=Bistro Aracosia 5100 MacArthur Blvd NW Washington DC 20016 us;X-APPLE-RADIUS=500;X-TITLE=5100 MacArthur Blvd NW:geo:-77.10173,38.924942
END:VEVENT
END:VCALENDAR