BEGIN:VCALENDAR
VERSION:2.0
PRODID:-//Vkind - ECPv6.15.14//NONSGML v1.0//EN
CALSCALE:GREGORIAN
METHOD:PUBLISH
X-ORIGINAL-URL:https://www.vkind.com
X-WR-CALDESC:Events for Vkind
REFRESH-INTERVAL;VALUE=DURATION:PT1H
X-Robots-Tag:noindex
X-PUBLISHED-TTL:PT1H
BEGIN:VTIMEZONE
TZID:-05:00
END:VTIMEZONE
BEGIN:VTIMEZONE
TZID:-06:00
END:VTIMEZONE
BEGIN:VEVENT
DTSTART;TZID=-05:00:20240615T120000
DTEND;TZID=-05:00:20240615T140000
DTSTAMP:20260423T174401
CREATED:20240521T182102Z
LAST-MODIFIED:20240615T194538Z
UID:10007718-1718452800-1718460000@www.vkind.com
SUMMARY:VEGAN DINING AT BIBIBOP ASIAN GRILL!
DESCRIPTION:!!! PLEASE READ THE ENTIRE EVENT DESCRIPTION INCLUDING THE WAITLIST RULES AND AGREE WITH THE EVENT ‘RSVP TERMS’ BEFORE RSVPING !!! \nJoin us for this exciting vegan dining event at the recently opened BIBIBOP! This is not a vegan restaurant but it has tons of vegan options\, plus it’s 100% gluten free (even their noodles)! It has a similar concept as Chipotle Mexican Grill but offers way more healthy vegan options. The cuisine is Asian. You can order their signature bowl: TERIYAKI TOFU & GREENS as on the event picture (it’s delicious!) or create your own bowl. Another good thing is that all of their sauces except Yum Yum are vegan too! On top of all this\, the restaurant is welcoming ChicagoVeg members by offering $5 OFF of their order at the event! \nRSVP TERMS: CHICAGOVEG AGREED TO PROVIDE THE RSVP RESULTS TO THE RESTAURANT BY JUNE 13. BY RSVPING FOR THE EVENT YOU COMMIT TO SHOW UP OR PAY FOR YOUR RSVP UNLESS YOU CANCEL BEFORE JUNE 13 @ 12PM. THIS INCLUDES ANY GUESTS ON YOUR RSVP. IF YOU RSVP’d BUT DON’T COME (UNLESS CANCELED ON TIME)\, YOU PAY $10 ON-LINE (PLUS FOR YOUR GUESTS\, IF ANY). ORGANIZERS WILL CONTACT YOU. \nPlease invite your friends/family to enjoy this evening with us! \nSPACE IS LIMITED – PLEASE RSVP IN ADVANCE NOT TO MISS THIS GREAT OPPORTUNITY TO ENJOY THE RESTAURANT AND SOCIALIZE WITH NEW AND OLD FRIENDS! \nIf the event is full and you join the Waitlist\, you can be moved to the RSVP list whenever other people cancel their RSVP. Please remove yourself from the Waitlist if you can no longer commit to coming. Once you are moved from the waitlist to an active RSVP\, and you do not attend\, you will be considered a ‘No Show’ and the NO SHOW RULES WILL APPLY. \nAny question or comments? Car-pooling arrangements? Please use the “Comments” section on the event page.
URL:https://www.vkind.com/vegan-events/vegan-dining-at-bibibop-asian-grill/
LOCATION:BIBIBOP Asian Grill\, 3304 N Western Ave\, Chicago\, IL\, 60618\, United States
ATTACH;FMTTYPE=image/jpeg:https://www.vkind.com/wp-content/uploads/2023/04/1024x576-k4G4at.tmp_.jpg
GEO:41.94114;-87.68889
X-APPLE-STRUCTURED-LOCATION;VALUE=URI;X-ADDRESS=BIBIBOP Asian Grill 3304 N Western Ave Chicago IL 60618 United States;X-APPLE-RADIUS=500;X-TITLE=3304 N Western Ave:geo:-87.68889,41.94114
END:VEVENT
BEGIN:VEVENT
DTSTART;TZID=-06:00:20240121T180000
DTEND;TZID=-06:00:20240121T200000
DTSTAMP:20260423T174401
CREATED:20231120T190103Z
LAST-MODIFIED:20240120T101527Z
UID:10007590-1705860000-1705867200@www.vkind.com
SUMMARY:VEGAN DINING AT NEWLY OPENED BIBIBOP ASIAN GRILL!
DESCRIPTION:!!! PLEASE READ THE ENTIRE EVENT DESCRIPTION INCLUDING THE WAITLIST RULES AND AGREE WITH THE EVENT ‘RSVP TERMS’ BEFORE RSVPING !!! \nJoin us for this exciting vegan dining event at the newly opened BIBIBOP restaurant in Chicagoland! This is not a vegan restaurant but it has tons of vegan options\, plus it’s 100% gluten free (even their noodles)! It has a similar concept as Chipotle Mexican Grill but offers way more healthy vegan options. The cuisine is Asian. You can order their signature bowl: TERIYAKI TOFU & GREENS as on the event picture (it’s delicious!) or create your own bowl. Another good thing is that all of their sauces except Yum Yum are vegan too! On top of all this\, the restaurant is welcoming ChicagoVeg members by offering $5 OFF of their order at the event! \nRSVP TERMS: CHICAGOVEG AGREED TO PROVIDE THE RSVP RESULTS TO THE RESTAURANT BY JANUARY 20. BY RSVPING FOR THE EVENT YOU COMMIT TO SHOW UP OR PAY FOR YOUR RSVP UNLESS YOU CANCEL BEFORE JANUARY 20 @ 12PM. THIS INCLUDES ANY GUESTS ON YOUR RSVP. IF YOU RSVP’d BUT DON’T COME (UNLESS CANCELED ON TIME)\, YOU PAY $10 ON-LINE (PLUS FOR YOUR GUESTS\, IF ANY). ORGANIZERS WILL CONTACT YOU. \nPlease invite your friends/family to enjoy this evening with us! \nSPACE IS LIMITED – PLEASE RSVP IN ADVANCE NOT TO MISS THIS GREAT OPPORTUNITY TO TRY OUT THE NEW RESTAURANT AND SOCIALIZE WITH NEW AND OLD FRIENDS! \nIf the event is full and you join the Waitlist\, you can be moved to the RSVP list whenever other people cancel their RSVP. Please remove yourself from the Waitlist if you can no longer commit to coming. Once you are moved from the waitlist to an active RSVP\, and you do not attend\, you will be considered a ‘No Show’ and the NO SHOW RULES WILL APPLY. \nAny question or comments? Car-pooling arrangements? Please use “Comments” section on the event page.
URL:https://www.vkind.com/vegan-events/vegan-dining-at-newly-opened-bibibop-asian-grill-2/
LOCATION:BIBIBOP Asian Grill\, 3304 N Western Ave\, Chicago\, IL\, 60618\, United States
ATTACH;FMTTYPE=image/jpeg:https://www.vkind.com/wp-content/uploads/2023/04/1024x576-k4G4at.tmp_.jpg
GEO:41.94114;-87.68889
X-APPLE-STRUCTURED-LOCATION;VALUE=URI;X-ADDRESS=BIBIBOP Asian Grill 3304 N Western Ave Chicago IL 60618 United States;X-APPLE-RADIUS=500;X-TITLE=3304 N Western Ave:geo:-87.68889,41.94114
END:VEVENT
BEGIN:VEVENT
DTSTART;TZID=-05:00:20230521T180000
DTEND;TZID=-05:00:20230521T200000
DTSTAMP:20260423T174401
CREATED:20230422T061138Z
LAST-MODIFIED:20230521T075024Z
UID:10000502-1684692000-1684699200@www.vkind.com
SUMMARY:VEGAN DINING AT NEWLY OPENED BIBIBOP ASIAN GRILL!
DESCRIPTION:!!! PLEASE READ THE ENTIRE EVENT DESCRIPTION INCLUDING THE WAITLIST RULES AND AGREE WITH THE EVENT ‘RSVP TERMS’ BEFORE RSVPING !!! \nJoin us for this exciting vegan dining event at the newly opened BIBIBOP restaurant in Chicagoland! This is not a vegan restaurant but it has tons of vegan options\, plus it’s 100% gluten free (even their noodles)! It has a similar concept as Chipotle Mexican Grill but offers way more healthy vegan options. The cuisine is Asian. You can order their signature bowl: TERIYAKI TOFU & GREENS as on the event picture (it’s delicious!) or create your own bowl. Another good thing is that all of their sauces except Yum Yum are vegan too! On top of all this\, the restaurant is welcoming ChicagoVeg members by offering $5 OFF of their order at the event. Yes\, you read it right: $5 OFF while the regular price of the bowl is only $10.99! \nRSVP TERMS: CHICAGOVEG AGREED TO PROVIDE THE RSVP RESULTS TO THE RESTAURANT BY MAY 18. BY RSVPING FOR THE EVENT YOU COMMIT TO SHOW UP OR PAY FOR YOUR RSVP UNLESS YOU CANCEL BEFORE MAY 18 @ 12PM. THIS INCLUDES ANY GUESTS ON YOUR RSVP. IF YOU RSVP’d BUT DON’T COME (UNLESS CANCELED ON TIME)\, YOU PAY $10 ON-LINE (PLUS FOR YOUR GUESTS\, IF ANY). ORGANIZERS WILL CONTACT YOU. \nPlease invite your friends/family to enjoy this evening with us! \nSPACE IS LIMITED – PLEASE RSVP IN ADVANCE NOT TO MISS THIS GREAT OPPORTUNITY TO TRY OUT THE NEW RESTAURANT AND SOCIALIZE WITH NEW AND OLD FRIENDS! \nIf the event is full and you join the Waitlist\, you can be moved to the RSVP list whenever other people cancel their RSVP. Please remove yourself from the Waitlist if you can no longer commit to coming. Once you are moved from the waitlist to an active RSVP\, and you do not attend\, you will be considered a ‘No Show’ and the NO SHOW RULES WILL APPLY. \nAny question or comments? Car-pooling arrangements? Please use “Comments” section on the event page.
URL:https://www.vkind.com/vegan-events/vegan-dining-at-newly-opened-bibibop-asian-grill/
LOCATION:BIBIBOP Asian Grill\, 3304 N Western Ave\, Chicago\, IL\, 60618\, United States
ATTACH;FMTTYPE=image/jpeg:https://www.vkind.com/wp-content/uploads/2023/04/1024x576-k4G4at.tmp_.jpg
GEO:41.94114;-87.68889
X-APPLE-STRUCTURED-LOCATION;VALUE=URI;X-ADDRESS=BIBIBOP Asian Grill 3304 N Western Ave Chicago IL 60618 United States;X-APPLE-RADIUS=500;X-TITLE=3304 N Western Ave:geo:-87.68889,41.94114
END:VEVENT
END:VCALENDAR