BEGIN:VCALENDAR
VERSION:2.0
PRODID:-//Vkind - ECPv6.15.14//NONSGML v1.0//EN
CALSCALE:GREGORIAN
METHOD:PUBLISH
X-WR-CALNAME:Vkind
X-ORIGINAL-URL:https://www.vkind.com
X-WR-CALDESC:Events for Vkind
REFRESH-INTERVAL;VALUE=DURATION:PT1H
X-Robots-Tag:noindex
X-PUBLISHED-TTL:PT1H
BEGIN:VTIMEZONE
TZID:-04:00
END:VTIMEZONE
BEGIN:VEVENT
DTSTART;TZID=-04:00:20230909T180000
DTEND;TZID=-04:00:20230909T220000
DTSTAMP:20260423T142654
CREATED:20230825T025547Z
LAST-MODIFIED:20230908T064557Z
UID:10007528-1694282400-1694296800@www.vkind.com
SUMMARY:Rooftop Soiree w/ Veg*n Dinner - Manhattan #Bowery
DESCRIPTION:**In addition to Meetup RSVP\, everyone is required to** [Register Here](https://momence.com/Premanjali–Dasi/Rooftop-Dinner/88330599) **to participate in this event. Limited seats available. Rooftop entry is FREE\, pay as you order for veg*n food items at the Rooftop.** \nThe Bhakti Center is a spiritual and cultural organization located in New York City\, specifically in the East Village neighborhood of Manhattan. It is known for its promotion of Bhakti Yoga\, a spiritual path centered around devotion and love for the divine. The venue often hosts a variety of programs\, classes\, workshops\, kirtans (devotional chanting)\, yoga sessions\, and events related to Bhakti Yoga\, Indian philosophy\, and culture. \nWe are excited to join them as they host an incredible rooftop dinner experience. The combination of dreamy NYC skyline views\, a luxurious atmosphere\, and a delicious plant-based menu with a Mexican theme sounds like a truly unique and enjoyable experience. Enjoying flavorful food while surrounded by the city lights and an open-air setting can indeed create an unforgettable evening. Come join us at this rooftop offering serene atmosphere amidst the urban surroundings of New York City. \nFor more information and to register (required) check – [https://bhakticenter.org/rooftop-dinner/](https://bhakticenter.org/rooftop-dinner/) \n**FOR OUR NEW MEMBERS:** this is an incredibly friendly and welcoming group. We are a FUN group. Join us as we enjoy the Rooftop event\, with fellow vegetarians and vegans. \nRooftop Entry is FREE for registrants – The venue takes major credit cards if you wish to purchase food / drink items on your own. \n**TRAIN DIRECTIONS:** Take F train to 2nd Avenue Station (Exit via 1st Ave & Houston St) – 1 min/ 0.1 miles to the venue. \nWe would love to see you there.. \nKarthik :)) \n**In addition to Meetup RSVP\, everyone is required to** [Register Here](https://momence.com/Premanjali–Dasi/Rooftop-Dinner/88330599) **to participate in this event. Limited seats available. Rooftop entry is FREE\, pay as you order for veg*n food items at the Rooftop.** \nImage Courtesy – https://www.weddingsbyelvira.com/
URL:https://www.vkind.com/vegan-events/rooftop-soiree-w-vegn-dinner-manhattan-bowery/
LOCATION:Bhakti Center\, 25 1st Ave.\, New York\, NY\, 10003\, us
ATTACH;FMTTYPE=image/jpeg:https://www.vkind.com/wp-content/uploads/2023/08/1024x576-QBe3e3.tmp_.jpg
GEO:40.723778;-73.988495
X-APPLE-STRUCTURED-LOCATION;VALUE=URI;X-ADDRESS=Bhakti Center 25 1st Ave. New York NY 10003 us;X-APPLE-RADIUS=500;X-TITLE=25 1st Ave.:geo:-73.988495,40.723778
END:VEVENT
END:VCALENDAR