BEGIN:VCALENDAR
VERSION:2.0
PRODID:-//Vkind - ECPv6.15.14//NONSGML v1.0//EN
CALSCALE:GREGORIAN
METHOD:PUBLISH
X-WR-CALNAME:Vkind
X-ORIGINAL-URL:https://www.vkind.com
X-WR-CALDESC:Events for Vkind
REFRESH-INTERVAL;VALUE=DURATION:PT1H
X-Robots-Tag:noindex
X-PUBLISHED-TTL:PT1H
BEGIN:VTIMEZONE
TZID:-04:00
END:VTIMEZONE
BEGIN:VEVENT
DTSTART;TZID=-04:00:20240312T180000
DTEND;TZID=-04:00:20240312T210000
DTSTAMP:20260423T120200
CREATED:20240222T081536Z
LAST-MODIFIED:20240311T135032Z
UID:10007652-1710266400-1710277200@www.vkind.com
SUMMARY:Vegan Sushi and more at Beyond Sushi (W. 37th location)
DESCRIPTION:**Arrive anytime between 6:00 P.M. and 9:00 P.M. and stay as along as you want or leave when you need. Arriving at 7:00 P.M. or 8:00 P.M. is perfectly great!** \nDid someone say VEGAN SUSHI?!!! I have been a fan of Beyond Sushi since I first learned about them at the NYC Vegetarian Food Festival. They have several locations\, and their W. 37th is their largest. In addition\, they branched out to affiliates Willow\, Coletta\, and Anixi. \nThey were winners on Shark Tank with an initial idea to expand the restaurant to Los Angeles! They use multigrain or forbidden rice for their sushi rolls!! Mmmmm! \nEveryone pays for themselves; credit cards\, cash\, and Apple Pay accepted. \n**FOR OUR NEW MEMBERS** – We are an incredibly friendly\, FUN\, and welcoming group! Join us for a stellar evening of lively conversations and great food with fellow vegetarians and vegans! \n**TRANSIT INFO** –\nB/D/F/M/N/Q/R/W – 34th Street/Herald Square\nPATH – 33rd Street\n1/2/3/A/C/E & LIRR – Penn Station\nM20 – 7th Avenue/37th Street\, 8th Ave/37th Street\nM55 – Ave of the Americas/38th Street \nRecent reviews ~\n**Google:**\n* G. West –\nFood was so delicious. Ramen with the fake egg and ‘poke’ blew my mind. Also had the Philadelphia roll and it was amazing. I love sushi and this place was 10/10. \n* Todd P. –\nIf you had told me I was eating real sushi\, I would’ve believed it without question. This place is fantastic \n* Akash –\nThe service here is fantastic\, and so is the food. \n**Yelp:**\n* Diane C.\nI’ve eaten here several times and never fail to be impressed. The food is fresh and beautifully made\, the flavor combinations wonderful\, and today I tried their spicy “tuna” maki and was blown away. I’ve never had vegetarian tuna sushi before and figured it would be tasty\, but it was next level\, and it tasted exactly like tuna sushi. What alchemy is this? So good. \n*Nathan H.\nGreat vegan food. Delicious and healthy\, which isn’t always the case with vegan versions of animal proteins. They get it right here. Lots of veggies used to create masterful sushi replicas. No processed soy or wheat gluten. \n*Pea P.\nUpdating my review because I really love sushi and wanted to come back and try some top favorites from here. I had the miso soup and it was really good! Definitely hit the spot. I also had the Planet Pale Ale and omg it was so good! I immediately looked up if we have this beer in California and we don’t. I’m sad because it was so good! Then I tried the rainbow roll – it was excellent! So so good! A bit spicy so I scraped a bit of the siracha off BUT it was exactly what I wanted in sushi. I also didn’t realize that around 5 until 6 they have a happy hour where drinks are half off (beer and wine only I think) what a great deal!! Definitely redeemed my first review. My waiter was amazing tonight too. I’m sad I didn’t catch his name but he was great! Thank you guys! I’ll be back 🙂 \nFor more information – [https://beyondsushi.com](https://beyondsushi.com) \n**Arrive anytime between 6:00 P.M. and 9:00 P.M. and stay as along as you want or leave when you need. Arriving at 7:00 P.M. or 8:00 P.M. is perfectly great!** \nLook forward to seeing you and making new connections! \nKristal
URL:https://www.vkind.com/vegan-events/vegan-sushi-and-more-at-beyond-sushi-w-37th-location/
LOCATION:Beyond Sushi\, 134 W 37th St\, New York\, NY\, 10018\, United States
ATTACH;FMTTYPE=image/jpeg:https://www.vkind.com/wp-content/uploads/2024/02/1024x576-8Jn7WG.tmp_.jpg
GEO:40.752476;-73.98848
X-APPLE-STRUCTURED-LOCATION;VALUE=URI;X-ADDRESS=Beyond Sushi 134 W 37th St New York NY 10018 United States;X-APPLE-RADIUS=500;X-TITLE=134 W 37th St:geo:-73.98848,40.752476
END:VEVENT
END:VCALENDAR