BEGIN:VCALENDAR
VERSION:2.0
PRODID:-//Vkind - ECPv6.15.14//NONSGML v1.0//EN
CALSCALE:GREGORIAN
METHOD:PUBLISH
X-WR-CALNAME:Vkind
X-ORIGINAL-URL:https://www.vkind.com
X-WR-CALDESC:Events for Vkind
REFRESH-INTERVAL;VALUE=DURATION:PT1H
X-Robots-Tag:noindex
X-PUBLISHED-TTL:PT1H
BEGIN:VTIMEZONE
TZID:-04:00
END:VTIMEZONE
BEGIN:VEVENT
DTSTART;TZID=-04:00:20240522T183000
DTEND;TZID=-04:00:20240522T210000
DTSTAMP:20260422T233257
CREATED:20240505T160106Z
LAST-MODIFIED:20240519T193042Z
UID:10007703-1716402600-1716411600@www.vkind.com
SUMMARY:Hunters Point South Park Tour/Veg*n Picnic - Long Island City\, Queens #LICNYC
DESCRIPTION:**Feel free to join the Park Tour/Veg*n Picnic for any length of time\, tag along halfway\, and leave the tour whenever you wish. You can bring your food or get some at Bareburger (Vernon Blvd) – Buying food/eating at this establishment is at your discretion. They do serve meat\, so be careful while ordering food (and of course\, no meat eating at our vegan meetup); they have a ton of vegan options — this restaurant is very vegan-friendly. Stay Hydrated!** \nNew York City has some fantastic riverfront parks that offer spectacular skyline views. Many of these parks are underrated and not known to many New Yorkers – Come join us as we’ll take a beautiful summer evening stroll by Hunter’s Point South park. \n**Hunter’s Point State Park is a relatively new park in Queens on the East River and features amazing views of Midtown and a green oval for sports and lounging\, picnic tables and Coffeed\, a local coffee and snack bar.** It’s easily accessible via the East River Ferry\, which docks at LIC Landing for trips to Midtown\, Williamsburg\, Lower Manhattan and the Brooklyn Bridge. \nWe plan to buy takeout food at Bareburger (Vernon Blvd) prior to going on the park tour\, feel free to bring your choice of food/drink as you wish. \n**FOR OUR NEW MEMBERS:** this is an incredibly friendly and welcoming group. We are a FUN group. Join us for a stellar summer evening of walking in the Long Island City neighborhood with lively conversations\, with fellow vegetarians and vegans. \nAt Bareburger (Vernon Blvd) – Everyone pays for themselves and they take major credit cards. Easy! \n**TRAIN DIRECTIONS:** For Bareburger (Vernon Blvd) – Take 7 train to Vernon Blvd – Jackson Av Station – 2 Min/ 0.1 mile\, or G Train to 21st Ave Station – 6 min/ 0.3 mile to the venue. \nWe would love to have you join our tour! See you there..\nKarthik :)) \n**Feel free to join the Park Tour/Veg*n Picnic for any length of time\, tag along halfway\, and leave the tour whenever you wish. You can bring your food or get some at Bareburger (Vernon Blvd) – Buying food/eating at this establishment is at your discretion. They do serve meat\, so be careful while ordering food (and of course\, no meat eating at our vegan meetup); they have a ton of vegan options — this restaurant is very vegan-friendly. Stay Hydrated!** \nImage Courtesy – piccolanewyorker.com
URL:https://www.vkind.com/vegan-events/hunters-point-south-park-tour-vegn-picnic-long-island-city-queens-licnyc/
LOCATION:Bareburger\, 48-19 Vernon Blvd\, Queens\, NY\, 11101\, United States
ATTACH;FMTTYPE=image/jpeg:https://www.vkind.com/wp-content/uploads/2022/06/1024x576-QALwbX.tmp_.jpg
GEO:40.743496;-73.953636
X-APPLE-STRUCTURED-LOCATION;VALUE=URI;X-ADDRESS=Bareburger 48-19 Vernon Blvd Queens NY 11101 United States;X-APPLE-RADIUS=500;X-TITLE=48-19 Vernon Blvd:geo:-73.953636,40.743496
END:VEVENT
BEGIN:VEVENT
DTSTART;TZID=-04:00:20230714T183000
DTEND;TZID=-04:00:20230714T210000
DTSTAMP:20260422T233257
CREATED:20230706T224527Z
LAST-MODIFIED:20230715T013032Z
UID:10000572-1689359400-1689368400@www.vkind.com
SUMMARY:Hunters Point South Park Tour/Veg*n Picnic - Long Island City #LICNYC
DESCRIPTION:**Feel free to join the Park Tour/Veg*n Picnic for any length of time\, tag along halfway\, and leave the tour whenever you wish. You can bring your food or get some at Bareburger (Vernon Blvd) – Buying food/eating at this establishment is at your discretion. They do serve meat\, so be careful not to purchase a meat burger. They have a ton of vegan options — this restaurant is very vegan-friendly. Stay Hydrated!** \nNew York City has some fantastic riverfront parks that offer spectacular skyline views. Many of these parks are underrated and not known to many New Yorkers – Come join us as we’ll take a beautiful summer evening stroll by Hunter’s Point South park. \n**Hunter’s Point State park is a relatively new park on the East River and features amazing views of Midtown and a green oval for sports and lounging\, picnic tables and Coffeed\, a local coffee and snack bar.** It’s easily accessible via the East River Ferry\, which docks at LIC Landing for trips to Midtown\, Williamsburg\, Lower Manhattan and the Brooklyn Bridge. \nWe plan to buy takeout food at Bareburger (Vernon Blvd) prior to going on the park tour\, feel free to bring your choice of food/drink as you wish. \n**FOR OUR NEW MEMBERS:** this is an incredibly friendly and welcoming group. We are a FUN group. Join us for a stellar summer evening of walking in the Long Island City neighborhood with lively conversations\, with fellow vegetarians and vegans. \nAt Bareburger (Vernon Blvd) – Everyone pays for themselves and they take major credit cards. Easy! \n**TRAIN DIRECTIONS:** For Bareburger (Vernon Blvd) – Take 7 train to Vernon Blvd – Jackson Av Station – 2 Min/ 0.1 mile\, or G Train to 21st Ave Station – 6 min/ 0.3 mile to the venue. \nWe would love to have you join our tour! See you there..\nKarthik :)) \n**Feel free to join the Park Tour/Veg*n Picnic for any length of time\, tag along halfway\, and leave the tour whenever you wish. You can bring your food or get some at Bareburger (Vernon Blvd) – Buying food/eating at this establishment is at your discretion. They do serve meat\, so be careful not to purchase a meat burger. They have a ton of vegan options — this restaurant is very vegan-friendly. Stay Hydrated!** \nImage Courtesy – piccolanewyorker.com
URL:https://www.vkind.com/vegan-events/hunters-point-south-park-tour-vegn-picnic-long-island-city-licnyc/
LOCATION:Bareburger\, 48-19 Vernon Blvd\, Queens\, NY\, 11101\, United States
ATTACH;FMTTYPE=image/jpeg:https://www.vkind.com/wp-content/uploads/2022/06/1024x576-QALwbX.tmp_.jpg
GEO:40.743496;-73.953636
X-APPLE-STRUCTURED-LOCATION;VALUE=URI;X-ADDRESS=Bareburger 48-19 Vernon Blvd Queens NY 11101 United States;X-APPLE-RADIUS=500;X-TITLE=48-19 Vernon Blvd:geo:-73.953636,40.743496
END:VEVENT
END:VCALENDAR