BEGIN:VCALENDAR
VERSION:2.0
PRODID:-//Vkind - ECPv6.15.14//NONSGML v1.0//EN
CALSCALE:GREGORIAN
METHOD:PUBLISH
X-ORIGINAL-URL:https://www.vkind.com
X-WR-CALDESC:Events for Vkind
REFRESH-INTERVAL;VALUE=DURATION:PT1H
X-Robots-Tag:noindex
X-PUBLISHED-TTL:PT1H
BEGIN:VTIMEZONE
TZID:-04:00
END:VTIMEZONE
BEGIN:VEVENT
DTSTART;TZID=-04:00:20230529T090000
DTEND;TZID=-04:00:20230529T150000
DTSTAMP:20260423T154938
CREATED:20230523T205003Z
LAST-MODIFIED:20230528T210505Z
UID:10000521-1685350800-1685372400@www.vkind.com
SUMMARY:Veggie Biking on Washington and Old Dominion Trail\, Virginia
DESCRIPTION:Please join us for Veggie Bike Ride on the Washington and Old Dominion Trail\, Virginia. \nWe’ll meet at 9:00am on Monday\, 29 May at [Barcroft Community Center Parking lot](https://goo.gl/maps/zHsGxZMpXaZ8jdBM8).\nWe will ride West towards Reston on the trail to GreenFare (~19 miles) and head back the same way. \nRoute: https://goo.gl/maps/7qdLZe6ekoL5dPgE6\nLength: ~40 miles\nDifficulty level: strenuous\nElevation change: about 800 ft up and down\nBike time: ~4 hours at moderate+ pace (10 mph)\nTotal time: ~6 hours\nBiking surface: paved\nRoute type: trail\nBreak and Lunch spot: [GreenFare Organic Cafe](https://greenfare.com/)\nWeather: we will not be riding in rain\, windy (greater than 10mph) or cold (less that 50 F) conditions so stay tuned for Comments on this page. \nFood/Water: Bring your own vegan snacks and (non-alcoholic) beverage to enjoy. Please carry plenty of water! \nDuring the ride: we will plan to slow often to let the group gather together. \n*For important updates\, regularly monitor the “Comments” section on this page (below).*\n*Don’t be a no show! If your plans change\, update your RSVP.*\nWhen you sign up to join\, you automatically acknowledge\nVSDC hikes (and bikes)[ Liability Waiver](https://vsdc.org/activity-waiver/)\n*Please also view and abide by the RULES listed below* \nRULES \n* Pets are not allowed\n* Use of intoxicants such as alcohol\, cigarettes and/or illegal substances is banned during this event.\n* Practice safe biking habits including:\n* Wearing a bike helmet\n* Keeping a safe distance between each other (bikes don’t have brake lights and tailgating can easily result in crashes)\n* Avoid side by side riding unless the road gives us ample opportunity\n* This event is for those who are fully vaccinated only. Also please do not attend if you are sick or have been near someone who thinks they may have or have been exposed to COVID-19. \nIf you comply with the above\, we look forward to seeing you IRL (in real life)! Thanks for your support. \n*** \nVSDC (http://www.vsdc.org) is a clear and consistent voice for improving the lives of all beings through education on the benefits of a vegan diet & lifestyle. Sharing food is the bond that brings families together; so it is with VSDC. From simply “breaking bread” to experiencing delicious and nutritious vegan foods from around the world\, we make your journey easier\, enjoyable & meaningful. \nVSDC. Creating communities. For your health\, the animals\, and the planet.
URL:https://www.vkind.com/vegan-events/veggie-biking-on-washington-and-old-dominion-trail-virginia-4/
LOCATION:Barcroft Community Center\, 4200 S Four Mile Run Dr\, Arlington\, VA\, 22206\, us
ATTACH;FMTTYPE=image/jpeg:https://www.vkind.com/wp-content/uploads/2022/09/1024x576-Yf7OAS.tmp_.jpg
GEO:38.85055;-77.10176
X-APPLE-STRUCTURED-LOCATION;VALUE=URI;X-ADDRESS=Barcroft Community Center 4200 S Four Mile Run Dr Arlington VA 22206 us;X-APPLE-RADIUS=500;X-TITLE=4200 S Four Mile Run Dr:geo:-77.10176,38.85055
END:VEVENT
BEGIN:VEVENT
DTSTART;TZID=-04:00:20230527T090000
DTEND;TZID=-04:00:20230527T150000
DTSTAMP:20260423T154938
CREATED:20230514T203532Z
LAST-MODIFIED:20230522T203555Z
UID:10000514-1685178000-1685199600@www.vkind.com
SUMMARY:Veggie Biking on Washington and Old Dominion Trail\, Virginia
DESCRIPTION:Please join us for Veggie Bike Ride on the Washington and Old Dominion Trail\, Virginia. \nWe’ll meet at 9:00am on Saturday May 27 at [Barcroft Community Center Parking lot](https://goo.gl/maps/zHsGxZMpXaZ8jdBM8).\nWe will ride West towards Reston on the trail to GreenFare (~19 miles) and head back the same way. \nRoute: https://goo.gl/maps/7qdLZe6ekoL5dPgE6\nLength: ~40 miles\nDifficulty level: strenuous\nElevation change: about 800 ft up and down\nBike time: ~4 hours at moderate+ pace (10 mph)\nTotal time: ~6 hours\nBiking surface: paved\nRoute type: trail\nBreak and Lunch spot: [GreenFare Organic Cafe](https://greenfare.com/)\nWeather: we will not be riding in rain\, windy (greater than 10mph) or cold (less that 50 F) conditions so stay tuned for Comments on this page. \nFood/Water: Bring your own vegan snacks and (non-alcoholic) beverage to enjoy. Please carry plenty of water! \nDuring the ride: we will plan to slow often to let the group gather together. \n*For important updates\, regularly monitor the “Comments” section on this page (below).*\n*Don’t be a no show! If your plans change\, update your RSVP.*\nWhen you sign up to join\, you automatically acknowledge\nVSDC hikes (and bikes)[ Liability Waiver](https://vsdc.org/activity-waiver/)\n*Please also view and abide by the RULES listed below* \nRULES \n* Pets are not allowed\n* Use of intoxicants such as alcohol\, cigarettes and/or illegal substances is banned during this event.\n* Practice safe biking habits including:\n* Wearing a bike helmet\n* Keeping a safe distance between each other (bikes don’t have brake lights and tailgating can easily result in crashes)\n* Avoid side by side riding unless the road gives us ample opportunity\n* This event is for those who are fully vaccinated only. Also please do not attend if you are sick or have been near someone who thinks they may have or have been exposed to COVID-19. \nIf you comply with the above\, we look forward to seeing you IRL (in real life)! Thanks for your support. \n*** \nVSDC (http://www.vsdc.org) is a clear and consistent voice for improving the lives of all beings through education on the benefits of a vegan diet & lifestyle. Sharing food is the bond that brings families together; so it is with VSDC. From simply “breaking bread” to experiencing delicious and nutritious vegan foods from around the world\, we make your journey easier\, enjoyable & meaningful. \nVSDC. Creating communities. For your health\, the animals\, and the planet.
URL:https://www.vkind.com/vegan-events/veggie-biking-on-washington-and-old-dominion-trail-virginia-3/
LOCATION:Barcroft Community Center\, 4200 S Four Mile Run Dr\, Arlington\, VA\, 22206\, us
ATTACH;FMTTYPE=image/jpeg:https://www.vkind.com/wp-content/uploads/2022/09/1024x576-Yf7OAS.tmp_.jpg
GEO:38.85055;-77.10176
X-APPLE-STRUCTURED-LOCATION;VALUE=URI;X-ADDRESS=Barcroft Community Center 4200 S Four Mile Run Dr Arlington VA 22206 us;X-APPLE-RADIUS=500;X-TITLE=4200 S Four Mile Run Dr:geo:-77.10176,38.85055
END:VEVENT
BEGIN:VEVENT
DTSTART;TZID=-04:00:20220925T093000
DTEND;TZID=-04:00:20220925T143000
DTSTAMP:20260423T154938
CREATED:20220902T092122Z
LAST-MODIFIED:20220922T113525Z
UID:10000277-1664098200-1664116200@www.vkind.com
SUMMARY:Rain Contingency: Veggie Biking on Washington and Old Dominion Trail\, Virginia
DESCRIPTION:**Please note: this event will take place only if we are unable to ride on Saturday Sept 24 due to rain/adverse weather. [This is the Event for the ride on Sept 24.](https://www.meetup.com/vegan-dc-md-va/events/288381610?utm_medium=referral&utm_campaign=share-btn_savedevents_share_modal&utm_source=link)** \nPlease join us for Veggie Bike Ride on the Washington and Old Dominion Trail\, Virginia.\nWe’ll meet at 9:30am on Sunday Sep 25\, 2022 at [Barcroft Community Center Parking lot](https://goo.gl/maps/zHsGxZMpXaZ8jdBM8). \nWe will ride West towards Reston on the trail\, and turn back wherever we find the ~15mile mark marker. On the way back we will stop at Amma (and maybe some coffee) as well. \nThis event is for those who are fully vaccinated only. Also please do not attend if you are sick or have been near someone who thinks they may have or have been exposed to COVID-19. VSDC greatly appreciates your cooperation. \nRoute: [https://goo.gl/maps/cuGQ4XihPPJePcFJ9](https://goo.gl/maps/cuGQ4XihPPJePcFJ9)\nLength: ~30 miles\nShorter Route Option: [22 miles](https://goo.gl/maps/5LRuEqktS9BSYWFB8) (straight to Amma and back)\nDifficulty level: strenuous\nElevation change: about 800 ft up and down\nBike time: ~3 hours at moderate+ pace (10 mph)\nTotal time: ~5 hours\nBiking surface: paved\nRoute type: trail\nBreak and Lunch spot: Amma Vegetarian\nWeather: we will not be riding in rain\, windy (greater than 10mph) or cold (less that 50 F) conditions so stay tuned for Comments on this page. \nFood/Water: Bring your own vegan snacks and (non-alcoholic) beverage to enjoy. Please carry plenty of water! \nDuring the ride: we will plan to slow often to let the group gather together. \n*For important updates\, regularly monitor the “Comments” section on this page (below).*\n*Don’t be a no show! If your plans change\, update your RSVP.*\nWhen you sign up to join\, you automatically acknowledge\nVSDC hikes (and bikes)[ Liability Waiver](https://vsdc.org/activity-waiver/)\n*Please also view and abide by the RULES listed below* \nRULES \n* Pets are not allowed\n* Use of intoxicants such as alcohol\, cigarettes and/or illegal substances is banned during this event.\n* Practice safe biking habits including:\n* Wearing a bike helmet\n* Keeping a safe distance between each other (bikes don’t have brake lights and tailgating can easily result in crashes)\n* Avoid side by side riding unless the road gives us ample opportunity\n* This event is for those who are fully vaccinated only. Also please do not attend if you are sick or have been near someone who thinks they may have or have been exposed to COVID-19. \nIf you comply with the above\, we look forward to seeing you IRL (in real life)! Thanks for your support. \n*** \nVSDC (http://www.vsdc.org) is a clear and consistent voice for improving the lives of all beings through education on the benefits of a vegan diet & lifestyle. Sharing food is the bond that brings families together; so it is with VSDC. From simply “breaking bread” to experiencing delicious and nutritious vegan foods from around the world\, we make your journey easier\, enjoyable & meaningful. \nVSDC. Creating communities. For your health\, the animals\, and the planet.
URL:https://www.vkind.com/vegan-events/veggie-biking-on-washington-and-old-dominion-trail-virginia/
LOCATION:Barcroft Community Center\, 4200 S Four Mile Run Dr\, Arlington\, VA\, 22206\, us
ATTACH;FMTTYPE=image/jpeg:https://www.vkind.com/wp-content/uploads/2022/09/1024x576-CgeN5W.tmp_.jpg
GEO:38.85055;-77.10176
X-APPLE-STRUCTURED-LOCATION;VALUE=URI;X-ADDRESS=Barcroft Community Center 4200 S Four Mile Run Dr Arlington VA 22206 us;X-APPLE-RADIUS=500;X-TITLE=4200 S Four Mile Run Dr:geo:-77.10176,38.85055
END:VEVENT
BEGIN:VEVENT
DTSTART;TZID=-04:00:20220924T093000
DTEND;TZID=-04:00:20220924T143000
DTSTAMP:20260423T154938
CREATED:20220910T095021Z
LAST-MODIFIED:20220924T113549Z
UID:10000288-1664011800-1664029800@www.vkind.com
SUMMARY:Veggie Biking on Washington and Old Dominion Trail\, Virginia
DESCRIPTION:Please join us for Veggie Bike Ride on the Washington and Old Dominion Trail\, Virginia. \nWe’ll meet at 9:30am on Saturday Sep 24\, 2022 at [Barcroft Community Center Parking lot](https://goo.gl/maps/zHsGxZMpXaZ8jdBM8). \nIn case of adverse weather: we will meet on Sunday\, Sep 25 – please sign up for the [Rain Contingency event](https://www.meetup.com/vegan-dc-md-va/events/288187709?utm_medium=referral&utm_campaign=share-btn_savedevents_share_modal&utm_source=link). \nWe will ride West towards Reston on the trail\, and turn back wherever we find the ~15mile mark marker. On the way back we will stop at Amma (and maybe some coffee) as well. \nThis event is for those who are fully vaccinated only. Also please do not attend if you are sick or have been near someone who thinks they may have or have been exposed to COVID-19. VSDC greatly appreciates your cooperation. \nRoute: [https://goo.gl/maps/cuGQ4XihPPJePcFJ9](https://goo.gl/maps/cuGQ4XihPPJePcFJ9)\nLength: ~30 miles\nShorter Route Option: [22 miles](https://goo.gl/maps/5LRuEqktS9BSYWFB8) (straight to Amma and back)\nDifficulty level: strenuous\nElevation change: about 800 ft up and down\nBike time: ~3 hours at moderate+ pace (10 mph)\nTotal time: ~5 hours\nBiking surface: paved\nRoute type: trail\nBreak and Lunch spot: Amma Vegetarian\nWeather: we will not be riding in rain\, windy (greater than 10mph) or cold (less that 50 F) conditions so stay tuned for Comments on this page. \nFood/Water: Bring your own vegan snacks and (non-alcoholic) beverage to enjoy. Please carry plenty of water! \nDuring the ride: we will plan to slow often to let the group gather together. \n*For important updates\, regularly monitor the “Comments” section on this page (below).*\n*Don’t be a no show! If your plans change\, update your RSVP.*\nWhen you sign up to join\, you automatically acknowledge\nVSDC hikes (and bikes)[ Liability Waiver](https://vsdc.org/activity-waiver/)\n*Please also view and abide by the RULES listed below* \nRULES \n* Pets are not allowed\n* Use of intoxicants such as alcohol\, cigarettes and/or illegal substances is banned during this event.\n* Practice safe biking habits including:\n* Wearing a bike helmet\n* Keeping a safe distance between each other (bikes don’t have brake lights and tailgating can easily result in crashes)\n* Avoid side by side riding unless the road gives us ample opportunity\n* This event is for those who are fully vaccinated only. Also please do not attend if you are sick or have been near someone who thinks they may have or have been exposed to COVID-19. \nIf you comply with the above\, we look forward to seeing you IRL (in real life)! Thanks for your support. \n*** \nVSDC (http://www.vsdc.org) is a clear and consistent voice for improving the lives of all beings through education on the benefits of a vegan diet & lifestyle. Sharing food is the bond that brings families together; so it is with VSDC. From simply “breaking bread” to experiencing delicious and nutritious vegan foods from around the world\, we make your journey easier\, enjoyable & meaningful. \nVSDC. Creating communities. For your health\, the animals\, and the planet.
URL:https://www.vkind.com/vegan-events/veggie-biking-on-washington-and-old-dominion-trail-virginia-2/
LOCATION:Barcroft Community Center\, 4200 S Four Mile Run Dr\, Arlington\, VA\, 22206\, us
ATTACH;FMTTYPE=image/jpeg:https://www.vkind.com/wp-content/uploads/2022/09/1024x576-Yf7OAS.tmp_.jpg
GEO:38.85055;-77.10176
X-APPLE-STRUCTURED-LOCATION;VALUE=URI;X-ADDRESS=Barcroft Community Center 4200 S Four Mile Run Dr Arlington VA 22206 us;X-APPLE-RADIUS=500;X-TITLE=4200 S Four Mile Run Dr:geo:-77.10176,38.85055
END:VEVENT
END:VCALENDAR