BEGIN:VCALENDAR
VERSION:2.0
PRODID:-//Vkind - ECPv6.15.14//NONSGML v1.0//EN
CALSCALE:GREGORIAN
METHOD:PUBLISH
X-ORIGINAL-URL:https://www.vkind.com
X-WR-CALDESC:Events for Vkind
REFRESH-INTERVAL;VALUE=DURATION:PT1H
X-Robots-Tag:noindex
X-PUBLISHED-TTL:PT1H
BEGIN:VTIMEZONE
TZID:America/Los_Angeles
BEGIN:DAYLIGHT
TZOFFSETFROM:-0800
TZOFFSETTO:-0700
TZNAME:PDT
DTSTART:20220313T100000
END:DAYLIGHT
BEGIN:STANDARD
TZOFFSETFROM:-0700
TZOFFSETTO:-0800
TZNAME:PST
DTSTART:20221106T090000
END:STANDARD
BEGIN:DAYLIGHT
TZOFFSETFROM:-0800
TZOFFSETTO:-0700
TZNAME:PDT
DTSTART:20230312T100000
END:DAYLIGHT
BEGIN:STANDARD
TZOFFSETFROM:-0700
TZOFFSETTO:-0800
TZNAME:PST
DTSTART:20231105T090000
END:STANDARD
BEGIN:DAYLIGHT
TZOFFSETFROM:-0800
TZOFFSETTO:-0700
TZNAME:PDT
DTSTART:20240310T100000
END:DAYLIGHT
BEGIN:STANDARD
TZOFFSETFROM:-0700
TZOFFSETTO:-0800
TZNAME:PST
DTSTART:20241103T090000
END:STANDARD
END:VTIMEZONE
BEGIN:VEVENT
DTSTART;TZID=America/Los_Angeles:20230729T110000
DTEND;TZID=America/Los_Angeles:20230729T190000
DTSTAMP:20260423T101818
CREATED:20230727T135041Z
LAST-MODIFIED:20230727T135041Z
UID:10003733-1690628400-1690657200@www.vkind.com
SUMMARY:Vegan Street Fair Seattle 2023
DESCRIPTION:Vegan Street Fair – The World’s Largest Vegan Festival – is in its 9th year of operation and we are FINALLY EXPANDING! Hosted by John Lewis aka BadAssVegan. And check out all of the other cities we’re hosting in 2023! \nFREE ENTRY & ALL AGES! \nExcited? We are! \nEven though this event is free entry\, we will still have our signature Premium Fast Passes up for grabs so check out the options below & be sure to get yours early as they WILL sell out! \n\nFree Entry\nAll ages\n20+ vegan & vegan friendly vendors from around the world\nFast Passes available to expedite lines\nHosted by John Lewis AKA Bad Ass Vegan\nSo much more!\n\nNO REFUNDS. \nFood & beverage sold separately. \nALL PASSES WILL SELL OUT! \n  \nSponsors so far: \n\nLevel Water – Water Sponsor\nBellingham VegFest\nLightlife Foods\nNature’s Fynd\nPolar Beverages\n\nVendors so far: \n\nAcorn Cake Supply\nAlpenglow Cocktail Company\nAzucar\nBeyond The Curls\nChubby Bunny\nDom’s Vegan\nGovo Charms\nKathmandu MoMoCha\nKhalsa Salsa/Kitchen\nModern Mystic\nNectary Botanics\nPan’s Mushroom Jerky\nPASTELES FINOS DEL ANGEL\nRebel Cheese\nSimply Amazing Treats\nSouth 2 West Boiled Peanuts\nVuture Foods\n\nLocation: Ballard Commons Park | 5701 22nd Ave NW\, Seattle\, WA 98107 \nSaturday\, July 29th\, 2023 \n11am-7pm \nAll food vendors have at least one $4 or less item. \n  \nPREMIUM PASSES & PERKS: \nEven though Vegan Street Fair is Free Entry\, attendees can purchase these premium passes & upgrades for a fuller experience: \n\n$50 – FAST PASSES are front of the line passes for each food & beverage vendor. Food sold separately.\n\n​All upgrades will cost more at the event while supplies last! \nRemember\, PASSES WILL SELL OUT\, so don’t sleep! You won’t want to miss this. \n  \nEvent Details: \n\nThis annual event is a great excuse to get your friends together and kick it with amazing eats\, beats\, dancing\, photo ops\, influencers you love\, and drinks with old friends and new friends alike.\nCash and credit happily welcome. ATMs on site.\nRemember: this is a can’t-miss-event so purchase your Fast Passes and upgrades & come Eat All The Vegan Things with us!  Fast Passes will sell out fast.\nThere will be very loud music.\nThe event is fully accessible.\nFood and drink purchased separately\n#veganstreetfair\, baby!\nCan’t wait to party with you all!\n\n  \nBE SURE TO CHOOSE THE RIGHT PASS TYPE AS CHANGES MAY NOT BE MADE ONCE PURCHASED! \nFor all up-to-date vendor reveals and info\, follow our:\nFacebook event page – HERE and\nInstagram Page – HERE\n\nPick up your wristbands\, Swag Bags\, Shirts\, etc at the Fast Pass Tent which can be found on the event map. \nFAQs- www.veganstreetfair.com/faqs \nAttendees can receive refunds up to 30 days before the event start date. NO REFUNDS AFTER THAT. \nAnyone with disabilities is welcome to a complimentary Fast Pass available at the Fast Pass tent. Identification will be required at time of request. \nWhere can I contact the organizer with any questions? \ninfo@veganstreetfair.com
URL:https://www.vkind.com/vegan-events/vegan-street-fair-seattle-2023/
LOCATION:Ballard Commons Park\, 5701 22nd Ave NW\, Seattle\, WA\, 98107\, United States
ATTACH;FMTTYPE=image/jpeg:https://www.vkind.com/wp-content/uploads/2023/07/Vegan-Street-Fair-Seattle-2023.jpg
GEO:47.6706355;-122.3855052
X-APPLE-STRUCTURED-LOCATION;VALUE=URI;X-ADDRESS=Ballard Commons Park 5701 22nd Ave NW Seattle WA 98107 United States;X-APPLE-RADIUS=500;X-TITLE=5701 22nd Ave NW:geo:-122.3855052,47.6706355
END:VEVENT
END:VCALENDAR