BEGIN:VCALENDAR
VERSION:2.0
PRODID:-//Vkind - ECPv6.15.14//NONSGML v1.0//EN
CALSCALE:GREGORIAN
METHOD:PUBLISH
X-WR-CALNAME:Vkind
X-ORIGINAL-URL:https://www.vkind.com
X-WR-CALDESC:Events for Vkind
REFRESH-INTERVAL;VALUE=DURATION:PT1H
X-Robots-Tag:noindex
X-PUBLISHED-TTL:PT1H
BEGIN:VTIMEZONE
TZID:-04:00
END:VTIMEZONE
BEGIN:VEVENT
DTSTART;TZID=-04:00:20231022T170000
DTEND;TZID=-04:00:20231022T190000
DTSTAMP:20260423T171830
CREATED:20231013T082044Z
LAST-MODIFIED:20231022T123022Z
UID:10007563-1697994000-1698001200@www.vkind.com
SUMMARY:VSDC Dinner Meetup for Vegan Chef Challenge - Asian Grill
DESCRIPTION:October is [DC Vegan Chef Challenge](https://veganchefchallenge.org/dc/)! As part of this friendly competition 10 DC-area restaurants are debuting new plant-based dishes for customers to vote for their favorites. \nLet’s meet at Asian Grill in Springfield which is [debuting three plant-based dishes](https://drive.google.com/file/d/1Nh4eEjLtGZPwp4L2qnJ-Ye44tdmeHjZm/view): 1) Lettuce Wraps\, 2) Salt & Pepper Eggplant\, 3) Chef’s Special String Beans. You can also order vegan options from their [regular menu](https://www.asiangrillspringfield.com/order/main/vegetable-menu). \nAll are welcome—join for good company\, good food\, and weigh in on the Vegan Chef Challenge! \nAsian Grill is located in Springfield\, and is a 12 minute drive/taxi from the Springfield Franconia Metro. There is ample parking. \nWhen you sign up to join\, you automatically acknowledge [VSDC’s Liability Waiver](https://vsdc.org/activity-waiver/). By coming to this event\, we expect you to follow the code of conduct found at [Policies – VSDC – Veg Society of DC](https://vsdc.org/policies/) \n[VSDC](https://vsdc.org/) is a clear and consistent voice for improving the lives of all beings through education on the benefits of a vegan diet & lifestyle. Sharing food is the bond that brings families together; so it is with VSDC. From simply “breaking bread” to experiencing delicious and nutritious vegan foods from around the world\, we make your journey easier\, enjoyable & meaningful.
URL:https://www.vkind.com/vegan-events/vsdc-dinner-meetup-for-vegan-chef-challenge-asian-grill/
LOCATION:Asian Grill\, 6228 Rolling Rd #8\, Springfield\, VA\, 22152\, us
ATTACH;FMTTYPE=image/jpeg:https://www.vkind.com/wp-content/uploads/2023/10/1024x576-MO7zd8.tmp_.jpg
GEO:38.780922;-77.23693
X-APPLE-STRUCTURED-LOCATION;VALUE=URI;X-ADDRESS=Asian Grill 6228 Rolling Rd #8 Springfield VA 22152 us;X-APPLE-RADIUS=500;X-TITLE=6228 Rolling Rd #8:geo:-77.23693,38.780922
END:VEVENT
END:VCALENDAR