BEGIN:VCALENDAR
VERSION:2.0
PRODID:-//Vkind - ECPv6.15.14//NONSGML v1.0//EN
CALSCALE:GREGORIAN
METHOD:PUBLISH
X-ORIGINAL-URL:https://www.vkind.com
X-WR-CALDESC:Events for Vkind
REFRESH-INTERVAL;VALUE=DURATION:PT1H
X-Robots-Tag:noindex
X-PUBLISHED-TTL:PT1H
BEGIN:VTIMEZONE
TZID:America/Los_Angeles
BEGIN:DAYLIGHT
TZOFFSETFROM:-0800
TZOFFSETTO:-0700
TZNAME:PDT
DTSTART:20220313T100000
END:DAYLIGHT
BEGIN:STANDARD
TZOFFSETFROM:-0700
TZOFFSETTO:-0800
TZNAME:PST
DTSTART:20221106T090000
END:STANDARD
BEGIN:DAYLIGHT
TZOFFSETFROM:-0800
TZOFFSETTO:-0700
TZNAME:PDT
DTSTART:20230312T100000
END:DAYLIGHT
BEGIN:STANDARD
TZOFFSETFROM:-0700
TZOFFSETTO:-0800
TZNAME:PST
DTSTART:20231105T090000
END:STANDARD
BEGIN:DAYLIGHT
TZOFFSETFROM:-0800
TZOFFSETTO:-0700
TZNAME:PDT
DTSTART:20240310T100000
END:DAYLIGHT
BEGIN:STANDARD
TZOFFSETFROM:-0700
TZOFFSETTO:-0800
TZNAME:PST
DTSTART:20241103T090000
END:STANDARD
END:VTIMEZONE
BEGIN:VEVENT
DTSTART;TZID=America/Los_Angeles:20230804T184500
DTEND;TZID=America/Los_Angeles:20230804T204500
DTSTAMP:20260423T022027
CREATED:20230727T141841Z
LAST-MODIFIED:20230727T141841Z
UID:10005563-1691174700-1691181900@www.vkind.com
SUMMARY:FREE VEGAN THAI FOOD NIGHT AT ARAYA'S PLACE FOR ANIMAL RIGHTS FOLKS!
DESCRIPTION:Animal Rights Initiative is grateful to once more host a group of animal rights and animal rights-curious folks for an evening of FREE Thai food at Araya’s Place in Madison Park! If you want to chill with some fellow activists and vegans\, eat some tasty Thai food\, and meet up with some new or old friends\, please reach out to me if you’d like to come! \nWe’d love to cover everyone who would want to come\, but limited funds means that this gathering will be first come\, first serve to be put on the reservation list ($5-$15 suggested donation\, but no one turned away). ONLY PEOPLE WHO MESSAGE ME DIRECTLY TO ATTEND WILL BE PUT ON THE LIST!! \nIMPORTANT: PLEASE CONTACT ME BY NOON ON JULY 29TH SO I HAVE AMPLE TIME TO COORDINATE A RESERVATION WITH ARAYA’S!!
URL:https://www.vkind.com/vegan-events/free-vegan-thai-food-night-at-arayas-place-for-animal-rights-folks/
LOCATION:Araya’s Place\, 2808 E Madison Street\, Seattle\, WA\, 98112\, United States
ATTACH;FMTTYPE=image/jpeg:https://www.vkind.com/wp-content/uploads/2023/07/FREE-VEGAN-THAI-FOOD-NIGHT.jpg
GEO:47.6239892;-122.2963796
X-APPLE-STRUCTURED-LOCATION;VALUE=URI;X-ADDRESS=Araya’s Place 2808 E Madison Street Seattle WA 98112 United States;X-APPLE-RADIUS=500;X-TITLE=2808 E Madison Street:geo:-122.2963796,47.6239892
END:VEVENT
END:VCALENDAR