BEGIN:VCALENDAR
VERSION:2.0
PRODID:-//Vkind - ECPv6.15.14//NONSGML v1.0//EN
CALSCALE:GREGORIAN
METHOD:PUBLISH
X-WR-CALNAME:Vkind
X-ORIGINAL-URL:https://www.vkind.com
X-WR-CALDESC:Events for Vkind
REFRESH-INTERVAL;VALUE=DURATION:PT1H
X-Robots-Tag:noindex
X-PUBLISHED-TTL:PT1H
BEGIN:VTIMEZONE
TZID:Europe/London
BEGIN:DAYLIGHT
TZOFFSETFROM:+0000
TZOFFSETTO:+0100
TZNAME:BST
DTSTART:20220327T010000
END:DAYLIGHT
BEGIN:STANDARD
TZOFFSETFROM:+0100
TZOFFSETTO:+0000
TZNAME:GMT
DTSTART:20221030T010000
END:STANDARD
BEGIN:DAYLIGHT
TZOFFSETFROM:+0000
TZOFFSETTO:+0100
TZNAME:BST
DTSTART:20230326T010000
END:DAYLIGHT
BEGIN:STANDARD
TZOFFSETFROM:+0100
TZOFFSETTO:+0000
TZNAME:GMT
DTSTART:20231029T010000
END:STANDARD
BEGIN:DAYLIGHT
TZOFFSETFROM:+0000
TZOFFSETTO:+0100
TZNAME:BST
DTSTART:20240331T010000
END:DAYLIGHT
BEGIN:STANDARD
TZOFFSETFROM:+0100
TZOFFSETTO:+0000
TZNAME:GMT
DTSTART:20241027T010000
END:STANDARD
END:VTIMEZONE
BEGIN:VEVENT
DTSTART;TZID=Europe/London:20230930T100000
DTEND;TZID=Europe/London:20230930T160000
DTSTAMP:20260423T080033
CREATED:20230727T155442Z
LAST-MODIFIED:20230727T155442Z
UID:10007400-1696068000-1696089600@www.vkind.com
SUMMARY:Kingston Vegan Market
DESCRIPTION:*No tickets needed to attend this event* \nThis is our final of three events being held in the Ancient Market Place being held on a Saturday this time! This event will run alongside the daily market. \nThe event will bring together a variety of small businesses from vegan street food vendors\, artisan bakers and producers\, craft brewers\, ethical products and gifts \, zero-waste champions\, environmental and animal charities and lots more. \n10-4pm. See you there! \nFamily friendly\, dog friendly and fully accessible. #notjustforvegans \n*** Event Traders *** \nIf you would like to trade at this event\, please head to the link below for all of the details: \nhttps://www.ethicalveganevents.com/trader-info/ \n*** \nKingston Vegan Market is organised by Ethical Vegan Events. Take a look at our other events here: \nhttps://www.ethicalveganevents.com/
URL:https://www.vkind.com/vegan-events/kingston-vegan-market/
LOCATION:Ancient Market\, Kingston upon Thames\, Thames KT1 1JS\, United Kingdom
ATTACH;FMTTYPE=image/jpeg:https://www.vkind.com/wp-content/uploads/2023/07/Kingston-Vegan-Market.jpg
GEO:51.4098108;-0.3062642
END:VEVENT
END:VCALENDAR