BEGIN:VCALENDAR
VERSION:2.0
PRODID:-//Vkind - ECPv6.15.14//NONSGML v1.0//EN
CALSCALE:GREGORIAN
METHOD:PUBLISH
X-ORIGINAL-URL:https://www.vkind.com
X-WR-CALDESC:Events for Vkind
REFRESH-INTERVAL;VALUE=DURATION:PT1H
X-Robots-Tag:noindex
X-PUBLISHED-TTL:PT1H
BEGIN:VTIMEZONE
TZID:-04:00
END:VTIMEZONE
BEGIN:VEVENT
DTSTART;TZID=-04:00:20230524T183000
DTEND;TZID=-04:00:20230524T213000
DTSTAMP:20260423T193549
CREATED:20230510T125108Z
LAST-MODIFIED:20230524T133538Z
UID:10000509-1684953000-1684963800@www.vkind.com
SUMMARY:Dinner @ Amituofu Vegan Cuisine #EastWilliamsburg
DESCRIPTION:**For Vegan Dinner arrive at Amituofu Vegan Cuisine (19 Bogart St\, Brooklyn) between 6:30 pm and 9:00 pm and stay as long as you want or leave when you need to. Arriving at 7:30 pm or 8:30 pm is perfectly great.** \nAmituofu Vegan Cusine offers 100% plant-based Asian-inspired food. The venue is a large and airy space\, pale blue walls adorned with murals by local tattoo artist Calinez. Amituofo is all about sharing their passion for vegan lifestyle\, foods free from animal products\, for our health and that of the planet. Whether you are looking for a hearty meal or a scrumptious bite of dessert paired with a vegan-friendly beverage\, you will find plenty of delectable options at Amituofo… \nAs Bushwick Daily claims: “The king oyster mushrooms\, tempura battered and fried\, were a delicious riot of texture. The batter was light and crispy\, and the mushrooms retained their natural\, non-rubbery chewiness. The sesame roll — carrot\, string bean\, and soy protein rolled into bean curd-coated seaweed — was rich\, earthy\, and filling. The sweet sticky rice ball was classic mochi\, coated in dried shaved coconut and filled with sugared crushed peanuts\, a tasty end to the meal.” \nJoin us for Vegan Dinner @ Amituofu Vegan Cusine – 19 Bogart St\, Brooklyn. \nCheck them out on social media : \nWEBPAGE\n[https://www.amituofovegan.com/](https://www.amituofovegan.com/) \nor Follow them on Instagram @amituofuvegancuisine \nFOR OUR NEW MEMBERS: this is an incredibly friendly and welcoming group. We are a FUN group. Join us for a stellar evening of lively conversations and great food and drinks with fellow vegetarians and vegans. \nEveryone pays for themselves and Amituofu takes major credit cards. Easy! \nTRAIN DIRECTIONS: Take the L Train to Morgan Ave Subway Station and about 3 min/ 0.2 mile for Amituofu restaurant. \nWe would love to have you join us – Mark the day!\nKarthik :)) \n**For Vegan Dinner arrive at Amituofu Vegan Cuisine (19 Bogart St\, Brooklyn) between 6:30 pm and 9:00 pm and stay as long as you want or leave when you need to. Arriving at 7:30 pm or 8:30 pm is perfectly great.** \nImage Courtesy – Twitter / Amituofovegancuisine
URL:https://www.vkind.com/vegan-events/dinner-amituofu-vegan-cuisine-eastwilliamsburg/
LOCATION:Amituofo\, 19 Bogart St\, Brooklyn\, NY\, 11206\, us
ATTACH;FMTTYPE=image/jpeg:https://www.vkind.com/wp-content/uploads/2023/05/1024x576-LfksFr.tmp_.jpg
GEO:40.703754;-73.93307
X-APPLE-STRUCTURED-LOCATION;VALUE=URI;X-ADDRESS=Amituofo 19 Bogart St Brooklyn NY 11206 us;X-APPLE-RADIUS=500;X-TITLE=19 Bogart St:geo:-73.93307,40.703754
END:VEVENT
END:VCALENDAR