BEGIN:VCALENDAR
VERSION:2.0
PRODID:-//Vkind - ECPv6.15.14//NONSGML v1.0//EN
CALSCALE:GREGORIAN
METHOD:PUBLISH
X-ORIGINAL-URL:https://www.vkind.com
X-WR-CALDESC:Events for Vkind
REFRESH-INTERVAL;VALUE=DURATION:PT1H
X-Robots-Tag:noindex
X-PUBLISHED-TTL:PT1H
BEGIN:VTIMEZONE
TZID:-05:00
END:VTIMEZONE
BEGIN:VEVENT
DTSTART;TZID=-05:00:20240606T110000
DTEND;TZID=-05:00:20240606T130000
DTSTAMP:20260423T143754
CREATED:20240601T210103Z
LAST-MODIFIED:20240605T221530Z
UID:10007726-1717671600-1717678800@www.vkind.com
SUMMARY:"Power Foods: One and All" with Physicians Committee President Dr. Neal Barnard
DESCRIPTION:Join us to welcome Physicians Committee President Dr. Neal Barnard who will be in Chicago on Thursday\, June 6 to highlight the partnership with Above and Beyond Family Recovery Center with the inaugural event **Power Foods: One and All**.\nAbove and Beyond will open its doors to raise awareness about food disparities in Chicago and the work being done to empower the community to make nutritious\, healing meal choices\, regardless of budget. The Center will be unveiling a new approach to utilizing nutrition for addiction recovery and serving a variety of power foods to sample. Dr. Barnard will share the latest in nutrition research\, including the connections between diet and mental health as part of the presentation. Other presenters include Above and Beyond Founder Bryan Cressey\, Chef Dustin Harder\, and special guest Kirk Charles. \nAny question or comments? Car-pooling arrangements? Please use the “Comments” section on the event page.
URL:https://www.vkind.com/vegan-events/power-foods-one-and-all-with-physicians-committee-president-dr-neal-barnard/
LOCATION:Above and Beyond Family Recovery Center\, 2942 W Lake St\, Chicago\, IL\, 60612\, United States
ATTACH;FMTTYPE=image/jpeg:https://www.vkind.com/wp-content/uploads/2024/06/1024x576-RP6dMt.tmp_.jpg
GEO:41.88428;-87.70059
X-APPLE-STRUCTURED-LOCATION;VALUE=URI;X-ADDRESS=Above and Beyond Family Recovery Center 2942 W Lake St Chicago IL 60612 United States;X-APPLE-RADIUS=500;X-TITLE=2942 W Lake St:geo:-87.70059,41.88428
END:VEVENT
END:VCALENDAR