BEGIN:VCALENDAR
VERSION:2.0
PRODID:-//Vkind - ECPv6.15.14//NONSGML v1.0//EN
CALSCALE:GREGORIAN
METHOD:PUBLISH
X-WR-CALNAME:Vkind
X-ORIGINAL-URL:https://www.vkind.com
X-WR-CALDESC:Events for Vkind
REFRESH-INTERVAL;VALUE=DURATION:PT1H
X-Robots-Tag:noindex
X-PUBLISHED-TTL:PT1H
BEGIN:VTIMEZONE
TZID:-04:00
END:VTIMEZONE
BEGIN:VEVENT
DTSTART;TZID=-04:00:20230813T093000
DTEND;TZID=-04:00:20230813T144500
DTSTAMP:20260423T022109
CREATED:20230702T211518Z
LAST-MODIFIED:20230812T183057Z
UID:10000570-1691919000-1691937900@www.vkind.com
SUMMARY:Veggie Biking: DC - Bethesda loop with optional lunch at PLANTA
DESCRIPTION:Join us for another Veggie Bike Ride from Bethesda to DC and back. \nMeeting point: 7106 46th St\, Chevy Chase\, MD 20815\nMeeting time: 9:30am\nRoute (doesn’t reflect the starting location): [Route link](https://www.komoot.com/tour/1190377206?ref=wtd&share_token=aPoyr1dXRFBPEG2WNaFGLlbZ06VL5JA46jvpYuQ4WHpkF5rhBy)\nLength: 24.5 miles\nDifficulty level: strenuous\nElevation change: 550 ft up and 550 ft down\nBike time: ~2.5 hours at moderate pace (~10 mph)\nTotal time: ~5 hours (including stops).\nBiking surface: paved\nRoute type: mostly paved trail\, some roads\nWeather: we will not be riding in rain\, windy (greater than 10mph) or cold (less that 50 F) conditions so stay tuned for Comments on this page. \nFood/Water: Bring your own vegan snacks and (non-alcoholic) beverage to enjoy. Please carry plenty of water! \nPease do not attend if you are sick or have been near someone who thinks they may have or have been exposed to COVID-19. VSDC greatly appreciates your cooperation. \n*For important updates\, regularly monitor the “Comments” section on this page (below).*\n*Don’t be a no show! If your plans change\, update your RSVP.*\nWhen you sign up to join\, you automatically acknowledge\n[VSDC Activity Waiver](https://vsdc.org/activity-waiver/).\n*Please also view and abide by the RULES listed below* \nRULES \n* Pets are not allowed\n* Use of intoxicants such as alcohol\, cigarettes and/or illegal substances is banned during this event.\n* Practice safe biking habits including:\n* Wearing a bike helmet\n* Keeping a safe distance between each other (bikes don’t have brake lights and tailgating can easily result in crashes)\n* Avoid side by side riding unless the road gives us ample opportunity\n* This event is for those who are fully vaccinated only. Also please do not attend if you are sick or have been near someone who thinks they may have or have been exposed to COVID-19. \nIf you comply with the above\, we look forward to seeing you IRL (in real life)! Thanks for your support. \n*** \nVSDC (http://www.vsdc.org) is a clear and consistent voice for improving the lives of all beings through education on the benefits of a vegan diet & lifestyle. Sharing food is the bond that brings families together; so it is with VSDC. From simply “breaking bread” to experiencing delicious and nutritious vegan foods from around the world\, we make your journey easier\, enjoyable & meaningful. \nVSDC. Creating communities. For your health\, the animals\, and the planet.
URL:https://www.vkind.com/vegan-events/veggie-biking-dc-bethesda-loop-with-optional-lunch-at-planta-4/
LOCATION:7106 46th St\, 7106 46th St\, Chevy Chase\, MD\, 20815\, United States
ATTACH;FMTTYPE=image/jpeg:https://www.vkind.com/wp-content/uploads/2023/06/1024x576-cPHw2Q.tmp_.jpg
GEO:38.98095;-77.091324
X-APPLE-STRUCTURED-LOCATION;VALUE=URI;X-ADDRESS=7106 46th St 7106 46th St Chevy Chase MD 20815 United States;X-APPLE-RADIUS=500;X-TITLE=7106 46th St:geo:-77.091324,38.98095
END:VEVENT
BEGIN:VEVENT
DTSTART;TZID=-04:00:20230813T093000
DTEND;TZID=-04:00:20230813T144500
DTSTAMP:20260423T022109
CREATED:20230627T200022Z
LAST-MODIFIED:20230701T210048Z
UID:10000568-1691919000-1691937900@www.vkind.com
SUMMARY:Veggie Biking: DC - Bethesda loop with optional lunch at Planta
DESCRIPTION:Join us for another Veggie Bike Ride from Bethesda to DC and back. \nMeeting point: 7106 46th St\, Chevy Chase\, MD 20815\nMeeting time: 9:30am\, July 9\nRoute (doesn’t reflect the starting location): [Link](https://www.komoot.com/tour/1186268191?ref=avs&share_token=aPI3FzFOWQKHna3LzflXtRfr08cSbQH6deS0Mgp4UQ7sfX7GXt)\nLength: 24.5 miles\nDifficulty level: strenuous\nElevation change: 550 ft up and 550 ft down\nBike time: ~2.5 hours at moderate pace (~10 mph)\nTotal time: ~5 hours (including stops).\nBiking surface: paved\nRoute type: mostly paved trail\, some roads\nWeather: we will not be riding in rain\, windy (greater than 10mph) or cold (less that 50 F) conditions so stay tuned for Comments on this page. \nFood/Water: Bring your own vegan snacks and (non-alcoholic) beverage to enjoy. Please carry plenty of water! \nPease do not attend if you are sick or have been near someone who thinks they may have or have been exposed to COVID-19. VSDC greatly appreciates your cooperation. \n*For important updates\, regularly monitor the “Comments” section on this page (below).*\n*Don’t be a no show! If your plans change\, update your RSVP.*\nWhen you sign up to join\, you automatically acknowledge\n[VSDC Activity Waiver](https://vsdc.org/activity-waiver/).\n*Please also view and abide by the RULES listed below* \nRULES \n* Pets are not allowed\n* Use of intoxicants such as alcohol\, cigarettes and/or illegal substances is banned during this event.\n* Practice safe biking habits including:\n* Wearing a bike helmet\n* Keeping a safe distance between each other (bikes don’t have brake lights and tailgating can easily result in crashes)\n* Avoid side by side riding unless the road gives us ample opportunity\n* This event is for those who are fully vaccinated only. Also please do not attend if you are sick or have been near someone who thinks they may have or have been exposed to COVID-19. \nIf you comply with the above\, we look forward to seeing you IRL (in real life)! Thanks for your support. \n*** \nVSDC (http://www.vsdc.org) is a clear and consistent voice for improving the lives of all beings through education on the benefits of a vegan diet & lifestyle. Sharing food is the bond that brings families together; so it is with VSDC. From simply “breaking bread” to experiencing delicious and nutritious vegan foods from around the world\, we make your journey easier\, enjoyable & meaningful. \nVSDC. Creating communities. For your health\, the animals\, and the planet.
URL:https://www.vkind.com/vegan-events/veggie-biking-dc-bethesda-loop-with-optional-lunch-at-planta-2/
LOCATION:7106 46th St\, 7106 46th St\, Chevy Chase\, MD\, 20815\, United States
ATTACH;FMTTYPE=image/jpeg:https://www.vkind.com/wp-content/uploads/2023/06/1024x576-cPHw2Q.tmp_.jpg
GEO:38.98095;-77.091324
X-APPLE-STRUCTURED-LOCATION;VALUE=URI;X-ADDRESS=7106 46th St 7106 46th St Chevy Chase MD 20815 United States;X-APPLE-RADIUS=500;X-TITLE=7106 46th St:geo:-77.091324,38.98095
END:VEVENT
BEGIN:VEVENT
DTSTART;TZID=-04:00:20230709T093000
DTEND;TZID=-04:00:20230709T144500
DTSTAMP:20260423T022109
CREATED:20230627T200015Z
LAST-MODIFIED:20230708T230011Z
UID:10000567-1688895000-1688913900@www.vkind.com
SUMMARY:Veggie Biking: DC - Bethesda loop with optional lunch at Planta
DESCRIPTION:Join us for another Veggie Bike Ride from Bethesda to DC and back. \nMeeting point: 7106 46th St\, Chevy Chase\, MD 20815\nMeeting time: 9:30am\, July 9\nRoute (doesn’t reflect the starting location): [Link](https://www.komoot.com/tour/1186268191?ref=avs&share_token=aPI3FzFOWQKHna3LzflXtRfr08cSbQH6deS0Mgp4UQ7sfX7GXt)\nLength: 24.5 miles\nDifficulty level: strenuous\nElevation change: 550 ft up and 550 ft down\nBike time: ~2.5 hours at moderate pace (~10 mph)\nTotal time: ~5 hours (including stops).\nBiking surface: paved\nRoute type: mostly paved trail\, some roads\nWeather: we will not be riding in rain\, windy (greater than 10mph) or cold (less that 50 F) conditions so stay tuned for Comments on this page. \nFood/Water: Bring your own vegan snacks and (non-alcoholic) beverage to enjoy. Please carry plenty of water! \nPease do not attend if you are sick or have been near someone who thinks they may have or have been exposed to COVID-19. VSDC greatly appreciates your cooperation. \n*For important updates\, regularly monitor the “Comments” section on this page (below).*\n*Don’t be a no show! If your plans change\, update your RSVP.*\nWhen you sign up to join\, you automatically acknowledge\n[VSDC Activity Waiver](https://vsdc.org/activity-waiver/).\n*Please also view and abide by the RULES listed below* \nRULES \n* Pets are not allowed\n* Use of intoxicants such as alcohol\, cigarettes and/or illegal substances is banned during this event.\n* Practice safe biking habits including:\n* Wearing a bike helmet\n* Keeping a safe distance between each other (bikes don’t have brake lights and tailgating can easily result in crashes)\n* Avoid side by side riding unless the road gives us ample opportunity\n* This event is for those who are fully vaccinated only. Also please do not attend if you are sick or have been near someone who thinks they may have or have been exposed to COVID-19. \nIf you comply with the above\, we look forward to seeing you IRL (in real life)! Thanks for your support. \n*** \nVSDC (http://www.vsdc.org) is a clear and consistent voice for improving the lives of all beings through education on the benefits of a vegan diet & lifestyle. Sharing food is the bond that brings families together; so it is with VSDC. From simply “breaking bread” to experiencing delicious and nutritious vegan foods from around the world\, we make your journey easier\, enjoyable & meaningful. \nVSDC. Creating communities. For your health\, the animals\, and the planet.
URL:https://www.vkind.com/vegan-events/veggie-biking-dc-bethesda-loop-with-optional-lunch-at-planta/
LOCATION:7106 46th St\, 7106 46th St\, Chevy Chase\, MD\, 20815\, United States
ATTACH;FMTTYPE=image/jpeg:https://www.vkind.com/wp-content/uploads/2023/06/1024x576-cPHw2Q.tmp_.jpg
GEO:38.98095;-77.091324
X-APPLE-STRUCTURED-LOCATION;VALUE=URI;X-ADDRESS=7106 46th St 7106 46th St Chevy Chase MD 20815 United States;X-APPLE-RADIUS=500;X-TITLE=7106 46th St:geo:-77.091324,38.98095
END:VEVENT
BEGIN:VEVENT
DTSTART;TZID=-04:00:20230326T110000
DTEND;TZID=-04:00:20230326T143000
DTSTAMP:20260423T022109
CREATED:20230320T145123Z
LAST-MODIFIED:20230326T160451Z
UID:10000479-1679828400-1679841000@www.vkind.com
SUMMARY:Veggie Biking - Bethesda Cherry Blossoms (Take 2)
DESCRIPTION:Please join us for another Cherry Blossom Bike ride from Bethesda to the Tidal Basin (and back)! \nWe will be starting from 7106 46th street parking lot (which is free on weekends) in Bethesda. The Capital Crescent trail is a short ride from the parking lot. On the way to Georgetown\, we will take a detour to explore cherry blossoms in Kenwood.\nAfter the event\, if people are interested in getting lunch\, we can go to Planta. \nMeeting point: [Public car park](https://goo.gl/maps/6oEPcXPbZN7hfS1N8)\nDate: Sunday\, March 26 11:00am\nRoute: [https://goo.gl/maps/SRtGQnaxqfNjLGno6](https://goo.gl/maps/SRtGQnaxqfNjLGno6)\nLength: 21 miles\nDifficulty level: strenuous\nElevation change: 420 ft up & down\nTime: ~2.5 hours at moderate pace\nPace: moderate ~10 mph\nBiking surface: paved\nRoute type: mostly trails\, roads and sidewalks\nPost ride lunch spot: Planta Bethesda \nFood/Water: Bring your own vegan snacks and (non-alcoholic) beverage to enjoy. Please carry plenty of water! \nWeather: we will not be riding in rain or windy conditions so stay tuned for Comments on this page. \n*For important updates\, regularly monitor the “Comments” section on this page (below).*\n*Don’t be a no show! If your plans change\, update your RSVP.* \n*When you sign up to join\, you automatically acknowledge\n[VSDC Activity Liability Waiver](https://vsdc.org/activity-waiver/). \n*Please also view and abide by the RULES listed below*\nRULES \n* Pets are not allowed\n* Use of intoxicants such as alcohol\, cigarettes and/or illegal substances is banned during this event.\n* Practice safe biking habits including:\n* Wearing a bike helmet\n* Keeping a safe distance between each other (bikes don’t have brake lights and tailgating can easily result in crashes)\n* Avoid side by side riding unless the road gives us ample opportunity\n* Please do not attend if you are sick or have been near someone who thinks they may have or have been exposed to COVID-19. \n*** \nVSDC (http://www.vsdc.org) is a clear and consistent voice for improving the lives of all beings through education on the benefits of a vegan diet & lifestyle. Sharing food is the bond that brings families together; so it is with VSDC. From simply “breaking bread” to experiencing delicious and nutritious vegan foods from around the world\, we make your journey easier\, enjoyable & meaningful. \nVSDC. Creating communities. For your health\, the animals\, and the planet.
URL:https://www.vkind.com/vegan-events/veggie-biking-bethesda-cherry-blossoms-take-2/
LOCATION:7106 46th St\, 7106 46th St\, Chevy Chase\, MD\, 20815\, United States
ATTACH;FMTTYPE=image/jpeg:https://www.vkind.com/wp-content/uploads/2022/03/1024x576-yaWhCh.tmp_.jpg
GEO:38.98095;-77.091324
X-APPLE-STRUCTURED-LOCATION;VALUE=URI;X-ADDRESS=7106 46th St 7106 46th St Chevy Chase MD 20815 United States;X-APPLE-RADIUS=500;X-TITLE=7106 46th St:geo:-77.091324,38.98095
END:VEVENT
BEGIN:VEVENT
DTSTART;TZID=-04:00:20230318T093000
DTEND;TZID=-04:00:20230318T123000
DTSTAMP:20260423T022109
CREATED:20230222T112124Z
LAST-MODIFIED:20230318T143506Z
UID:10000447-1679131800-1679142600@www.vkind.com
SUMMARY:Veggie Biking - Bethesda Cherry Blossoms
DESCRIPTION:Please join us for Cherry Blossom Bike ride from Bethesda to Georgetown (and back) with a detour in Bethesda’s Kenwood area to explore the Cherry Blossoms! \nWe will be starting from 7106 46th street parking lot (which is free on weekends) in Bethesda. The Capital Crescent trail is a short ride from the parking lot. On the way to Georgetown\, will take a detour to explore Cherry Blossoms in Kenwood. Going to Georgetown will be a piece of cake (it is downhill). And we will have a piece of vegan cake after we get back to Bethesda. \nMeeting point: [Public car park](https://goo.gl/maps/6oEPcXPbZN7hfS1N8)\nDate: Saturday\, March 18 9:30am\nRoute: [https://goo.gl/maps/SRtGQnaxqfNjLGno6](https://goo.gl/maps/SRtGQnaxqfNjLGno6)\nLength: 17 miles\nDifficulty level: strenuous\nElevation change: 420 ft up & down\nTime: ~3 hours at moderate pace\nPace: moderate ~10 mph\nBiking surface: paved\nRoute type: mostly trails\, roads and sidewalks\nPost ride lunch spot: Planta Bethesda\nAlternate riding day in case of rain: Sunday\, Mar 19 \nFood/Water: Bring your own vegan snacks and (non-alcoholic) beverage to enjoy. Please carry plenty of water! \nWeather: we will not be riding in rain or windy conditions so stay tuned for Comments on this page. \n*For important updates\, regularly monitor the “Comments” section on this page (below).*\n*Don’t be a no show! If your plans change\, update your RSVP.* \n*When you sign up to join\, you automatically acknowledge\n[VSDC Activity Liability Waiver](https://vsdc.org/activity-waiver/). \n*Please also view and abide by the RULES listed below*\nRULES \n* Pets are not allowed\n* Use of intoxicants such as alcohol\, cigarettes and/or illegal substances is banned during this event.\n* Practice safe biking habits including:\n* Wearing a bike helmet\n* Keeping a safe distance between each other (bikes don’t have brake lights and tailgating can easily result in crashes)\n* Avoid side by side riding unless the road gives us ample opportunity\n* Please do not attend if you are sick or have been near someone who thinks they may have or have been exposed to COVID-19. \n*** \nVSDC (http://www.vsdc.org) is a clear and consistent voice for improving the lives of all beings through education on the benefits of a vegan diet & lifestyle. Sharing food is the bond that brings families together; so it is with VSDC. From simply “breaking bread” to experiencing delicious and nutritious vegan foods from around the world\, we make your journey easier\, enjoyable & meaningful. \nVSDC. Creating communities. For your health\, the animals\, and the planet.
URL:https://www.vkind.com/vegan-events/veggie-biking-bethesda-cherry-blossoms/
LOCATION:7106 46th St\, 7106 46th St\, Chevy Chase\, MD\, 20815\, United States
ATTACH;FMTTYPE=image/jpeg:https://www.vkind.com/wp-content/uploads/2022/03/1024x576-yaWhCh.tmp_.jpg
GEO:38.98095;-77.091324
X-APPLE-STRUCTURED-LOCATION;VALUE=URI;X-ADDRESS=7106 46th St 7106 46th St Chevy Chase MD 20815 United States;X-APPLE-RADIUS=500;X-TITLE=7106 46th St:geo:-77.091324,38.98095
END:VEVENT
END:VCALENDAR