BEGIN:VCALENDAR
VERSION:2.0
PRODID:-//Vkind - ECPv6.15.14//NONSGML v1.0//EN
CALSCALE:GREGORIAN
METHOD:PUBLISH
X-ORIGINAL-URL:https://www.vkind.com
X-WR-CALDESC:Events for Vkind
REFRESH-INTERVAL;VALUE=DURATION:PT1H
X-Robots-Tag:noindex
X-PUBLISHED-TTL:PT1H
BEGIN:VTIMEZONE
TZID:-04:00
END:VTIMEZONE
BEGIN:VEVENT
DTSTART;TZID=-04:00:20240509T183000
DTEND;TZID=-04:00:20240509T213000
DTSTAMP:20260424T101046
CREATED:20240501T202109Z
LAST-MODIFIED:20240509T004533Z
UID:10007700-1715279400-1715290200@www.vkind.com
SUMMARY:VSDC @ DC Veg Restaurant Week's Black Indigenous & People of Color (BIPOC) Night
DESCRIPTION:Join VSDC for the Black Indigenous & People of Color (BIPOC) Night of the DC Veg Restaurant Week on Thursday\, May 9\, at Binge Bar in DC. \nVeg-curious or vegan\, join the DC Veg Restaurant Week BIPOC Mixer\, a vibrant gathering celebrating plant-based cuisine and community connection within the Black\, Indigenous\, and People of Color (BIPOC) community. Indulge in delectable vegan dishes from Binge Bar showcasing the diversity and creativity of plant-based cuisine while enjoying their signature non-alcoholic cocktails. \nWHO: All VSDC and Meetup members are invited. Bringing a non-vegan friend is encouraged. \nWHEN: Thursday\, May 9\, starting at 6:30 pm. \nWHERE: [506 H St NE](https://www.google.com/maps/search/506+H+St+NE?entry=gmail&source=g) LL (Lower Level\, Washington\, DC 20002 \n*When you register to join this event\, you automatically acknowledge [VSDC’s Liability Waiver](https://vsdc.org/activity-waiver/)* \nBy coming to this event\, we expect you to follow the code of conduct found at *[Policies – VSDC – Veg Society of DC](https://vsdc.org/policies)* \nVSDC: More Than A Meetup\nWe are so glad to have you as part of The Veg Society of DC Vegan Meetup group\, and we enjoy seeing you at our events. Did you know that [VSDC](https://vsdc.org/) is a nonprofit organization with membership benefits?\nWith VSDC membership\, you will save money at area restaurants and businesses\, attend VSDC member-only events\, and\, most importantly\, support us as a clear and consistent voice for improving the lives of all beings through community building and education centered on the on the benefits of a vegan diet and lifestyle. \nThe membership fee is minimal\, but the impact is significant! [Become a member of VSDC](https://vsdc.org/membership/).
URL:https://www.vkind.com/vegan-events/vsdc-dc-veg-restaurant-weeks-black-indigenous-people-of-color-bipoc-night/
LOCATION:506 H St NE\, 506 H St NE\, Washington\, DC\, 20002\, United States
ATTACH;FMTTYPE=image/jpeg:https://www.vkind.com/wp-content/uploads/2024/05/1024x576-2Ab2By.tmp_.jpg
GEO:38.90043;-76.99911
X-APPLE-STRUCTURED-LOCATION;VALUE=URI;X-ADDRESS=506 H St NE 506 H St NE Washington DC 20002 United States;X-APPLE-RADIUS=500;X-TITLE=506 H St NE:geo:-76.99911,38.90043
END:VEVENT
END:VCALENDAR