BEGIN:VCALENDAR
VERSION:2.0
PRODID:-//Vkind - ECPv6.15.14//NONSGML v1.0//EN
CALSCALE:GREGORIAN
METHOD:PUBLISH
X-WR-CALNAME:Vkind
X-ORIGINAL-URL:https://www.vkind.com
X-WR-CALDESC:Events for Vkind
REFRESH-INTERVAL;VALUE=DURATION:PT1H
X-Robots-Tag:noindex
X-PUBLISHED-TTL:PT1H
BEGIN:VTIMEZONE
TZID:-04:00
END:VTIMEZONE
BEGIN:VEVENT
DTSTART;TZID=-04:00:20240921T163000
DTEND;TZID=-04:00:20240921T210000
DTSTAMP:20260424T033450
CREATED:20240821T084542Z
LAST-MODIFIED:20240920T194048Z
UID:10007774-1726936200-1726952400@www.vkind.com
SUMMARY:VSDC Veg Singles Salsa Night
DESCRIPTION:Come dancing with fellow veg singles! \nWe will meet on the lawn of Georgetown Waterfront Park\, between 33rd Street and Potomac Street\, in NW DC. If you need an address to put in your GPS\, use 3300 Water Street NW. Look for Kathryn in a green VSDC t-shirt. \nPlease arrive at 4:30 so we can all introduce ourselves and get to know who is in our group for the night. This will help later when we are mixed in with the general public at the salsa social – you will be able to recognize who the veg singles are and will know exactly who you want to ask to dance! \nAt 5:00 we will join Dancing on the Waterfront\, a free public event. You can learn more about Dancing on the Waterfront on their [Facebook page.](https://www.facebook.com/Waterfrontd) They start off with a free beginner salsa and bachata lesson\, so you do not need to have any dance experience to join this event! After the lesson\, the DJ plays salsa and bachata music and you are free to dance and chat the night away! \nThe social dance goes until 8:30pm\, but as people get hungry we can head in small groups to Chaia for tacos. It’s a five minute walk from the dance location. Chaia is all vegetarian and has a lot of vegan options. We ask that you please order vegan food as part of any VSDC event. Everyone will pay for their own food directly\, so bring your own payment method. \nI recommended bringing water and wearing comfortable shoes. \nIf It is raining check the comments for an update\, but I believe Dancing on the Waterfront takes place at Pinstripes bowling alley when it rains\, so this event should still happen. \n**About the Veg Singles Group**\nThis group is for vegan and vegan-aspiring adults who do not currently have a romantic partner. People of any sexual orientation may join as long as they are single. Anyone 21 or older is welcome. You do not need to be looking to date\, you can just come socialize with other singles! \n**Update Your RSVP**\nPlease update your RSVP if you can no longer make it. \n**Transportation**\nThe nearest Metro station is Foggy Bottom\, which is a 20 minute walk away. There are several buses that go much closer. If you are driving\, there is a paid parking garage at 3205 Water Street NW. \n**Liability Waiver and Code of Conduct**\nWhen you sign up to attend\, you automatically acknowledge [VSDC’s Liability Waiver](https://vsdc.org/activity-waiver/) and commit to follow the code of conduct found at [Policies – VSDC – Veg Society of DC](https://vsdc.org/policies/). \n**VSDC: More Than A Meetup**\nWe are so glad to have you as part of The Veg Society of DC Vegan Meetup group\, and we enjoy seeing you at our events. Did you know that [VSDC](https://vsdc.org/) is a nonprofit organization with membership benefits? \nWith VSDC membership\, you will save money at area restaurants and businesses\, attend VSDC member-only events\, and\, most importantly\, support us as a clear and consistent voice for improving the lives of all beings through community building and education centered on the benefits of a vegan diet and lifestyle. \nThe VSDC membership fee is minimal\, but the impact is significant! [Become a member of VSDC](https://vsdc.org/membership/). \n**VSDC. Creating communities. For your health\, the animals\, and the planet.**
URL:https://www.vkind.com/vegan-events/vsdc-veg-singles-salsa-night/
LOCATION:3300 Water St NW\, 3300 Water Street Northwest\, Washington\, DC\, 20007\, United States
ATTACH;FMTTYPE=image/jpeg:https://www.vkind.com/wp-content/uploads/2024/08/1024x576-HdxodX.tmp_.jpg
GEO:38.902946;-77.0655
X-APPLE-STRUCTURED-LOCATION;VALUE=URI;X-ADDRESS=3300 Water St NW 3300 Water Street Northwest Washington DC 20007 United States;X-APPLE-RADIUS=500;X-TITLE=3300 Water Street Northwest:geo:-77.0655,38.902946
END:VEVENT
END:VCALENDAR