BEGIN:VCALENDAR
VERSION:2.0
PRODID:-//Vkind - ECPv6.15.14//NONSGML v1.0//EN
CALSCALE:GREGORIAN
METHOD:PUBLISH
X-ORIGINAL-URL:https://www.vkind.com
X-WR-CALDESC:Events for Vkind
REFRESH-INTERVAL;VALUE=DURATION:PT1H
X-Robots-Tag:noindex
X-PUBLISHED-TTL:PT1H
BEGIN:VTIMEZONE
TZID:-05:00
END:VTIMEZONE
BEGIN:VEVENT
DTSTART;TZID=-05:00:20230212T160000
DTEND;TZID=-05:00:20230212T180000
DTSTAMP:20260424T015422
CREATED:20230207T092031Z
LAST-MODIFIED:20230212T102007Z
UID:10000433-1676217600-1676224800@www.vkind.com
SUMMARY:VSDC African American Networking Group (AANG) Black History Meal: Nu Vegan\, DC
DESCRIPTION:Please join us for a meal at the popular Black Owned Nu Vegan Restaurant in DC 2928 *Georgia Avenue* Washington\, *D.C.* 20001. Each person will pay for their own meal. \nPlease note that there is no outdoor dining at this venue and that this is an indoor event. \nDon’t be a no show! If your plans change\, please update your RSVP. \nWhen you sign up to join\, you automatically acknowledge [VSDC’s Liability Waiver](https://vsdc.org/activity-waiver/) \nBy coming to this event\, we expect you to follow the code of conduct found at [Policies – VSDC – Veg Society of DC](https://vsdc.org/policies/) \n*** \nVSDC (http://www.vsdc.org) is a clear and consistent voice for improving the lives of all beings through education on the benefits of a vegan diet & lifestyle. Sharing food is the bond that brings families together; so it is with VSDC. From simply “breaking bread” to experiencing delicious and nutritious vegan foods from around the world\, we make your journey easier\, enjoyable & meaningful. \n**VSDC. Creating communities. For your health\, the animals\, and the planet.**
URL:https://www.vkind.com/vegan-events/vsdc-african-american-networking-group-aang-black-history-meal-nu-vegan-dc/
LOCATION:2928 Georgia Ave NW\, 2928 Georgia Ave NW\, Washington\, DC\, 20001\, us
ATTACH;FMTTYPE=image/jpeg:https://www.vkind.com/wp-content/uploads/2023/02/1024x576-ShKW5n.tmp_.jpg
GEO:38.927826;-77.02341
X-APPLE-STRUCTURED-LOCATION;VALUE=URI;X-ADDRESS=2928 Georgia Ave NW 2928 Georgia Ave NW Washington DC 20001 us;X-APPLE-RADIUS=500;X-TITLE=2928 Georgia Ave NW:geo:-77.02341,38.927826
END:VEVENT
END:VCALENDAR