BEGIN:VCALENDAR
VERSION:2.0
PRODID:-//Vkind - ECPv6.15.14//NONSGML v1.0//EN
CALSCALE:GREGORIAN
METHOD:PUBLISH
X-ORIGINAL-URL:https://www.vkind.com
X-WR-CALDESC:Events for Vkind
REFRESH-INTERVAL;VALUE=DURATION:PT1H
X-Robots-Tag:noindex
X-PUBLISHED-TTL:PT1H
BEGIN:VTIMEZONE
TZID:-05:00
END:VTIMEZONE
BEGIN:VTIMEZONE
TZID:-04:00
END:VTIMEZONE
BEGIN:VEVENT
DTSTART;TZID=-05:00:20231119T163000
DTEND;TZID=-05:00:20231119T183000
DTSTAMP:20260424T101230
CREATED:20231104T183033Z
LAST-MODIFIED:20231119T013533Z
UID:10007577-1700411400-1700418600@www.vkind.com
SUMMARY:VSDC Restaurant Visit: Sunflower Restaurant\, Vienna\, VA
DESCRIPTION:Please join us for an all plant-based meal at the always popular Sunflower Vegetarian Restaurant in Vienna\, VA. We’ve made a reservation for 20 attendees\, so don’t delay in RSVPing as this will fill up. You can preview Sunflower’s menu here: https://www.crystalsunflower.com/menu \nParking is available in the restaurant’s lot and the Vienna Metro station is 1.6 miles away. Rides may be available from attendees with cars so please communicate needs/availability in the comments below. \nPlease note that there is no outdoor dining at this venue and that this is an indoor event. \nIn an effort to reduce no shows for space-limited events\, we are now tracking those who fail to show up and do not change their RSVP beforehand. After three strikes you’re out – meaning that you will not be able to attend future space-limited VSDC events. It is unfair to those on the waitlist and to the restaurant when there are no-shows. \nWhen you sign up to join\, you automatically acknowledge [VSDC’s Liability Waiver](https://vsdc.org/activity-waiver/) \nBy coming to this event\, we expect you to follow the code of conduct found at [Policies – VSDC – Veg Society of DC](https://vsdc.org/policies/) \n*** \nVSDC (http://www.vsdc.org) is a clear and consistent voice for improving the lives of all beings through education on the benefits of a vegan diet & lifestyle. Sharing food is the bond that brings families together; so it is with VSDC. From simply “breaking bread” to experiencing delicious and nutritious vegan foods from around the world\, we make your journey easier\, enjoyable & meaningful. \n**VSDC. Creating communities. For your health\, the animals\, and the planet.**
URL:https://www.vkind.com/vegan-events/vsdc-restaurant-visit-sunflower-restaurant-vienna-va/
LOCATION:2531 Chain Bridge Rd\, 2531 Chain Bridge Rd\, Vienna\, VA\, 22181\, United States
ATTACH;FMTTYPE=image/jpeg:https://www.vkind.com/wp-content/uploads/2022/05/1024x576-Evmd6S.tmp_.jpg
GEO:38.893074;-77.27542
X-APPLE-STRUCTURED-LOCATION;VALUE=URI;X-ADDRESS=2531 Chain Bridge Rd 2531 Chain Bridge Rd Vienna VA 22181 United States;X-APPLE-RADIUS=500;X-TITLE=2531 Chain Bridge Rd:geo:-77.27542,38.893074
END:VEVENT
BEGIN:VEVENT
DTSTART;TZID=-04:00:20231022T163000
DTEND;TZID=-04:00:20231022T183000
DTSTAMP:20260424T101230
CREATED:20230911T140605Z
LAST-MODIFIED:20231022T123017Z
UID:10007544-1697992200-1697999400@www.vkind.com
SUMMARY:VSDC Restaurant Visit: Sunflower Restaurant\, Vienna\, VA
DESCRIPTION:Please join us for an all plant-based meal at the always popular Sunflower Vegetarian Restaurant in Vienna\, VA. We’ve made a reservation for 20 attendees\, so don’t delay in RSVPing as this will fill up. You can preview Sunflower’s menu here: https://www.crystalsunflower.com/menu \nParking is available in the restaurant’s lot and the Vienna Metro station is 1.6 miles away. Rides may be available from attendees with cars so please communicate needs/availability in the comments below. \nPlease note that there is no outdoor dining at this venue and that this is an indoor event. \nIn an effort to reduce no shows for space-limited events\, we are now tracking those who fail to show up and do not change their RSVP beforehand. After three strikes you’re out – meaning that you will not be able to attend future space-limited VSDC events. It is unfair to those on the waitlist and to the restaurant when there are no-shows. \nWhen you sign up to join\, you automatically acknowledge [VSDC’s Liability Waiver](https://vsdc.org/activity-waiver/) \nBy coming to this event\, we expect you to follow the code of conduct found at [Policies – VSDC – Veg Society of DC](https://vsdc.org/policies/) \n*** \nVSDC (http://www.vsdc.org) is a clear and consistent voice for improving the lives of all beings through education on the benefits of a vegan diet & lifestyle. Sharing food is the bond that brings families together; so it is with VSDC. From simply “breaking bread” to experiencing delicious and nutritious vegan foods from around the world\, we make your journey easier\, enjoyable & meaningful. \n**VSDC. Creating communities. For your health\, the animals\, and the planet.**
URL:https://www.vkind.com/vegan-events/vsdc-restaurant-visit-sunflower-vegetarian-restaurant-vienna-va-9/
LOCATION:2531 Chain Bridge Rd\, 2531 Chain Bridge Rd\, Vienna\, VA\, 22181\, United States
ATTACH;FMTTYPE=image/jpeg:https://www.vkind.com/wp-content/uploads/2022/05/1024x576-Evmd6S.tmp_.jpg
GEO:38.893074;-77.27542
X-APPLE-STRUCTURED-LOCATION;VALUE=URI;X-ADDRESS=2531 Chain Bridge Rd 2531 Chain Bridge Rd Vienna VA 22181 United States;X-APPLE-RADIUS=500;X-TITLE=2531 Chain Bridge Rd:geo:-77.27542,38.893074
END:VEVENT
BEGIN:VEVENT
DTSTART;TZID=-04:00:20230917T163000
DTEND;TZID=-04:00:20230917T183000
DTSTAMP:20260424T101230
CREATED:20230911T135027Z
LAST-MODIFIED:20230917T175034Z
UID:10007541-1694968200-1694975400@www.vkind.com
SUMMARY:VSDC Restaurant Visit: Sunflower Vegetarian Restaurant\, Vienna\, VA
DESCRIPTION:Please join us for an all plant-based meal at the always popular Sunflower Vegetarian Restaurant in Vienna\, VA. We’ve made a reservation for 20 attendees\, so don’t delay in RSVPing as this will fill up. You can preview Sunflower’s menu here: https://www.crystalsunflower.com/menu \nParking is available in the restaurant’s lot and the Vienna Metro station is 1.6 miles away. Rides may be available from attendees with cars so please communicate needs/availability in the comments below. \nPlease note that there is no outdoor dining at this venue and that this is an indoor event. \nIn an effort to reduce no shows for space-limited events\, we are now tracking those who fail to show up and do not change their RSVP beforehand. After three strikes you’re out – meaning that you will not be able to attend future space-limited VSDC events. It is unfair to those on the waitlist and to the restaurant when there are no-shows. \nWhen you sign up to join\, you automatically acknowledge [VSDC’s Liability Waiver](https://vsdc.org/activity-waiver/) \nBy coming to this event\, we expect you to follow the code of conduct found at [Policies – VSDC – Veg Society of DC](https://vsdc.org/policies/) \n*** \nVSDC (http://www.vsdc.org) is a clear and consistent voice for improving the lives of all beings through education on the benefits of a vegan diet & lifestyle. Sharing food is the bond that brings families together; so it is with VSDC. From simply “breaking bread” to experiencing delicious and nutritious vegan foods from around the world\, we make your journey easier\, enjoyable & meaningful. \n**VSDC. Creating communities. For your health\, the animals\, and the planet.**
URL:https://www.vkind.com/vegan-events/vsdc-restaurant-visit-sunflower-vegetarian-restaurant-vienna-va-8/
LOCATION:2531 Chain Bridge Rd\, 2531 Chain Bridge Rd\, Vienna\, VA\, 22181\, United States
ATTACH;FMTTYPE=image/jpeg:https://www.vkind.com/wp-content/uploads/2022/05/1024x576-Evmd6S.tmp_.jpg
GEO:38.893074;-77.27542
X-APPLE-STRUCTURED-LOCATION;VALUE=URI;X-ADDRESS=2531 Chain Bridge Rd 2531 Chain Bridge Rd Vienna VA 22181 United States;X-APPLE-RADIUS=500;X-TITLE=2531 Chain Bridge Rd:geo:-77.27542,38.893074
END:VEVENT
BEGIN:VEVENT
DTSTART;TZID=-04:00:20230827T163000
DTEND;TZID=-04:00:20230827T183000
DTSTAMP:20260424T101231
CREATED:20230803T123103Z
LAST-MODIFIED:20230827T064545Z
UID:10007487-1693153800-1693161000@www.vkind.com
SUMMARY:VSDC Restaurant Visit: Sunflower Vegetarian Restaurant\, Vienna\, VA
DESCRIPTION:Please join us for an all plant-based meal at the always popular Sunflower Vegetarian Restaurant in Vienna\, VA. We’ve made a reservation for 20 attendees\, so don’t delay in RSVPing as this will fill up. You can preview Sunflower’s menu here: https://www.crystalsunflower.com/menu \nParking is available in the restaurant’s lot and the Vienna Metro station is 1.6 miles away. Rides may be available from attendees with cars so please communicate needs/availability in the comments below. \nPlease note that there is no outdoor dining at this venue and that this is an indoor event. \nIn an effort to reduce no shows for space-limited events\, we are now tracking those who fail to show up and do not change their RSVP beforehand. After three strikes you’re out – meaning that you will not be able to attend future space-limited VSDC events. It is unfair to those on the waitlist and to the restaurant when there are no-shows. \nWhen you sign up to join\, you automatically acknowledge [VSDC’s Liability Waiver](https://vsdc.org/activity-waiver/) \nBy coming to this event\, we expect you to follow the code of conduct found at [Policies – VSDC – Veg Society of DC](https://vsdc.org/policies/) \n*** \nVSDC (http://www.vsdc.org) is a clear and consistent voice for improving the lives of all beings through education on the benefits of a vegan diet & lifestyle. Sharing food is the bond that brings families together; so it is with VSDC. From simply “breaking bread” to experiencing delicious and nutritious vegan foods from around the world\, we make your journey easier\, enjoyable & meaningful. \n**VSDC. Creating communities. For your health\, the animals\, and the planet.**
URL:https://www.vkind.com/vegan-events/vsdc-restaurant-visit-sunflower-vegetarian-restaurant-vienna-va-7/
LOCATION:2531 Chain Bridge Rd\, 2531 Chain Bridge Rd\, Vienna\, VA\, 22181\, United States
ATTACH;FMTTYPE=image/jpeg:https://www.vkind.com/wp-content/uploads/2022/05/1024x576-Evmd6S.tmp_.jpg
GEO:38.893074;-77.27542
X-APPLE-STRUCTURED-LOCATION;VALUE=URI;X-ADDRESS=2531 Chain Bridge Rd 2531 Chain Bridge Rd Vienna VA 22181 United States;X-APPLE-RADIUS=500;X-TITLE=2531 Chain Bridge Rd:geo:-77.27542,38.893074
END:VEVENT
BEGIN:VEVENT
DTSTART;TZID=-04:00:20230723T163000
DTEND;TZID=-04:00:20230723T183000
DTSTAMP:20260424T101231
CREATED:20230709T231531Z
LAST-MODIFIED:20230723T055105Z
UID:10000575-1690129800-1690137000@www.vkind.com
SUMMARY:VSDC Restaurant Visit: Sunflower Vegetarian Restaurant\, Vienna\, VA
DESCRIPTION:Please join us for an all plant-based meal at the always popular Sunflower Vegetarian Restaurant in Vienna\, VA. We’ve made a reservation for 20 attendees\, so don’t delay in RSVPing as this will fill up. You can preview Sunflower’s menu here: https://www.crystalsunflower.com/menu \nParking is available in the restaurant’s lot and the Vienna Metro station is 1.6 miles away. Rides may be available from attendees with cars so please communicate needs/availability in the comments below. \nPlease note that there is no outdoor dining at this venue and that this is an indoor event. \nIn an effort to reduce no shows for space-limited events\, we are now tracking those who fail to show up and do not change their RSVP beforehand. After three strikes you’re out – meaning that you will not be able to attend future space-limited VSDC events. It is unfair to those on the waitlist and to the restaurant when there are no-shows. \nWhen you sign up to join\, you automatically acknowledge [VSDC’s Liability Waiver](https://vsdc.org/activity-waiver/) \nBy coming to this event\, we expect you to follow the code of conduct found at [Policies – VSDC – Veg Society of DC](https://vsdc.org/policies/) \n*** \nVSDC (http://www.vsdc.org) is a clear and consistent voice for improving the lives of all beings through education on the benefits of a vegan diet & lifestyle. Sharing food is the bond that brings families together; so it is with VSDC. From simply “breaking bread” to experiencing delicious and nutritious vegan foods from around the world\, we make your journey easier\, enjoyable & meaningful. \n**VSDC. Creating communities. For your health\, the animals\, and the planet.**
URL:https://www.vkind.com/vegan-events/vsdc-restaurant-visit-sunflower-vegetarian-restaurant-vienna-va-6/
LOCATION:2531 Chain Bridge Rd\, 2531 Chain Bridge Rd\, Vienna\, VA\, 22181\, United States
ATTACH;FMTTYPE=image/jpeg:https://www.vkind.com/wp-content/uploads/2022/05/1024x576-Evmd6S.tmp_.jpg
GEO:38.893074;-77.27542
X-APPLE-STRUCTURED-LOCATION;VALUE=URI;X-ADDRESS=2531 Chain Bridge Rd 2531 Chain Bridge Rd Vienna VA 22181 United States;X-APPLE-RADIUS=500;X-TITLE=2531 Chain Bridge Rd:geo:-77.27542,38.893074
END:VEVENT
BEGIN:VEVENT
DTSTART;TZID=-04:00:20230625T163000
DTEND;TZID=-04:00:20230625T183000
DTSTAMP:20260424T101231
CREATED:20230530T210556Z
LAST-MODIFIED:20230625T193014Z
UID:10000530-1687710600-1687717800@www.vkind.com
SUMMARY:VSDC Restaurant Visit: Sunflower Vegetarian Restaurant\, Vienna\, VA
DESCRIPTION:Please join us for an all plant-based meal at the always popular Sunflower Vegetarian Restaurant in Vienna\, VA. We’ve made a reservation for 20 attendees\, so don’t delay in RSVPing as this will fill up. You can preview Sunflower’s menu here: https://www.crystalsunflower.com/menu \nParking is available in the restaurant’s lot and the Vienna Metro station is 1.6 miles away. Rides may be available from attendees with cars so please communicate needs/availability in the comments below. \nPlease note that there is no outdoor dining at this venue and that this is an indoor event. \nIn an effort to reduce no shows for space-limited events\, we are now tracking those who fail to show up and do not change their RSVP beforehand. After three strikes you’re out – meaning that you will not be able to attend future space-limited VSDC events. It is unfair to those on the waitlist and to the restaurant when there are no-shows. \nWhen you sign up to join\, you automatically acknowledge [VSDC’s Liability Waiver](https://vsdc.org/activity-waiver/) \nBy coming to this event\, we expect you to follow the code of conduct found at [Policies – VSDC – Veg Society of DC](https://vsdc.org/policies/) \n*** \nVSDC (http://www.vsdc.org) is a clear and consistent voice for improving the lives of all beings through education on the benefits of a vegan diet & lifestyle. Sharing food is the bond that brings families together; so it is with VSDC. From simply “breaking bread” to experiencing delicious and nutritious vegan foods from around the world\, we make your journey easier\, enjoyable & meaningful. \n**VSDC. Creating communities. For your health\, the animals\, and the planet.**
URL:https://www.vkind.com/vegan-events/vsdc-restaurant-visit-sunflower-vegetarian-restaurant-vienna-va-5/
LOCATION:2531 Chain Bridge Rd\, 2531 Chain Bridge Rd\, Vienna\, VA\, 22181\, United States
ATTACH;FMTTYPE=image/jpeg:https://www.vkind.com/wp-content/uploads/2022/05/1024x576-Evmd6S.tmp_.jpg
GEO:38.893074;-77.27542
X-APPLE-STRUCTURED-LOCATION;VALUE=URI;X-ADDRESS=2531 Chain Bridge Rd 2531 Chain Bridge Rd Vienna VA 22181 United States;X-APPLE-RADIUS=500;X-TITLE=2531 Chain Bridge Rd:geo:-77.27542,38.893074
END:VEVENT
BEGIN:VEVENT
DTSTART;TZID=-04:00:20230521T163000
DTEND;TZID=-04:00:20230521T183000
DTSTAMP:20260424T101231
CREATED:20230509T200527Z
LAST-MODIFIED:20230521T203554Z
UID:10000507-1684686600-1684693800@www.vkind.com
SUMMARY:VSDC Restaurant Visit: Sunflower Vegetarian Restaurant\, Vienna\, VA
DESCRIPTION:Please join us for an all plant-based meal at the always popular Sunflower Vegetarian Restaurant in Vienna\, VA. We’ve made a reservation for 20 attendees\, so don’t delay in RSVPing as this will fill up. You can preview Sunflower’s menu here: https://www.crystalsunflower.com/menu \nParking is available in the restaurant’s lot and the Vienna Metro station is 1.6 miles away. Rides may be available from attendees with cars so please communicate needs/availability in the comments below. \nPlease note that there is no outdoor dining at this venue and that this is an indoor event. \nIn an effort to reduce no shows for space-limited events\, we are now tracking those who fail to show up and do not change their RSVP beforehand. After three strikes you’re out – meaning that you will not be able to attend future space-limited VSDC events. It is unfair to those on the waitlist and to the restaurant when there are no-shows. \nWhen you sign up to join\, you automatically acknowledge [VSDC’s Liability Waiver](https://vsdc.org/activity-waiver/) \nBy coming to this event\, we expect you to follow the code of conduct found at [Policies – VSDC – Veg Society of DC](https://vsdc.org/policies/) \n*** \nVSDC (http://www.vsdc.org) is a clear and consistent voice for improving the lives of all beings through education on the benefits of a vegan diet & lifestyle. Sharing food is the bond that brings families together; so it is with VSDC. From simply “breaking bread” to experiencing delicious and nutritious vegan foods from around the world\, we make your journey easier\, enjoyable & meaningful. \n**VSDC. Creating communities. For your health\, the animals\, and the planet.**
URL:https://www.vkind.com/vegan-events/vsdc-restaurant-visit-sunflower-vegetarian-restaurant-vienna-va-4/
LOCATION:2531 Chain Bridge Rd\, 2531 Chain Bridge Rd\, Vienna\, VA\, 22181\, United States
ATTACH;FMTTYPE=image/jpeg:https://www.vkind.com/wp-content/uploads/2022/05/1024x576-Evmd6S.tmp_.jpg
GEO:38.893074;-77.27542
X-APPLE-STRUCTURED-LOCATION;VALUE=URI;X-ADDRESS=2531 Chain Bridge Rd 2531 Chain Bridge Rd Vienna VA 22181 United States;X-APPLE-RADIUS=500;X-TITLE=2531 Chain Bridge Rd:geo:-77.27542,38.893074
END:VEVENT
BEGIN:VEVENT
DTSTART;TZID=-04:00:20230430T163000
DTEND;TZID=-04:00:20230430T183000
DTSTAMP:20260424T101231
CREATED:20230419T185025Z
LAST-MODIFIED:20230430T193514Z
UID:10000501-1682872200-1682879400@www.vkind.com
SUMMARY:VSDC Restaurant Visit: Sunflower Vegetarian Restaurant\, Vienna\, VA
DESCRIPTION:Please join us for an all plant-based meal at the always popular Sunflower Vegetarian Restaurant in Vienna\, VA. We’ve made a reservation for 20 attendees\, so don’t delay in RSVPing as this will fill up. You can preview Sunflower’s menu here: https://www.crystalsunflower.com/menu \nParking is available in the restaurant’s lot and the Vienna Metro station is 1.6 miles away. Rides may be available from attendees with cars so please communicate needs/availability in the comments below. \nPlease note that there is no outdoor dining at this venue and that this is an indoor event. \nIn an effort to reduce no shows for space-limited events\, we are now tracking those who fail to show up and do not change their RSVP beforehand. After three strikes you’re out – meaning that you will not be able to attend future space-limited VSDC events. It is unfair to those on the waitlist and to the restaurant when there are no-shows. \nWhen you sign up to join\, you automatically acknowledge [VSDC’s Liability Waiver](https://vsdc.org/activity-waiver/) \nBy coming to this event\, we expect you to follow the code of conduct found at [Policies – VSDC – Veg Society of DC](https://vsdc.org/policies/) \n*** \nVSDC (http://www.vsdc.org) is a clear and consistent voice for improving the lives of all beings through education on the benefits of a vegan diet & lifestyle. Sharing food is the bond that brings families together; so it is with VSDC. From simply “breaking bread” to experiencing delicious and nutritious vegan foods from around the world\, we make your journey easier\, enjoyable & meaningful. \n**VSDC. Creating communities. For your health\, the animals\, and the planet.**
URL:https://www.vkind.com/vegan-events/vsdc-restaurant-visit-sunflower-vegetarian-restaurant-vienna-va-3/
LOCATION:2531 Chain Bridge Rd\, 2531 Chain Bridge Rd\, Vienna\, VA\, 22181\, United States
ATTACH;FMTTYPE=image/jpeg:https://www.vkind.com/wp-content/uploads/2022/05/1024x576-Evmd6S.tmp_.jpg
GEO:38.893074;-77.27542
X-APPLE-STRUCTURED-LOCATION;VALUE=URI;X-ADDRESS=2531 Chain Bridge Rd 2531 Chain Bridge Rd Vienna VA 22181 United States;X-APPLE-RADIUS=500;X-TITLE=2531 Chain Bridge Rd:geo:-77.27542,38.893074
END:VEVENT
BEGIN:VEVENT
DTSTART;TZID=-04:00:20230402T163000
DTEND;TZID=-04:00:20230402T183000
DTSTAMP:20260424T101231
CREATED:20230319T143552Z
LAST-MODIFIED:20230402T172010Z
UID:10000478-1680453000-1680460200@www.vkind.com
SUMMARY:VSDC Restaurant Visit: Sunflower Vegetarian Restaurant\, Vienna\, VA
DESCRIPTION:Please join us for an all plant-based meal at the always popular Sunflower Vegetarian Restaurant in Vienna\, VA. We’ve made a reservation for 16 attendees\, so don’t delay in RSVPing as this will fill up. You can preview Sunflower’s menu here: https://www.crystalsunflower.com/menu \nParking is available in the restaurant’s lot and the Vienna Metro station is 1.6 miles away. Rides may be available from attendees with cars so please communicate needs/availability in the comments below. \nPlease note that there is no outdoor dining at this venue and that this is an indoor event. \nIn an effort to reduce no shows for space-limited events\, we are now tracking those who fail to show up and do not change their RSVP beforehand. After three strikes you’re out – meaning that you will not be able to attend future space-limited VSDC events. It is unfair to those on the waitlist and to the restaurant when there are no-shows. \nWhen you sign up to join\, you automatically acknowledge [VSDC’s Liability Waiver](https://vsdc.org/activity-waiver/) \nBy coming to this event\, we expect you to follow the code of conduct found at [Policies – VSDC – Veg Society of DC](https://vsdc.org/policies/) \n*** \nVSDC (http://www.vsdc.org) is a clear and consistent voice for improving the lives of all beings through education on the benefits of a vegan diet & lifestyle. Sharing food is the bond that brings families together; so it is with VSDC. From simply “breaking bread” to experiencing delicious and nutritious vegan foods from around the world\, we make your journey easier\, enjoyable & meaningful. \n**VSDC. Creating communities. For your health\, the animals\, and the planet.**
URL:https://www.vkind.com/vegan-events/vsdc-restaurant-visit-sunflower-vegetarian-restaurant-vienna-va-2/
LOCATION:2531 Chain Bridge Rd\, 2531 Chain Bridge Rd\, Vienna\, VA\, 22181\, United States
ATTACH;FMTTYPE=image/jpeg:https://www.vkind.com/wp-content/uploads/2022/05/1024x576-Evmd6S.tmp_.jpg
GEO:38.893074;-77.27542
X-APPLE-STRUCTURED-LOCATION;VALUE=URI;X-ADDRESS=2531 Chain Bridge Rd 2531 Chain Bridge Rd Vienna VA 22181 United States;X-APPLE-RADIUS=500;X-TITLE=2531 Chain Bridge Rd:geo:-77.27542,38.893074
END:VEVENT
BEGIN:VEVENT
DTSTART;TZID=-05:00:20230129T163000
DTEND;TZID=-05:00:20230129T183000
DTSTAMP:20260424T101231
CREATED:20230117T052036Z
LAST-MODIFIED:20230129T085152Z
UID:10000423-1675009800-1675017000@www.vkind.com
SUMMARY:VSDC Restaurant Visit: Sunflower Vegetarian Restaurant\, Vienna\, VA
DESCRIPTION:Please join us for an all plant-based meal at the always popular Sunflower Vegetarian Restaurant in Vienna\, VA. We’ve made a reservation for 12 attendees\, so don’t delay in RSVPing as this will fill up. You can preview Sunflower’s menu here: https://www.crystalsunflower.com/menu \nParking is available in the restaurant’s lot and the Vienna Metro station is 1.6 miles away. Rides may be available from attendees with cars so please communicate needs/availability in the comments below. \nPlease note that there is no outdoor dining at this venue and that this is an indoor event. \nDon’t be a no show! If your plans change\, update your RSVP. \nWhen you sign up to join\, you automatically acknowledge [VSDC’s Liability Waiver](https://vsdc.org/activity-waiver/) \nBy coming to this event\, we expect you to follow the code of conduct found at [Policies – VSDC – Veg Society of DC](https://vsdc.org/policies/) \n*** \nVSDC (http://www.vsdc.org) is a clear and consistent voice for improving the lives of all beings through education on the benefits of a vegan diet & lifestyle. Sharing food is the bond that brings families together; so it is with VSDC. From simply “breaking bread” to experiencing delicious and nutritious vegan foods from around the world\, we make your journey easier\, enjoyable & meaningful. \n**VSDC. Creating communities. For your health\, the animals\, and the planet.**
URL:https://www.vkind.com/vegan-events/vsdc-restaurant-visit-sunflower-vegetarian-restaurant-vienna-va/
LOCATION:2531 Chain Bridge Rd\, 2531 Chain Bridge Rd\, Vienna\, VA\, 22181\, United States
ATTACH;FMTTYPE=image/jpeg:https://www.vkind.com/wp-content/uploads/2022/05/1024x576-Evmd6S.tmp_.jpg
GEO:38.893074;-77.27542
X-APPLE-STRUCTURED-LOCATION;VALUE=URI;X-ADDRESS=2531 Chain Bridge Rd 2531 Chain Bridge Rd Vienna VA 22181 United States;X-APPLE-RADIUS=500;X-TITLE=2531 Chain Bridge Rd:geo:-77.27542,38.893074
END:VEVENT
END:VCALENDAR