BEGIN:VCALENDAR
VERSION:2.0
PRODID:-//Vkind - ECPv6.15.14//NONSGML v1.0//EN
CALSCALE:GREGORIAN
METHOD:PUBLISH
X-ORIGINAL-URL:https://www.vkind.com
X-WR-CALDESC:Events for Vkind
REFRESH-INTERVAL;VALUE=DURATION:PT1H
X-Robots-Tag:noindex
X-PUBLISHED-TTL:PT1H
BEGIN:VTIMEZONE
TZID:-04:00
END:VTIMEZONE
BEGIN:VTIMEZONE
TZID:-05:00
END:VTIMEZONE
BEGIN:VEVENT
DTSTART;TZID=-04:00:20240928T150000
DTEND;TZID=-04:00:20240928T183000
DTSTAMP:20260423T071859
CREATED:20240918T190019Z
LAST-MODIFIED:20240922T204604Z
UID:10007796-1727535600-1727548200@www.vkind.com
SUMMARY:VSDC at DC Sing-Along & DC Vegan
DESCRIPTION:Come and sing your heart out with the [Veg Society of DC](https://vsdc.org/) at a fun [hootenanny](https://www.merriam-webster.com/dictionary/hootenanny) led by [ ](https://www.dcsingalong.com/)[DC Sing-Along](https://www.dcsingalong.com/events-1/d.c.-sing-along-at-workshop-house-ii) at [Workshop House ](https://www.workshop.house/)at 1717 15th Street! And….afterwards\, we’ll visit VSDC *[GreenRewards discount](https://vsdc.org/places/dc-vegan-deli-and-botanical-bar/) partner [DC Vegan Deli ](https://www.dc-vegan.com/deli)which is only a 10 minute walk away at 1633 P Street\, NW. \n**Space is limited** for this event which will likely be very popular because the **Washington Post** will be doing a story on the Sing-Alongs and there will be a WaPo reporter and photographer at the Sing-Along. \nThe sing-along is free but a donation to [DC Sing-Along](https://www.dcsingalong.com/) to show appreciation and cover expenses (like your own personal kazoo) would be greatly appreciated. \nSince this event has limited space\, **please only RSVP if you plan to attend both the Sing-Along and dinner at DC Vegan afterwards.** We need to have an accurate head count for the Sing-Along and for DC Vegan\, so please update your RSVP if you plans change and please do so in plenty of time **so that someone else can take you place.** (In other words\, **NOT at the last minute.**) \nPlease [read ](https://www.dcsingalong.com/)the details of how the Sing-Along works\, but here’s a short summary: \n*Bring your voice (musical ability is NOT required)\n*Bring an acoustic instrument if you have one (chords will be provided)\n*Call out your favorite song\n*Bring the kids too (as long as you’re ok with a smidge of profanity) \nSpace is limited\, so please change your RSVP in a **timely fashion** if your plans change. \n* Saturday September 28\, 3:00-5:00pm\n* [Workshop House:](https://www.workshop.house/) 1717 15th St. NW\, Washington DC 20009\n* Metro: It’s a 0.5-mile walk from the U Street Metro station (Green/Yellow lines)\, or a 0.7-mile walk from the Dupont Circle Metro station (Red line).\n* Parking: There is parking on surrounding neighborhood streets\, but it may be limited. Check parking signs to make sure you can park without a neighborhood permit.\n* When the Sing-Along is over\, we will walk to [DC Vegan](https://www.dc-vegan.com/dc-vegan-delicatessen) at 1633 P Street NW\, Washington DC 20036 \n* [GreenRewards](https://vsdc.org/places/) is discount program at participating area businesses for dues-paying VSDC members. If you’re not already a member\, you can join VSDC [here.](https://vsdc.org/membership/) Be sure to bring your VSDC membership card or an image of it. Your membership card can also be accessed and printed from the [member log-in ](https://vsdc.org/login/#myaccount)section of the VSDC website. \n**VSDC: More Than A Meetup**\nWe are so glad to have you as part of T[he Veg Society of DC](https://vsdc.org/) Vegan Meetup group\, and we enjoy seeing you at our events. Did you know that [VSDC](https://vsdc.org/) is a nonprofit organization with membership benefits? \nWith VSDC membership\, you will save money at area restaurants and businesses\, attend VSDC member-only events\, and\, most importantly\, support us as a clear and consistent voice for improving the lives of all beings through community building and education centered on the benefits of a vegan diet and lifestyle. \nThe membership fee is minimal\, but the impact is significant! [Become a member of VSDC](https://vsdc.org/membership/). \n**Liability Waiver and Code of Conduct**\nWhen you sign up to attend\, you automatically acknowledge [VSDC’s Liability Waiver](https://vsdc.org/activity-waiver/) and commit to follow the code of conduct found at [Policies – VSDC – Veg Society of DC](https://vsdc.org/policies/). \n**VSDC. Creating communities. For your health\, the animals\, and the planet.**
URL:https://www.vkind.com/vegan-events/vsdc-at-dc-sing-along-dc-vegan/
LOCATION:1717 15th St NW\, 1717 15th St NW\, Washington\, DC\, 20009\, United States
ATTACH;FMTTYPE=image/jpeg:https://www.vkind.com/wp-content/uploads/2024/02/1024x576-gv6f6a.tmp_.jpg
GEO:38.913647;-77.034325
X-APPLE-STRUCTURED-LOCATION;VALUE=URI;X-ADDRESS=1717 15th St NW 1717 15th St NW Washington DC 20009 United States;X-APPLE-RADIUS=500;X-TITLE=1717 15th St NW:geo:-77.034325,38.913647
END:VEVENT
BEGIN:VEVENT
DTSTART;TZID=-04:00:20240622T163000
DTEND;TZID=-04:00:20240622T200000
DTSTAMP:20260423T071859
CREATED:20240511T015025Z
LAST-MODIFIED:20240617T192018Z
UID:10007706-1719073800-1719086400@www.vkind.com
SUMMARY:Join VSDC at a Sing-Along & DC Vegan Visit
DESCRIPTION:Come and sing your heart out with [Veg Society of DC](https://vsdc.org/) at a fun [hootenanny](https://www.merriam-webster.com/dictionary/hootenanny) led by [ ](https://www.dcsingalong.com/)[DC Sing-Along](https://www.dcsingalong.com/events-1/d.c.-sing-along-at-workshop-house-ii) at [Workshop House ](https://www.workshop.house/)at 1717 15th Street! \nAnd….afterwards\, let’s visit VSDC *[GreenRewards discount](https://vsdc.org/places/dc-vegan-deli-and-botanical-bar/) partner [DC Vegan Deli ](https://www.dc-vegan.com/deli)which is only a 10 minute walk away at 1633 P Street\, NW.\n**Please indicate in the comments if you are not planning to come to DC Vegan so we can get an accurate headcount.** \n* [GreenRewards](https://vsdc.org/places/) is discount program at participating area businesses for dues-paying VSDC members. If you’re not already a member\, you can join VSDC [here.](https://vsdc.org/membership/) Be sure to bring your VSDC membership card or an image of it. Your membership card can also be accessed and printed from the [member log-in ](https://vsdc.org/login/#myaccount)section of the VSDC website. \nThe sing-along is free but a donation to [DC Sing-Along](https://www.dcsingalong.com/) to show appreciation and cover expenses (like your own personal kazoo) would be greatly appreciated. \nPlease [read ](https://www.dcsingalong.com/)the details of how it works\, but here’s a short summary: \n*Bring your voice (musical ability is NOT required)\n*Bring an acoustic instrument if you have one (chords will be provided)\n*Call out your favorite song\n*Bring the kids too (as long as you’re ok with a smidge of profanity) \nSpace is limited\, so please change your RSVP in a **timely fashion** if your plans change. \n* Saturday April 20\, 4:30-6:30pm\n* [Workshop House:](https://www.workshop.house/) 1717 15th St. NW\, Washington DC 20009\n* Metro: It’s a 0.5-mile walk from the U Street Metro station (Green/Yellow lines)\, or a 0.7-mile walk from the Dupont Circle Metro station (Red line).\n* Parking: There is parking on surrounding neighborhood streets\, but it may be limited. Check parking signs to make sure you can park without a neighborhood permit.\n* [DC Vegan](https://www.dc-vegan.com/dc-vegan-delicatessen) at 1633 P Street NW\, Washington DC 20036\nIn addition to the metro and street parking\, there a commercial lot directly opposite DC Vegan (entrance at 1616 P Street) that offers a $5 discount when validated with a sticker from DC Vegan. \n**VSDC: More Than A Meetup**\nWe are so glad to have you as part of The Veg Society of DC Vegan Meetup group\, and we enjoy seeing you at our events. Did you know that [VSDC](https://vsdc.org/) is a nonprofit organization with membership benefits? \nWith VSDC membership\, you will save money at area restaurants and businesses\, attend VSDC member-only events\, and\, most importantly\, support us as a clear and consistent voice for improving the lives of all beings through community building and education centered on the benefits of a vegan diet and lifestyle. \nThe membership fee is minimal\, but the impact is significant! [Become a member of VSDC](https://vsdc.org/membership/). \n**Liability Waiver and Code of Conduct**\nWhen you sign up to attend\, you automatically acknowledge [VSDC’s Liability Waiver](https://vsdc.org/activity-waiver/) and commit to follow the code of conduct found at [Policies – VSDC – Veg Society of DC](https://vsdc.org/policies/). \n**VSDC. Creating communities. For your health\, the animals\, and the planet.**
URL:https://www.vkind.com/vegan-events/join-vsdc-at-a-sing-along-dc-vegan-visit-3/
LOCATION:1717 15th St NW\, 1717 15th St NW\, Washington\, DC\, 20009\, United States
ATTACH;FMTTYPE=image/jpeg:https://www.vkind.com/wp-content/uploads/2024/05/1024x576-rXtVTb.tmp_.jpg
GEO:38.913647;-77.034325
X-APPLE-STRUCTURED-LOCATION;VALUE=URI;X-ADDRESS=1717 15th St NW 1717 15th St NW Washington DC 20009 United States;X-APPLE-RADIUS=500;X-TITLE=1717 15th St NW:geo:-77.034325,38.913647
END:VEVENT
BEGIN:VEVENT
DTSTART;TZID=-04:00:20240420T163000
DTEND;TZID=-04:00:20240420T200000
DTSTAMP:20260423T071859
CREATED:20240310T215543Z
LAST-MODIFIED:20240420T133100Z
UID:10007669-1713630600-1713643200@www.vkind.com
SUMMARY:Join VSDC at a Sing-Along & DC Vegan Visit
DESCRIPTION:Come and sing your heart out with VSDC at a fun [hootenanny](https://www.merriam-webster.com/dictionary/hootenanny) led by [ ](https://www.dcsingalong.com/)[DC Sing-Along](https://www.dcsingalong.com/events-1/d.c.-sing-along-at-workshop-house-ii) at [Workshop House ](https://www.workshop.house/)at 1717 15th Street! And….afterwards\, let’s visit VSDC *[GreenRewards discount](https://vsdc.org/places/dc-vegan-deli-and-botanical-bar/) partner [DC Vegan Deli ](https://www.dc-vegan.com/deli)which is only a 10 minute walk away at 1633 P Street\, NW. \n* [GreenRewards](https://vsdc.org/places/) is discount program at participating area businesses for dues-paying VSDC members. If you’re not already a member\, you can join VSDC [here.](https://vsdc.org/membership/) Be sure to bring your VSDC membership card or an image of it. Your membership card can also be accessed and printed from the [member log-in ](https://vsdc.org/login/#myaccount)section of the VSDC website. \nThe sing-along is free but a donation to [DC Sing-Along](https://www.dcsingalong.com/) to show appreciation and cover expenses (like your own personal kazoo) would be greatly appreciated. \nPlease [read ](https://www.dcsingalong.com/)the details of how it works\, but here’s a short summary: \n*Bring your voice (musical ability is NOT required)\n*Bring an acoustic instrument if you have one (chords will be provided)\n*Call out your favorite song\n*Bring the kids too (as long as you’re ok with a smidge of profanity) \nSpace is limited\, so please change your RSVP in a **timely fashion** if your plans change. \n* Saturday April 20\, 4:30-6:30pm\n* [Workshop House:](https://www.workshop.house/) 1717 15th St. NW\, Washington DC 20009\n* Metro: It’s a 0.5-mile walk from the U Street Metro station (Green/Yellow lines)\, or a 0.7-mile walk from the Dupont Circle Metro station (Red line).\n* Parking: There is parking on surrounding neighborhood streets\, but it may be limited. Check parking signs to make sure you can park without a neighborhood permit.\n* [DC Vegan](https://www.dc-vegan.com/dc-vegan-delicatessen) at 1633 P Street NW\, Washington DC 20036\nIn addition to the metro and street parking\, there a commercial lot directly opposite DC Vegan (entrance at 1616 P Street) that offers a $5 discount when validated with a sticker from DC Vegan. \n**VSDC: More Than A Meetup**\nWe are so glad to have you as part of The Veg Society of DC Vegan Meetup group\, and we enjoy seeing you at our events. Did you know that [VSDC](https://vsdc.org/) is a nonprofit organization with membership benefits? \nWith VSDC membership\, you will save money at area restaurants and businesses\, attend VSDC member-only events\, and\, most importantly\, support us as a clear and consistent voice for improving the lives of all beings through community building and education centered on the benefits of a vegan diet and lifestyle. \nThe membership fee is minimal\, but the impact is significant! [Become a member of VSDC](https://vsdc.org/membership/). \n**Liability Waiver and Code of Conduct**\nWhen you sign up to attend\, you automatically acknowledge [VSDC’s Liability Waiver](https://vsdc.org/activity-waiver/) and commit to follow the code of conduct found at [Policies – VSDC – Veg Society of DC](https://vsdc.org/policies/). \n**VSDC. Creating communities. For your health\, the animals\, and the planet.**
URL:https://www.vkind.com/vegan-events/join-vsdc-at-a-sing-along-dc-vegan-visit-2/
LOCATION:1717 15th St NW\, 1717 15th St NW\, Washington\, DC\, 20009\, United States
ATTACH;FMTTYPE=image/jpeg:https://www.vkind.com/wp-content/uploads/2024/02/1024x576-gv6f6a.tmp_.jpg
GEO:38.913647;-77.034325
X-APPLE-STRUCTURED-LOCATION;VALUE=URI;X-ADDRESS=1717 15th St NW 1717 15th St NW Washington DC 20009 United States;X-APPLE-RADIUS=500;X-TITLE=1717 15th St NW:geo:-77.034325,38.913647
END:VEVENT
BEGIN:VEVENT
DTSTART;TZID=-05:00:20240302T160000
DTEND;TZID=-05:00:20240302T190000
DTSTAMP:20260423T071859
CREATED:20240216T073543Z
LAST-MODIFIED:20240302T162030Z
UID:10007649-1709395200-1709406000@www.vkind.com
SUMMARY:Join VSDC at a Sing-Along & DC Vegan Visit
DESCRIPTION:Come and sing your heart out with VSDC at a fun [hootenanny](https://www.merriam-webster.com/dictionary/hootenanny) led by [ DC Sing-Along](https://www.dcsingalong.com/) at [Workshop House ](https://www.workshop.house/)at 1717 15th Street! And….afterwards\, let’s visit VSDC *[GreenRewards discount](https://vsdc.org/places/dc-vegan-deli-and-botanical-bar/) partner [DC Vegan Deli ](https://www.dc-vegan.com/deli)which is only a 10 minute walk away at 1633 P Street\, NW. \n* [GreenRewards](https://vsdc.org/places/) is discount program at participating area businesses for dues-paying VSDC members. If you’re not already a member\, you can join VSDC [here.](https://vsdc.org/membership/) Be sure to bring your VSDC membership card or an image of it. Your membership card can also be accessed and printed from the [member log-in ](https://vsdc.org/login/#myaccount)section of the VSDC website. \nThe [sing-along ](https://www.dcsingalong.com/next-event)is free but a donation to [DC Sing-Along](https://www.dcsingalong.com/) to show appreciation and cover expenses (like your own personal kazoo) would be greatly appreciated. \nPlease [read ](https://www.dcsingalong.com/)the details of how it works\, but here’s a short summary: \n*Bring your voice (musical ability is NOT required)\n*Bring an acoustic instrument if you have one (chords will be provided)\n*Call out your favorite song\n*Bring the kids too (as long as you’re ok with a smidge of profanity) \nSpace is limited\, so please change your RSVP in a **timely fashion** if your plans change. \n* Saturday March 2\, 4-6 PM\n* [Workshop House:](https://www.workshop.house/) 1717 15th St. NW\, Washington DC 20009\n* Metro: It’s a 0.5-mile walk from the U Street Metro station (Green/Yellow lines)\, or a 0.7-mile walk from the Dupont Circle Metro station (Red line).\n* Parking: There is parking on surrounding neighborhood streets\, but it may be limited. Check parking signs to make sure you can park without a neighborhood permit.\n* [DC Vegan](https://www.dc-vegan.com/dc-vegan-delicatessen) at 1633 P Street NW\, Washington DC 20036\nIn addition to the metro and street parking\, there a commercial lot directly opposite DC Vegan (entrance at 1616 P Street) that offers a $5 discount when validated with a sticker from DC Vegan. \n**VSDC: More Than A Meetup**\nWe are so glad to have you as part of The Veg Society of DC Vegan Meetup group\, and we enjoy seeing you at our events. Did you know that [VSDC](https://vsdc.org/) is a nonprofit organization with membership benefits? \nWith VSDC membership\, you will save money at area restaurants and businesses\, attend VSDC member-only events\, and\, most importantly\, support us as a clear and consistent voice for improving the lives of all beings through community building and education centered on the benefits of a vegan diet and lifestyle. \nThe membership fee is minimal\, but the impact is significant! [Become a member of VSDC](https://vsdc.org/membership/). \n**Liability Waiver and Code of Conduct**\nWhen you sign up to attend\, you automatically acknowledge [VSDC’s Liability Waiver](https://vsdc.org/activity-waiver/) and commit to follow the code of conduct found at [Policies – VSDC – Veg Society of DC](https://vsdc.org/policies/). \n**VSDC. Creating communities. For your health\, the animals\, and the planet.**
URL:https://www.vkind.com/vegan-events/join-vsdc-at-a-sing-along-dc-vegan-visit/
LOCATION:1717 15th St NW\, 1717 15th St NW\, Washington\, DC\, 20009\, United States
ATTACH;FMTTYPE=image/jpeg:https://www.vkind.com/wp-content/uploads/2024/02/1024x576-gv6f6a.tmp_.jpg
GEO:38.913647;-77.034325
X-APPLE-STRUCTURED-LOCATION;VALUE=URI;X-ADDRESS=1717 15th St NW 1717 15th St NW Washington DC 20009 United States;X-APPLE-RADIUS=500;X-TITLE=1717 15th St NW:geo:-77.034325,38.913647
END:VEVENT
END:VCALENDAR