BEGIN:VCALENDAR
VERSION:2.0
PRODID:-//Vkind - ECPv6.15.14//NONSGML v1.0//EN
CALSCALE:GREGORIAN
METHOD:PUBLISH
X-WR-CALNAME:Vkind
X-ORIGINAL-URL:https://www.vkind.com
X-WR-CALDESC:Events for Vkind
REFRESH-INTERVAL;VALUE=DURATION:PT1H
X-Robots-Tag:noindex
X-PUBLISHED-TTL:PT1H
BEGIN:VTIMEZONE
TZID:-04:00
END:VTIMEZONE
BEGIN:VEVENT
DTSTART;TZID=-04:00:20230408T100000
DTEND;TZID=-04:00:20230408T113000
DTSTAMP:20260423T212858
CREATED:20230303T123615Z
LAST-MODIFIED:20230407T173525Z
UID:10000459-1680948000-1680953400@www.vkind.com
SUMMARY:Underground Railroad Experience Hike; Sandy Spring\, MD 2 miles roundtrip
DESCRIPTION:Learn about the experience of 19th century freedom seekers and Montgomery County residents in a guided hike of the Underground Railroad Experience Trail. Discover techniques used for navigation\, eluding detection\, and finding food/shelter. 2 miles roundtrip on a natural surface hiking trail. Trail is not ADA accessible nor stroller friendly. Woodlawn Museum admission included. Appropriate for ages 7 and up; fee charged for ages 6 and up. \nAdmission: $8 per person. Advance registration required by 12 pm the day before hike. http://www.ActiveMontgomery.org.\nPWMVC0005-100003 04/08/2023 – 04/08/2023 10:00 am – 11:30 am \nThis link should take you to the list from which to select the April 8 10am Hike: \nhttps://web1.myvscloud.com/wbwsc/mdmontgomeryctywt.wsc/search.html?Action=Start&SubAction=&_csrf_token=265938c6b102f8011961d481b09e3b531799774680cc603dc8b9d5c3169bd7bb&quantity=1&begindate=&enddate=&keyword=underground&keywordoption=Match+One&secondarycode=&display=Detail&module=PST&multiselectlist_value=&pstwebsearch_buttonsearch=yes \nThere are no more tickets available. \nWhen you sign up to join a hike you automatically acknowledge\nVSDC Vegan Trekkers Liability Waiver: https://vsdc.org/activity-waiver/ \n*For important updates regularly monitor the “comments” section below.*\n*Don’t be a no show! If your plans change\, update your RSVP.* \nAlcohol/Smoking/Intoxicants: Use of intoxicants such as alcohol\, cigarettes and/or illegal substances is banned during this hike. \n*Please read The 10 Essentials of Hiking: https://americanhiking.org/resources/10essentials/ \n*** \nVSDC (http://www.vsdc.org) is a clear and consistent voice for improving the lives of all beings through education on the benefits of a vegan diet & lifestyle. Sharing food is the bond that brings families together; so it is with VSDC. From simply “breaking bread” to experiencing delicious and nutritious vegan foods from around the world\, we make your journey easier\, enjoyable & meaningful. \n**VSDC. Creating communities. For your health\, the animals\, and the planet.**
URL:https://www.vkind.com/vegan-events/underground-railroad-experience-hike-sandy-spring-md-2-miles-roundtrip/
LOCATION:16501 Norwood Rd\, 16501 Norwood Rd\, Sandy Spring\, MD\, 20860\, us
ATTACH;FMTTYPE=image/jpeg:https://www.vkind.com/wp-content/uploads/2023/03/1024x576-m74AKy.tmp_.jpg
GEO:39.128155;-77.02672
X-APPLE-STRUCTURED-LOCATION;VALUE=URI;X-ADDRESS=16501 Norwood Rd 16501 Norwood Rd Sandy Spring MD 20860 us;X-APPLE-RADIUS=500;X-TITLE=16501 Norwood Rd:geo:-77.02672,39.128155
END:VEVENT
END:VCALENDAR