BEGIN:VCALENDAR
VERSION:2.0
PRODID:-//Vkind - ECPv6.15.14//NONSGML v1.0//EN
CALSCALE:GREGORIAN
METHOD:PUBLISH
X-WR-CALNAME:Vkind
X-ORIGINAL-URL:https://www.vkind.com
X-WR-CALDESC:Events for Vkind
REFRESH-INTERVAL;VALUE=DURATION:PT1H
X-Robots-Tag:noindex
X-PUBLISHED-TTL:PT1H
BEGIN:VTIMEZONE
TZID:-05:00
END:VTIMEZONE
BEGIN:VEVENT
DTSTART;TZID=-05:00:20221113T170000
DTEND;TZID=-05:00:20221113T190000
DTSTAMP:20260424T063754
CREATED:20221004T125125Z
LAST-MODIFIED:20221112T175217Z
UID:10000310-1668358800-1668366000@www.vkind.com
SUMMARY:Thanksliving Dinner with PLNT Burger Tasting Menu at Tysons Corner
DESCRIPTION:This month\, PLNT Burger is hosting us at their Tysons Corner location for a Thanksliving Meal. This event will be different than our typical PLNT Burger Meetup. This time PLNT Burger will prepare a tasting menu for us which includes: \nFirst course: 2 Chicken Dipper Sample and choice of chicken slider\nSecond course: BBQ Bacon Burger sample\, Hamburger or Cheeseburger Sample\, and choice of mac and cheese\, sweet potato fries\, or herbed fries.\nThird course: Oatly soft serve ice cream \n[/store/event/vsdc-rockville-vegans-thanksgiving-tysons-corner/](https://www.plntburger.com/store/event/vsdc-rockville-vegans-thanksgiving-tysons-corner/) \nTysons Corner has indoor and outdoor dining. I expect most people will want to eat indoors\, and we can definitely accommodate those that dress warmly and want to dine outdoors. \nIf you have questions please comment\, message\, or email me at molly@vsdc.org \nVSDC (http://www.vsdc.org) is a clear and consistent voice for improving the lives of all beings through education on the benefits of a vegan diet & lifestyle. Sharing food is the bond that brings families together; so it is with VSDC. From simply “breaking bread” to experiencing delicious and nutritious vegan foods from around the world\, we make your journey easier\, enjoyable & meaningful. \nBy coming to this event\, we expect you will follow the code of conduct found at [Policies – VSDC – Veg Society of DC](https://vsdc.org/policies) \n**VSDC. Creating communities. For your health\, the animals\, and the planet.**
URL:https://www.vkind.com/vegan-events/thanksliving-dinner-with-plnt-burger-tasting-menu-at-tysons-corner/
LOCATION:1635 Boro Pl\, 1635 Boro Pl\, Tysons\, VA\, 22102\, us
ATTACH;FMTTYPE=image/jpeg:https://www.vkind.com/wp-content/uploads/2022/10/1024x576-orWu1G.tmp_.jpg
GEO:38.924297;-77.23316
X-APPLE-STRUCTURED-LOCATION;VALUE=URI;X-ADDRESS=1635 Boro Pl 1635 Boro Pl Tysons VA 22102 us;X-APPLE-RADIUS=500;X-TITLE=1635 Boro Pl:geo:-77.23316,38.924297
END:VEVENT
END:VCALENDAR