BEGIN:VCALENDAR
VERSION:2.0
PRODID:-//Vkind - ECPv6.15.14//NONSGML v1.0//EN
CALSCALE:GREGORIAN
METHOD:PUBLISH
X-WR-CALNAME:Vkind
X-ORIGINAL-URL:https://www.vkind.com
X-WR-CALDESC:Events for Vkind
REFRESH-INTERVAL;VALUE=DURATION:PT1H
X-Robots-Tag:noindex
X-PUBLISHED-TTL:PT1H
BEGIN:VTIMEZONE
TZID:-04:00
END:VTIMEZONE
BEGIN:VEVENT
DTSTART;TZID=-04:00:20250322T120000
DTEND;TZID=-04:00:20250322T160000
DTSTAMP:20260423T184244
CREATED:20250319T211530Z
LAST-MODIFIED:20250320T220540Z
UID:10007907-1742644800-1742659200@www.vkind.com
SUMMARY:VSDC Volunteers for FARM Meat Out Event
DESCRIPTION:Spring is here\, and it’s a great time for the [Veg Society of DC](vsdc.org) and our meetup members to share the kind\, vegan lifestyle with people at the DC Cherry Blossom Festival. FARM is hosting a MeatOut event\, and they need friendly volunteers to help spread ideas about kindness\, caring for the planet\, and share samples of delicious vegan food. \nNo experience is needed—everyone is welcome. Help create a kinder world\, one conversation and vegan sample at a time. Learn more about MeatOut 2025 at [www.meatout.org](http://www.meatout.org/?fbclid=IwZXh0bgNhZW0CMTAAAR0NWJjTS5uNDNT35WaplXIuwO_BpQV0z0QYftsj3zk7L7hB2CY_io9c2ls_aem_99mpsbcapy-3I1cEBd282Q) \nEvent host Cady will be there throughout the event\, and Kathryn will be there at the start. Look for them and for people with MeatOut signs like the photo above. \n**Location:** At 12 noon\, please meet at the corner of Independence Ave and Maine Ave in SW DC. Then some volunteers will go to nearby areas to spread the word further.\nWe will put any more details we can about where the group is located in the comments section\, so check there if you are having any trouble finding the group the day of the event. \n**Transportation**\nWe highly recommend taking public transportation\, as parking is nearly impossible to find during the Cherry Blossom Festival. \n**Update Your RSVP**\nPlease update your RSVP if you can no longer make it. \n**Liability Waiver and Code of Conduct**\nWhen you sign up to attend\, you automatically acknowledge [VSDC’s Liability Waiver](https://vsdc.org/activity-waiver/) and commit to follow the code of conduct found at [Policies – VSDC – Veg Society of DC](https://vsdc.org/policies/). \n**VSDC: More Than A Meetup**\nWe are so glad to have you as part of The Veg Society of DC Vegan Meetup group\, and we enjoy seeing you at our events. Did you know that [VSDC](https://vsdc.org/) is a nonprofit organization with membership benefits? \nWith VSDC membership\, you will save money at area restaurants and businesses\, attend VSDC member-only events\, and\, most importantly\, support us as a clear and consistent voice for improving the lives of all beings through community building and education centered on the benefits of a vegan diet and lifestyle. \nThe VSDC membership fee is minimal\, but the impact is significant! [Become a member of VSDC](https://vsdc.org/membership/). \n**VSDC. Creating communities. For your health\, the animals\, and the planet.**
URL:https://www.vkind.com/vegan-events/vsdc-volunteers-for-farm-meat-out-event/
LOCATION:1501 Maine Ave SW\, 1501 Maine Ave SW\, Washington\, Di\, 20024\, United States
ATTACH;FMTTYPE=image/jpeg:https://www.vkind.com/wp-content/uploads/2025/03/1024x576-0dgsKx.tmp_.jpg
GEO:38.88655;-77.03585
X-APPLE-STRUCTURED-LOCATION;VALUE=URI;X-ADDRESS=1501 Maine Ave SW 1501 Maine Ave SW Washington Di 20024 United States;X-APPLE-RADIUS=500;X-TITLE=1501 Maine Ave SW:geo:-77.03585,38.88655
END:VEVENT
END:VCALENDAR