BEGIN:VCALENDAR
VERSION:2.0
PRODID:-//Vkind - ECPv6.15.14//NONSGML v1.0//EN
CALSCALE:GREGORIAN
METHOD:PUBLISH
X-WR-CALNAME:Vkind
X-ORIGINAL-URL:https://www.vkind.com
X-WR-CALDESC:Events for Vkind
REFRESH-INTERVAL;VALUE=DURATION:PT1H
X-Robots-Tag:noindex
X-PUBLISHED-TTL:PT1H
BEGIN:VTIMEZONE
TZID:America/Chicago
BEGIN:DAYLIGHT
TZOFFSETFROM:-0600
TZOFFSETTO:-0500
TZNAME:CDT
DTSTART:20220313T080000
END:DAYLIGHT
BEGIN:STANDARD
TZOFFSETFROM:-0500
TZOFFSETTO:-0600
TZNAME:CST
DTSTART:20221106T070000
END:STANDARD
BEGIN:DAYLIGHT
TZOFFSETFROM:-0600
TZOFFSETTO:-0500
TZNAME:CDT
DTSTART:20230312T080000
END:DAYLIGHT
BEGIN:STANDARD
TZOFFSETFROM:-0500
TZOFFSETTO:-0600
TZNAME:CST
DTSTART:20231105T070000
END:STANDARD
BEGIN:DAYLIGHT
TZOFFSETFROM:-0600
TZOFFSETTO:-0500
TZNAME:CDT
DTSTART:20240310T080000
END:DAYLIGHT
BEGIN:STANDARD
TZOFFSETFROM:-0500
TZOFFSETTO:-0600
TZNAME:CST
DTSTART:20241103T070000
END:STANDARD
END:VTIMEZONE
BEGIN:VEVENT
DTSTART;TZID=America/Chicago:20230805T120000
DTEND;TZID=America/Chicago:20230805T140000
DTSTAMP:20260423T103402
CREATED:20230726T143408Z
LAST-MODIFIED:20230726T143408Z
UID:10001374-1691236800-1691244000@www.vkind.com
SUMMARY:A Taste Of The Diaspora = Vegan Brunch Experience
DESCRIPTION:A Taste Of The Diaspora = Vegan Brunch Experience \nJoin us for a mouthwatering four course vegan brunch experience at 1308 Chicago on Saturday\, Aug 05 2023. Indulge in a delectable spread of plant-based dishes that celebrate the diverse flavors of the diaspora. \nFrom savory to sweet\, the menu features an array of tantalizing options that will leave your taste buds dancing with delight. Savor the rich spices and vibrant ingredients that pay homage to the culinary traditions of West Africa and the southern regions of the US. \nImmerse yourself in a lively atmosphere filled with beautiful people who share a passion for amazing food and cultural exploration. This event is the perfect opportunity to connect with the community and expand your culinary horizons. \nWhether you’re a seasoned vegan or simply curious about plant-based dining\, this brunch experience promises to be a feast for both the senses and the soul. Come and discover the incredible flavors the diaspora has to offer. \nDon’t miss out on this unforgettable event! Mark your calendars and join us for A Taste Of The Diaspora = Vegan Brunch Experience on Saturday\, Aug 05 2023 at 1308 Chicago. We can’t wait to share this culinary journey with you! \nCheers\, \nChef Candace \nwww.instagram.com/theveganouslife
URL:https://www.vkind.com/vegan-events/a-taste-of-the-diaspora-vegan-brunch-experience/
LOCATION:1308 Chicago\, 1308 North Elston Avenue\, Chicago\, IL\, 60642\, United States
ATTACH;FMTTYPE=image/jpeg:https://www.vkind.com/wp-content/uploads/2023/07/A-Taste-Of-The-Diaspora-Vegan-Brunch-Experience.jpg
GEO:41.9057141;-87.6601377
X-APPLE-STRUCTURED-LOCATION;VALUE=URI;X-ADDRESS=1308 Chicago 1308 North Elston Avenue Chicago IL 60642 United States;X-APPLE-RADIUS=500;X-TITLE=1308 North Elston Avenue:geo:-87.6601377,41.9057141
END:VEVENT
END:VCALENDAR