BEGIN:VCALENDAR
VERSION:2.0
PRODID:-//Vkind - ECPv6.15.14//NONSGML v1.0//EN
CALSCALE:GREGORIAN
METHOD:PUBLISH
X-WR-CALNAME:Vkind
X-ORIGINAL-URL:https://www.vkind.com
X-WR-CALDESC:Events for Vkind
REFRESH-INTERVAL;VALUE=DURATION:PT1H
X-Robots-Tag:noindex
X-PUBLISHED-TTL:PT1H
BEGIN:VTIMEZONE
TZID:-05:00
END:VTIMEZONE
BEGIN:VEVENT
DTSTART;TZID=-05:00:20231105T120000
DTEND;TZID=-05:00:20231105T160000
DTSTAMP:20260424T103445
CREATED:20231016T093047Z
LAST-MODIFIED:20231105T190516Z
UID:10007564-1699185600-1699200000@www.vkind.com
SUMMARY:Vegan Trekkers: visit to Glenstone Museum\, MD
DESCRIPTION:Let’s head to Glenstone – a secretly famous museum in Potomac\, MD. This museum has a lot to offer\, in their own words:\n[Glenstone](https://www.glenstone.org/) is a place that seamlessly integrates art\, architecture\, and nature into a serene and contemplative environment. It is museum of modern and contemporary art and is integrated into nearly 300 acres of gently rolling pasture and unspoiled woodland in Montgomery County\, Maryland\, less than 15 miles from the heart of Washington\, DC. \nThe museum offers hiking/walking trails and we will be hiking 3-4 miles. Additionally it has two cafe’s with vegan options. We will be stopping for a bit at one of them for snacks/coffee. Please note that the museum offers both outdoor and indoor exhibits that we will be visiting. \nMeeting Point: [Arrival hall next to Sycamore parking lot](https://maps.app.goo.gl/g4LyTVAKiNUSbdNz9)\nMeeting Time: noon \nPlease review the instructions and more information: \n* You might be asked at the gate to show tickets. Please let them know that you are part of VSDC group visit. Tickets have already been arranged for our group visit.\n* [Please check the group visit guide](https://www.glenstone.org/wp-content/uploads/2022/11/Group-Overview-Letter_12.01.2022.pdf) for more information about the visit\n* **Outside food/beverage is not permitted** at Glenstone\n* [Sample menu of cafe’s](https://www.glenstone.org/wp-content/uploads/2023/04/Spring-Summer-Menu-Pre-Kelly-2023-v4.pdf) – please note that this is indicative menu only \nAdditionally\, we are restricted to 15 members in the group. Please be responsible and update your RSVP if you cannot attend. And preference would be given to current dues-paying VSDC members only. \nDog friendly? No! **No pets please.**\nBathroom Facilities/Water: Yes – many. \nPlease do not attend if you are sick or have been near someone who thinks they may have or have been exposed to COVID-19. \n*For important updates regularly monitor the “comments” section below.*\n*Don’t be a no show! If your plans change\, update your RSVP.* \n* When you sign up to join a hike/event you automatically acknowledge\n[VSDC Vegan Trekkers Liability Waiver](https://vsdc.org/activity-waiver/).\n* Please also view the Rules listed at the end of this description\n* Please read [The 10 Essentials of Hiking](https://americanhiking.org/resources/10essentials/) \nRULES \n## Alcohol/Smoking/Intoxicants: Use of intoxicants such as alcohol\, cigarettes and/or illegal substances is banned during the hikes. \nVSDC (http://www.vsdc.org) is a clear and consistent voice for improving the lives of all beings through education on the benefits of a vegan diet & lifestyle. Sharing food is the bond that brings families together; so it is with VSDC. From simply “breaking bread” to experiencing delicious and nutritious vegan foods from around the world\, we make your journey easier\, enjoyable & meaningful. \nVSDC. Creating communities. For your health\, the animals\, and the planet.
URL:https://www.vkind.com/vegan-events/vegan-trekkers-visit-to-glenstone-museum-md/
LOCATION:12100 Glen Rd\, 12100 Glen Rd\, Potomac\, MD\, 20854\, us
ATTACH;FMTTYPE=image/jpeg:https://www.vkind.com/wp-content/uploads/2023/10/1024x576-TmglOP.tmp_.jpg
GEO:39.0631;-77.251366
X-APPLE-STRUCTURED-LOCATION;VALUE=URI;X-ADDRESS=12100 Glen Rd 12100 Glen Rd Potomac MD 20854 us;X-APPLE-RADIUS=500;X-TITLE=12100 Glen Rd:geo:-77.251366,39.0631
END:VEVENT
END:VCALENDAR