BEGIN:VCALENDAR
VERSION:2.0
PRODID:-//Vkind - ECPv6.15.14//NONSGML v1.0//EN
CALSCALE:GREGORIAN
METHOD:PUBLISH
X-WR-CALNAME:Vkind
X-ORIGINAL-URL:https://www.vkind.com
X-WR-CALDESC:Events for Vkind
REFRESH-INTERVAL;VALUE=DURATION:PT1H
X-Robots-Tag:noindex
X-PUBLISHED-TTL:PT1H
BEGIN:VTIMEZONE
TZID:America/New_York
BEGIN:DAYLIGHT
TZOFFSETFROM:-0500
TZOFFSETTO:-0400
TZNAME:EDT
DTSTART:20250309T070000
END:DAYLIGHT
BEGIN:STANDARD
TZOFFSETFROM:-0400
TZOFFSETTO:-0500
TZNAME:EST
DTSTART:20251102T060000
END:STANDARD
BEGIN:DAYLIGHT
TZOFFSETFROM:-0500
TZOFFSETTO:-0400
TZNAME:EDT
DTSTART:20260308T070000
END:DAYLIGHT
BEGIN:STANDARD
TZOFFSETFROM:-0400
TZOFFSETTO:-0500
TZNAME:EST
DTSTART:20261101T060000
END:STANDARD
BEGIN:DAYLIGHT
TZOFFSETFROM:-0500
TZOFFSETTO:-0400
TZNAME:EDT
DTSTART:20270314T070000
END:DAYLIGHT
BEGIN:STANDARD
TZOFFSETFROM:-0400
TZOFFSETTO:-0500
TZNAME:EST
DTSTART:20271107T060000
END:STANDARD
END:VTIMEZONE
BEGIN:VEVENT
DTSTART;TZID=America/New_York:20260426T120000
DTEND;TZID=America/New_York:20260426T150000
DTSTAMP:20260421T083119
CREATED:20230726T140602Z
LAST-MODIFIED:20230726T140602Z
UID:10001255-1777204800-1777215600@www.vkind.com
SUMMARY:Vegan Sunday Brunch
DESCRIPTION:Every Sunday \nNoon to 3 pm \nVegan Sunday Brunch \nThe Lair (420 Safe Place) \nSunday Funday (games\, movies\, & brunch)
URL:https://www.vkind.com/vegan-events/vegan-sunday-brunch/2026-04-26/
LOCATION:The Lair 420 Social Club\, 323 N 52ND ST\, Philadelphia\, PA\, 19139\, United States
ATTACH;FMTTYPE=image/jpeg:https://www.vkind.com/wp-content/uploads/2023/07/Vegan-Sunday-Brunch.jpg
GEO:39.9660173;-75.2244895
X-APPLE-STRUCTURED-LOCATION;VALUE=URI;X-ADDRESS=The Lair 420 Social Club 323 N 52ND ST Philadelphia PA 19139 United States;X-APPLE-RADIUS=500;X-TITLE=323 N 52ND ST:geo:-75.2244895,39.9660173
END:VEVENT
BEGIN:VEVENT
DTSTART;TZID=America/New_York:20260503T120000
DTEND;TZID=America/New_York:20260503T150000
DTSTAMP:20260421T083119
CREATED:20230726T140602Z
LAST-MODIFIED:20230726T140602Z
UID:10001256-1777809600-1777820400@www.vkind.com
SUMMARY:Vegan Sunday Brunch
DESCRIPTION:Every Sunday \nNoon to 3 pm \nVegan Sunday Brunch \nThe Lair (420 Safe Place) \nSunday Funday (games\, movies\, & brunch)
URL:https://www.vkind.com/vegan-events/vegan-sunday-brunch/2026-05-03/
LOCATION:The Lair 420 Social Club\, 323 N 52ND ST\, Philadelphia\, PA\, 19139\, United States
ATTACH;FMTTYPE=image/jpeg:https://www.vkind.com/wp-content/uploads/2023/07/Vegan-Sunday-Brunch.jpg
GEO:39.9660173;-75.2244895
X-APPLE-STRUCTURED-LOCATION;VALUE=URI;X-ADDRESS=The Lair 420 Social Club 323 N 52ND ST Philadelphia PA 19139 United States;X-APPLE-RADIUS=500;X-TITLE=323 N 52ND ST:geo:-75.2244895,39.9660173
END:VEVENT
BEGIN:VEVENT
DTSTART;TZID=America/New_York:20260510T120000
DTEND;TZID=America/New_York:20260510T150000
DTSTAMP:20260421T083119
CREATED:20230726T140602Z
LAST-MODIFIED:20230726T140602Z
UID:10001257-1778414400-1778425200@www.vkind.com
SUMMARY:Vegan Sunday Brunch
DESCRIPTION:Every Sunday \nNoon to 3 pm \nVegan Sunday Brunch \nThe Lair (420 Safe Place) \nSunday Funday (games\, movies\, & brunch)
URL:https://www.vkind.com/vegan-events/vegan-sunday-brunch/2026-05-10/
LOCATION:The Lair 420 Social Club\, 323 N 52ND ST\, Philadelphia\, PA\, 19139\, United States
ATTACH;FMTTYPE=image/jpeg:https://www.vkind.com/wp-content/uploads/2023/07/Vegan-Sunday-Brunch.jpg
GEO:39.9660173;-75.2244895
X-APPLE-STRUCTURED-LOCATION;VALUE=URI;X-ADDRESS=The Lair 420 Social Club 323 N 52ND ST Philadelphia PA 19139 United States;X-APPLE-RADIUS=500;X-TITLE=323 N 52ND ST:geo:-75.2244895,39.9660173
END:VEVENT
BEGIN:VEVENT
DTSTART;TZID=America/New_York:20260517T120000
DTEND;TZID=America/New_York:20260517T150000
DTSTAMP:20260421T083119
CREATED:20230726T140602Z
LAST-MODIFIED:20230726T140602Z
UID:10001258-1779019200-1779030000@www.vkind.com
SUMMARY:Vegan Sunday Brunch
DESCRIPTION:Every Sunday \nNoon to 3 pm \nVegan Sunday Brunch \nThe Lair (420 Safe Place) \nSunday Funday (games\, movies\, & brunch)
URL:https://www.vkind.com/vegan-events/vegan-sunday-brunch/2026-05-17/
LOCATION:The Lair 420 Social Club\, 323 N 52ND ST\, Philadelphia\, PA\, 19139\, United States
ATTACH;FMTTYPE=image/jpeg:https://www.vkind.com/wp-content/uploads/2023/07/Vegan-Sunday-Brunch.jpg
GEO:39.9660173;-75.2244895
X-APPLE-STRUCTURED-LOCATION;VALUE=URI;X-ADDRESS=The Lair 420 Social Club 323 N 52ND ST Philadelphia PA 19139 United States;X-APPLE-RADIUS=500;X-TITLE=323 N 52ND ST:geo:-75.2244895,39.9660173
END:VEVENT
BEGIN:VEVENT
DTSTART;TZID=America/New_York:20260524T120000
DTEND;TZID=America/New_York:20260524T150000
DTSTAMP:20260421T083119
CREATED:20230726T140602Z
LAST-MODIFIED:20230726T140602Z
UID:10001259-1779624000-1779634800@www.vkind.com
SUMMARY:Vegan Sunday Brunch
DESCRIPTION:Every Sunday \nNoon to 3 pm \nVegan Sunday Brunch \nThe Lair (420 Safe Place) \nSunday Funday (games\, movies\, & brunch)
URL:https://www.vkind.com/vegan-events/vegan-sunday-brunch/2026-05-24/
LOCATION:The Lair 420 Social Club\, 323 N 52ND ST\, Philadelphia\, PA\, 19139\, United States
ATTACH;FMTTYPE=image/jpeg:https://www.vkind.com/wp-content/uploads/2023/07/Vegan-Sunday-Brunch.jpg
GEO:39.9660173;-75.2244895
X-APPLE-STRUCTURED-LOCATION;VALUE=URI;X-ADDRESS=The Lair 420 Social Club 323 N 52ND ST Philadelphia PA 19139 United States;X-APPLE-RADIUS=500;X-TITLE=323 N 52ND ST:geo:-75.2244895,39.9660173
END:VEVENT
BEGIN:VEVENT
DTSTART;TZID=America/New_York:20260531T120000
DTEND;TZID=America/New_York:20260531T150000
DTSTAMP:20260421T083119
CREATED:20230726T140602Z
LAST-MODIFIED:20230726T140602Z
UID:10001260-1780228800-1780239600@www.vkind.com
SUMMARY:Vegan Sunday Brunch
DESCRIPTION:Every Sunday \nNoon to 3 pm \nVegan Sunday Brunch \nThe Lair (420 Safe Place) \nSunday Funday (games\, movies\, & brunch)
URL:https://www.vkind.com/vegan-events/vegan-sunday-brunch/2026-05-31/
LOCATION:The Lair 420 Social Club\, 323 N 52ND ST\, Philadelphia\, PA\, 19139\, United States
ATTACH;FMTTYPE=image/jpeg:https://www.vkind.com/wp-content/uploads/2023/07/Vegan-Sunday-Brunch.jpg
GEO:39.9660173;-75.2244895
X-APPLE-STRUCTURED-LOCATION;VALUE=URI;X-ADDRESS=The Lair 420 Social Club 323 N 52ND ST Philadelphia PA 19139 United States;X-APPLE-RADIUS=500;X-TITLE=323 N 52ND ST:geo:-75.2244895,39.9660173
END:VEVENT
BEGIN:VEVENT
DTSTART;TZID=America/New_York:20260607T120000
DTEND;TZID=America/New_York:20260607T150000
DTSTAMP:20260421T083119
CREATED:20230726T140602Z
LAST-MODIFIED:20230726T140602Z
UID:10001261-1780833600-1780844400@www.vkind.com
SUMMARY:Vegan Sunday Brunch
DESCRIPTION:Every Sunday \nNoon to 3 pm \nVegan Sunday Brunch \nThe Lair (420 Safe Place) \nSunday Funday (games\, movies\, & brunch)
URL:https://www.vkind.com/vegan-events/vegan-sunday-brunch/2026-06-07/
LOCATION:The Lair 420 Social Club\, 323 N 52ND ST\, Philadelphia\, PA\, 19139\, United States
ATTACH;FMTTYPE=image/jpeg:https://www.vkind.com/wp-content/uploads/2023/07/Vegan-Sunday-Brunch.jpg
GEO:39.9660173;-75.2244895
X-APPLE-STRUCTURED-LOCATION;VALUE=URI;X-ADDRESS=The Lair 420 Social Club 323 N 52ND ST Philadelphia PA 19139 United States;X-APPLE-RADIUS=500;X-TITLE=323 N 52ND ST:geo:-75.2244895,39.9660173
END:VEVENT
BEGIN:VEVENT
DTSTART;TZID=America/New_York:20260614T120000
DTEND;TZID=America/New_York:20260614T150000
DTSTAMP:20260421T083119
CREATED:20230726T140602Z
LAST-MODIFIED:20230726T140602Z
UID:10001262-1781438400-1781449200@www.vkind.com
SUMMARY:Vegan Sunday Brunch
DESCRIPTION:Every Sunday \nNoon to 3 pm \nVegan Sunday Brunch \nThe Lair (420 Safe Place) \nSunday Funday (games\, movies\, & brunch)
URL:https://www.vkind.com/vegan-events/vegan-sunday-brunch/2026-06-14/
LOCATION:The Lair 420 Social Club\, 323 N 52ND ST\, Philadelphia\, PA\, 19139\, United States
ATTACH;FMTTYPE=image/jpeg:https://www.vkind.com/wp-content/uploads/2023/07/Vegan-Sunday-Brunch.jpg
GEO:39.9660173;-75.2244895
X-APPLE-STRUCTURED-LOCATION;VALUE=URI;X-ADDRESS=The Lair 420 Social Club 323 N 52ND ST Philadelphia PA 19139 United States;X-APPLE-RADIUS=500;X-TITLE=323 N 52ND ST:geo:-75.2244895,39.9660173
END:VEVENT
BEGIN:VEVENT
DTSTART;TZID=America/New_York:20260621T120000
DTEND;TZID=America/New_York:20260621T150000
DTSTAMP:20260421T083119
CREATED:20230726T140602Z
LAST-MODIFIED:20230726T140602Z
UID:10001263-1782043200-1782054000@www.vkind.com
SUMMARY:Vegan Sunday Brunch
DESCRIPTION:Every Sunday \nNoon to 3 pm \nVegan Sunday Brunch \nThe Lair (420 Safe Place) \nSunday Funday (games\, movies\, & brunch)
URL:https://www.vkind.com/vegan-events/vegan-sunday-brunch/2026-06-21/
LOCATION:The Lair 420 Social Club\, 323 N 52ND ST\, Philadelphia\, PA\, 19139\, United States
ATTACH;FMTTYPE=image/jpeg:https://www.vkind.com/wp-content/uploads/2023/07/Vegan-Sunday-Brunch.jpg
GEO:39.9660173;-75.2244895
X-APPLE-STRUCTURED-LOCATION;VALUE=URI;X-ADDRESS=The Lair 420 Social Club 323 N 52ND ST Philadelphia PA 19139 United States;X-APPLE-RADIUS=500;X-TITLE=323 N 52ND ST:geo:-75.2244895,39.9660173
END:VEVENT
BEGIN:VEVENT
DTSTART;TZID=America/New_York:20260628T120000
DTEND;TZID=America/New_York:20260628T150000
DTSTAMP:20260421T083119
CREATED:20230726T140602Z
LAST-MODIFIED:20230726T140602Z
UID:10001264-1782648000-1782658800@www.vkind.com
SUMMARY:Vegan Sunday Brunch
DESCRIPTION:Every Sunday \nNoon to 3 pm \nVegan Sunday Brunch \nThe Lair (420 Safe Place) \nSunday Funday (games\, movies\, & brunch)
URL:https://www.vkind.com/vegan-events/vegan-sunday-brunch/2026-06-28/
LOCATION:The Lair 420 Social Club\, 323 N 52ND ST\, Philadelphia\, PA\, 19139\, United States
ATTACH;FMTTYPE=image/jpeg:https://www.vkind.com/wp-content/uploads/2023/07/Vegan-Sunday-Brunch.jpg
GEO:39.9660173;-75.2244895
X-APPLE-STRUCTURED-LOCATION;VALUE=URI;X-ADDRESS=The Lair 420 Social Club 323 N 52ND ST Philadelphia PA 19139 United States;X-APPLE-RADIUS=500;X-TITLE=323 N 52ND ST:geo:-75.2244895,39.9660173
END:VEVENT
BEGIN:VEVENT
DTSTART;TZID=America/New_York:20260705T120000
DTEND;TZID=America/New_York:20260705T150000
DTSTAMP:20260421T083119
CREATED:20230726T140602Z
LAST-MODIFIED:20230726T140602Z
UID:10001265-1783252800-1783263600@www.vkind.com
SUMMARY:Vegan Sunday Brunch
DESCRIPTION:Every Sunday \nNoon to 3 pm \nVegan Sunday Brunch \nThe Lair (420 Safe Place) \nSunday Funday (games\, movies\, & brunch)
URL:https://www.vkind.com/vegan-events/vegan-sunday-brunch/2026-07-05/
LOCATION:The Lair 420 Social Club\, 323 N 52ND ST\, Philadelphia\, PA\, 19139\, United States
ATTACH;FMTTYPE=image/jpeg:https://www.vkind.com/wp-content/uploads/2023/07/Vegan-Sunday-Brunch.jpg
GEO:39.9660173;-75.2244895
X-APPLE-STRUCTURED-LOCATION;VALUE=URI;X-ADDRESS=The Lair 420 Social Club 323 N 52ND ST Philadelphia PA 19139 United States;X-APPLE-RADIUS=500;X-TITLE=323 N 52ND ST:geo:-75.2244895,39.9660173
END:VEVENT
BEGIN:VEVENT
DTSTART;TZID=America/New_York:20260712T120000
DTEND;TZID=America/New_York:20260712T150000
DTSTAMP:20260421T083119
CREATED:20230726T140602Z
LAST-MODIFIED:20230726T140602Z
UID:10001266-1783857600-1783868400@www.vkind.com
SUMMARY:Vegan Sunday Brunch
DESCRIPTION:Every Sunday \nNoon to 3 pm \nVegan Sunday Brunch \nThe Lair (420 Safe Place) \nSunday Funday (games\, movies\, & brunch)
URL:https://www.vkind.com/vegan-events/vegan-sunday-brunch/2026-07-12/
LOCATION:The Lair 420 Social Club\, 323 N 52ND ST\, Philadelphia\, PA\, 19139\, United States
ATTACH;FMTTYPE=image/jpeg:https://www.vkind.com/wp-content/uploads/2023/07/Vegan-Sunday-Brunch.jpg
GEO:39.9660173;-75.2244895
X-APPLE-STRUCTURED-LOCATION;VALUE=URI;X-ADDRESS=The Lair 420 Social Club 323 N 52ND ST Philadelphia PA 19139 United States;X-APPLE-RADIUS=500;X-TITLE=323 N 52ND ST:geo:-75.2244895,39.9660173
END:VEVENT
BEGIN:VEVENT
DTSTART;TZID=America/New_York:20260719T120000
DTEND;TZID=America/New_York:20260719T150000
DTSTAMP:20260421T083119
CREATED:20230726T140602Z
LAST-MODIFIED:20230726T140602Z
UID:10001267-1784462400-1784473200@www.vkind.com
SUMMARY:Vegan Sunday Brunch
DESCRIPTION:Every Sunday \nNoon to 3 pm \nVegan Sunday Brunch \nThe Lair (420 Safe Place) \nSunday Funday (games\, movies\, & brunch)
URL:https://www.vkind.com/vegan-events/vegan-sunday-brunch/2026-07-19/
LOCATION:The Lair 420 Social Club\, 323 N 52ND ST\, Philadelphia\, PA\, 19139\, United States
ATTACH;FMTTYPE=image/jpeg:https://www.vkind.com/wp-content/uploads/2023/07/Vegan-Sunday-Brunch.jpg
GEO:39.9660173;-75.2244895
X-APPLE-STRUCTURED-LOCATION;VALUE=URI;X-ADDRESS=The Lair 420 Social Club 323 N 52ND ST Philadelphia PA 19139 United States;X-APPLE-RADIUS=500;X-TITLE=323 N 52ND ST:geo:-75.2244895,39.9660173
END:VEVENT
BEGIN:VEVENT
DTSTART;TZID=America/New_York:20260726T120000
DTEND;TZID=America/New_York:20260726T150000
DTSTAMP:20260421T083119
CREATED:20230726T140602Z
LAST-MODIFIED:20230726T140602Z
UID:10001268-1785067200-1785078000@www.vkind.com
SUMMARY:Vegan Sunday Brunch
DESCRIPTION:Every Sunday \nNoon to 3 pm \nVegan Sunday Brunch \nThe Lair (420 Safe Place) \nSunday Funday (games\, movies\, & brunch)
URL:https://www.vkind.com/vegan-events/vegan-sunday-brunch/2026-07-26/
LOCATION:The Lair 420 Social Club\, 323 N 52ND ST\, Philadelphia\, PA\, 19139\, United States
ATTACH;FMTTYPE=image/jpeg:https://www.vkind.com/wp-content/uploads/2023/07/Vegan-Sunday-Brunch.jpg
GEO:39.9660173;-75.2244895
X-APPLE-STRUCTURED-LOCATION;VALUE=URI;X-ADDRESS=The Lair 420 Social Club 323 N 52ND ST Philadelphia PA 19139 United States;X-APPLE-RADIUS=500;X-TITLE=323 N 52ND ST:geo:-75.2244895,39.9660173
END:VEVENT
BEGIN:VEVENT
DTSTART;TZID=America/New_York:20260802T120000
DTEND;TZID=America/New_York:20260802T150000
DTSTAMP:20260421T083119
CREATED:20230726T140602Z
LAST-MODIFIED:20230726T140602Z
UID:10001269-1785672000-1785682800@www.vkind.com
SUMMARY:Vegan Sunday Brunch
DESCRIPTION:Every Sunday \nNoon to 3 pm \nVegan Sunday Brunch \nThe Lair (420 Safe Place) \nSunday Funday (games\, movies\, & brunch)
URL:https://www.vkind.com/vegan-events/vegan-sunday-brunch/2026-08-02/
LOCATION:The Lair 420 Social Club\, 323 N 52ND ST\, Philadelphia\, PA\, 19139\, United States
ATTACH;FMTTYPE=image/jpeg:https://www.vkind.com/wp-content/uploads/2023/07/Vegan-Sunday-Brunch.jpg
GEO:39.9660173;-75.2244895
X-APPLE-STRUCTURED-LOCATION;VALUE=URI;X-ADDRESS=The Lair 420 Social Club 323 N 52ND ST Philadelphia PA 19139 United States;X-APPLE-RADIUS=500;X-TITLE=323 N 52ND ST:geo:-75.2244895,39.9660173
END:VEVENT
BEGIN:VEVENT
DTSTART;TZID=America/New_York:20260809T120000
DTEND;TZID=America/New_York:20260809T150000
DTSTAMP:20260421T083119
CREATED:20230726T140602Z
LAST-MODIFIED:20230726T140602Z
UID:10001270-1786276800-1786287600@www.vkind.com
SUMMARY:Vegan Sunday Brunch
DESCRIPTION:Every Sunday \nNoon to 3 pm \nVegan Sunday Brunch \nThe Lair (420 Safe Place) \nSunday Funday (games\, movies\, & brunch)
URL:https://www.vkind.com/vegan-events/vegan-sunday-brunch/2026-08-09/
LOCATION:The Lair 420 Social Club\, 323 N 52ND ST\, Philadelphia\, PA\, 19139\, United States
ATTACH;FMTTYPE=image/jpeg:https://www.vkind.com/wp-content/uploads/2023/07/Vegan-Sunday-Brunch.jpg
GEO:39.9660173;-75.2244895
X-APPLE-STRUCTURED-LOCATION;VALUE=URI;X-ADDRESS=The Lair 420 Social Club 323 N 52ND ST Philadelphia PA 19139 United States;X-APPLE-RADIUS=500;X-TITLE=323 N 52ND ST:geo:-75.2244895,39.9660173
END:VEVENT
BEGIN:VEVENT
DTSTART;TZID=America/New_York:20260816T120000
DTEND;TZID=America/New_York:20260816T150000
DTSTAMP:20260421T083119
CREATED:20230726T140602Z
LAST-MODIFIED:20230726T140602Z
UID:10001271-1786881600-1786892400@www.vkind.com
SUMMARY:Vegan Sunday Brunch
DESCRIPTION:Every Sunday \nNoon to 3 pm \nVegan Sunday Brunch \nThe Lair (420 Safe Place) \nSunday Funday (games\, movies\, & brunch)
URL:https://www.vkind.com/vegan-events/vegan-sunday-brunch/2026-08-16/
LOCATION:The Lair 420 Social Club\, 323 N 52ND ST\, Philadelphia\, PA\, 19139\, United States
ATTACH;FMTTYPE=image/jpeg:https://www.vkind.com/wp-content/uploads/2023/07/Vegan-Sunday-Brunch.jpg
GEO:39.9660173;-75.2244895
X-APPLE-STRUCTURED-LOCATION;VALUE=URI;X-ADDRESS=The Lair 420 Social Club 323 N 52ND ST Philadelphia PA 19139 United States;X-APPLE-RADIUS=500;X-TITLE=323 N 52ND ST:geo:-75.2244895,39.9660173
END:VEVENT
BEGIN:VEVENT
DTSTART;TZID=America/New_York:20260823T120000
DTEND;TZID=America/New_York:20260823T150000
DTSTAMP:20260421T083119
CREATED:20230726T140602Z
LAST-MODIFIED:20230726T140602Z
UID:10001272-1787486400-1787497200@www.vkind.com
SUMMARY:Vegan Sunday Brunch
DESCRIPTION:Every Sunday \nNoon to 3 pm \nVegan Sunday Brunch \nThe Lair (420 Safe Place) \nSunday Funday (games\, movies\, & brunch)
URL:https://www.vkind.com/vegan-events/vegan-sunday-brunch/2026-08-23/
LOCATION:The Lair 420 Social Club\, 323 N 52ND ST\, Philadelphia\, PA\, 19139\, United States
ATTACH;FMTTYPE=image/jpeg:https://www.vkind.com/wp-content/uploads/2023/07/Vegan-Sunday-Brunch.jpg
GEO:39.9660173;-75.2244895
X-APPLE-STRUCTURED-LOCATION;VALUE=URI;X-ADDRESS=The Lair 420 Social Club 323 N 52ND ST Philadelphia PA 19139 United States;X-APPLE-RADIUS=500;X-TITLE=323 N 52ND ST:geo:-75.2244895,39.9660173
END:VEVENT
BEGIN:VEVENT
DTSTART;TZID=America/New_York:20260830T120000
DTEND;TZID=America/New_York:20260830T150000
DTSTAMP:20260421T083119
CREATED:20230726T140602Z
LAST-MODIFIED:20230726T140602Z
UID:10001273-1788091200-1788102000@www.vkind.com
SUMMARY:Vegan Sunday Brunch
DESCRIPTION:Every Sunday \nNoon to 3 pm \nVegan Sunday Brunch \nThe Lair (420 Safe Place) \nSunday Funday (games\, movies\, & brunch)
URL:https://www.vkind.com/vegan-events/vegan-sunday-brunch/2026-08-30/
LOCATION:The Lair 420 Social Club\, 323 N 52ND ST\, Philadelphia\, PA\, 19139\, United States
ATTACH;FMTTYPE=image/jpeg:https://www.vkind.com/wp-content/uploads/2023/07/Vegan-Sunday-Brunch.jpg
GEO:39.9660173;-75.2244895
X-APPLE-STRUCTURED-LOCATION;VALUE=URI;X-ADDRESS=The Lair 420 Social Club 323 N 52ND ST Philadelphia PA 19139 United States;X-APPLE-RADIUS=500;X-TITLE=323 N 52ND ST:geo:-75.2244895,39.9660173
END:VEVENT
BEGIN:VEVENT
DTSTART;TZID=America/New_York:20260906T120000
DTEND;TZID=America/New_York:20260906T150000
DTSTAMP:20260421T083119
CREATED:20230726T140602Z
LAST-MODIFIED:20230726T140602Z
UID:10001274-1788696000-1788706800@www.vkind.com
SUMMARY:Vegan Sunday Brunch
DESCRIPTION:Every Sunday \nNoon to 3 pm \nVegan Sunday Brunch \nThe Lair (420 Safe Place) \nSunday Funday (games\, movies\, & brunch)
URL:https://www.vkind.com/vegan-events/vegan-sunday-brunch/2026-09-06/
LOCATION:The Lair 420 Social Club\, 323 N 52ND ST\, Philadelphia\, PA\, 19139\, United States
ATTACH;FMTTYPE=image/jpeg:https://www.vkind.com/wp-content/uploads/2023/07/Vegan-Sunday-Brunch.jpg
GEO:39.9660173;-75.2244895
X-APPLE-STRUCTURED-LOCATION;VALUE=URI;X-ADDRESS=The Lair 420 Social Club 323 N 52ND ST Philadelphia PA 19139 United States;X-APPLE-RADIUS=500;X-TITLE=323 N 52ND ST:geo:-75.2244895,39.9660173
END:VEVENT
BEGIN:VEVENT
DTSTART;TZID=America/New_York:20260913T120000
DTEND;TZID=America/New_York:20260913T150000
DTSTAMP:20260421T083119
CREATED:20230726T140602Z
LAST-MODIFIED:20230726T140602Z
UID:10001275-1789300800-1789311600@www.vkind.com
SUMMARY:Vegan Sunday Brunch
DESCRIPTION:Every Sunday \nNoon to 3 pm \nVegan Sunday Brunch \nThe Lair (420 Safe Place) \nSunday Funday (games\, movies\, & brunch)
URL:https://www.vkind.com/vegan-events/vegan-sunday-brunch/2026-09-13/
LOCATION:The Lair 420 Social Club\, 323 N 52ND ST\, Philadelphia\, PA\, 19139\, United States
ATTACH;FMTTYPE=image/jpeg:https://www.vkind.com/wp-content/uploads/2023/07/Vegan-Sunday-Brunch.jpg
GEO:39.9660173;-75.2244895
X-APPLE-STRUCTURED-LOCATION;VALUE=URI;X-ADDRESS=The Lair 420 Social Club 323 N 52ND ST Philadelphia PA 19139 United States;X-APPLE-RADIUS=500;X-TITLE=323 N 52ND ST:geo:-75.2244895,39.9660173
END:VEVENT
BEGIN:VEVENT
DTSTART;TZID=America/New_York:20260920T120000
DTEND;TZID=America/New_York:20260920T150000
DTSTAMP:20260421T083119
CREATED:20230726T140602Z
LAST-MODIFIED:20230726T140602Z
UID:10001276-1789905600-1789916400@www.vkind.com
SUMMARY:Vegan Sunday Brunch
DESCRIPTION:Every Sunday \nNoon to 3 pm \nVegan Sunday Brunch \nThe Lair (420 Safe Place) \nSunday Funday (games\, movies\, & brunch)
URL:https://www.vkind.com/vegan-events/vegan-sunday-brunch/2026-09-20/
LOCATION:The Lair 420 Social Club\, 323 N 52ND ST\, Philadelphia\, PA\, 19139\, United States
ATTACH;FMTTYPE=image/jpeg:https://www.vkind.com/wp-content/uploads/2023/07/Vegan-Sunday-Brunch.jpg
GEO:39.9660173;-75.2244895
X-APPLE-STRUCTURED-LOCATION;VALUE=URI;X-ADDRESS=The Lair 420 Social Club 323 N 52ND ST Philadelphia PA 19139 United States;X-APPLE-RADIUS=500;X-TITLE=323 N 52ND ST:geo:-75.2244895,39.9660173
END:VEVENT
BEGIN:VEVENT
DTSTART;TZID=America/New_York:20260927T120000
DTEND;TZID=America/New_York:20260927T150000
DTSTAMP:20260421T083119
CREATED:20230726T140602Z
LAST-MODIFIED:20230726T140602Z
UID:10001277-1790510400-1790521200@www.vkind.com
SUMMARY:Vegan Sunday Brunch
DESCRIPTION:Every Sunday \nNoon to 3 pm \nVegan Sunday Brunch \nThe Lair (420 Safe Place) \nSunday Funday (games\, movies\, & brunch)
URL:https://www.vkind.com/vegan-events/vegan-sunday-brunch/2026-09-27/
LOCATION:The Lair 420 Social Club\, 323 N 52ND ST\, Philadelphia\, PA\, 19139\, United States
ATTACH;FMTTYPE=image/jpeg:https://www.vkind.com/wp-content/uploads/2023/07/Vegan-Sunday-Brunch.jpg
GEO:39.9660173;-75.2244895
X-APPLE-STRUCTURED-LOCATION;VALUE=URI;X-ADDRESS=The Lair 420 Social Club 323 N 52ND ST Philadelphia PA 19139 United States;X-APPLE-RADIUS=500;X-TITLE=323 N 52ND ST:geo:-75.2244895,39.9660173
END:VEVENT
BEGIN:VEVENT
DTSTART;TZID=America/New_York:20261004T120000
DTEND;TZID=America/New_York:20261004T150000
DTSTAMP:20260421T083119
CREATED:20230726T140602Z
LAST-MODIFIED:20230726T140602Z
UID:10001278-1791115200-1791126000@www.vkind.com
SUMMARY:Vegan Sunday Brunch
DESCRIPTION:Every Sunday \nNoon to 3 pm \nVegan Sunday Brunch \nThe Lair (420 Safe Place) \nSunday Funday (games\, movies\, & brunch)
URL:https://www.vkind.com/vegan-events/vegan-sunday-brunch/2026-10-04/
LOCATION:The Lair 420 Social Club\, 323 N 52ND ST\, Philadelphia\, PA\, 19139\, United States
ATTACH;FMTTYPE=image/jpeg:https://www.vkind.com/wp-content/uploads/2023/07/Vegan-Sunday-Brunch.jpg
GEO:39.9660173;-75.2244895
X-APPLE-STRUCTURED-LOCATION;VALUE=URI;X-ADDRESS=The Lair 420 Social Club 323 N 52ND ST Philadelphia PA 19139 United States;X-APPLE-RADIUS=500;X-TITLE=323 N 52ND ST:geo:-75.2244895,39.9660173
END:VEVENT
BEGIN:VEVENT
DTSTART;TZID=America/New_York:20261011T120000
DTEND;TZID=America/New_York:20261011T150000
DTSTAMP:20260421T083119
CREATED:20230726T140602Z
LAST-MODIFIED:20230726T140602Z
UID:10001279-1791720000-1791730800@www.vkind.com
SUMMARY:Vegan Sunday Brunch
DESCRIPTION:Every Sunday \nNoon to 3 pm \nVegan Sunday Brunch \nThe Lair (420 Safe Place) \nSunday Funday (games\, movies\, & brunch)
URL:https://www.vkind.com/vegan-events/vegan-sunday-brunch/2026-10-11/
LOCATION:The Lair 420 Social Club\, 323 N 52ND ST\, Philadelphia\, PA\, 19139\, United States
ATTACH;FMTTYPE=image/jpeg:https://www.vkind.com/wp-content/uploads/2023/07/Vegan-Sunday-Brunch.jpg
GEO:39.9660173;-75.2244895
X-APPLE-STRUCTURED-LOCATION;VALUE=URI;X-ADDRESS=The Lair 420 Social Club 323 N 52ND ST Philadelphia PA 19139 United States;X-APPLE-RADIUS=500;X-TITLE=323 N 52ND ST:geo:-75.2244895,39.9660173
END:VEVENT
BEGIN:VEVENT
DTSTART;TZID=America/New_York:20261018T120000
DTEND;TZID=America/New_York:20261018T150000
DTSTAMP:20260421T083119
CREATED:20230726T140602Z
LAST-MODIFIED:20230726T140602Z
UID:10001280-1792324800-1792335600@www.vkind.com
SUMMARY:Vegan Sunday Brunch
DESCRIPTION:Every Sunday \nNoon to 3 pm \nVegan Sunday Brunch \nThe Lair (420 Safe Place) \nSunday Funday (games\, movies\, & brunch)
URL:https://www.vkind.com/vegan-events/vegan-sunday-brunch/2026-10-18/
LOCATION:The Lair 420 Social Club\, 323 N 52ND ST\, Philadelphia\, PA\, 19139\, United States
ATTACH;FMTTYPE=image/jpeg:https://www.vkind.com/wp-content/uploads/2023/07/Vegan-Sunday-Brunch.jpg
GEO:39.9660173;-75.2244895
X-APPLE-STRUCTURED-LOCATION;VALUE=URI;X-ADDRESS=The Lair 420 Social Club 323 N 52ND ST Philadelphia PA 19139 United States;X-APPLE-RADIUS=500;X-TITLE=323 N 52ND ST:geo:-75.2244895,39.9660173
END:VEVENT
BEGIN:VEVENT
DTSTART;TZID=America/New_York:20261025T120000
DTEND;TZID=America/New_York:20261025T150000
DTSTAMP:20260421T083119
CREATED:20230726T140602Z
LAST-MODIFIED:20230726T140602Z
UID:10001281-1792929600-1792940400@www.vkind.com
SUMMARY:Vegan Sunday Brunch
DESCRIPTION:Every Sunday \nNoon to 3 pm \nVegan Sunday Brunch \nThe Lair (420 Safe Place) \nSunday Funday (games\, movies\, & brunch)
URL:https://www.vkind.com/vegan-events/vegan-sunday-brunch/2026-10-25/
LOCATION:The Lair 420 Social Club\, 323 N 52ND ST\, Philadelphia\, PA\, 19139\, United States
ATTACH;FMTTYPE=image/jpeg:https://www.vkind.com/wp-content/uploads/2023/07/Vegan-Sunday-Brunch.jpg
GEO:39.9660173;-75.2244895
X-APPLE-STRUCTURED-LOCATION;VALUE=URI;X-ADDRESS=The Lair 420 Social Club 323 N 52ND ST Philadelphia PA 19139 United States;X-APPLE-RADIUS=500;X-TITLE=323 N 52ND ST:geo:-75.2244895,39.9660173
END:VEVENT
BEGIN:VEVENT
DTSTART;TZID=America/New_York:20261101T120000
DTEND;TZID=America/New_York:20261101T150000
DTSTAMP:20260421T083119
CREATED:20230726T140602Z
LAST-MODIFIED:20230726T140602Z
UID:10001282-1793534400-1793545200@www.vkind.com
SUMMARY:Vegan Sunday Brunch
DESCRIPTION:Every Sunday \nNoon to 3 pm \nVegan Sunday Brunch \nThe Lair (420 Safe Place) \nSunday Funday (games\, movies\, & brunch)
URL:https://www.vkind.com/vegan-events/vegan-sunday-brunch/2026-11-01/
LOCATION:The Lair 420 Social Club\, 323 N 52ND ST\, Philadelphia\, PA\, 19139\, United States
ATTACH;FMTTYPE=image/jpeg:https://www.vkind.com/wp-content/uploads/2023/07/Vegan-Sunday-Brunch.jpg
GEO:39.9660173;-75.2244895
X-APPLE-STRUCTURED-LOCATION;VALUE=URI;X-ADDRESS=The Lair 420 Social Club 323 N 52ND ST Philadelphia PA 19139 United States;X-APPLE-RADIUS=500;X-TITLE=323 N 52ND ST:geo:-75.2244895,39.9660173
END:VEVENT
BEGIN:VEVENT
DTSTART;TZID=America/New_York:20261108T120000
DTEND;TZID=America/New_York:20261108T150000
DTSTAMP:20260421T083119
CREATED:20230726T140602Z
LAST-MODIFIED:20230726T140602Z
UID:10001283-1794139200-1794150000@www.vkind.com
SUMMARY:Vegan Sunday Brunch
DESCRIPTION:Every Sunday \nNoon to 3 pm \nVegan Sunday Brunch \nThe Lair (420 Safe Place) \nSunday Funday (games\, movies\, & brunch)
URL:https://www.vkind.com/vegan-events/vegan-sunday-brunch/2026-11-08/
LOCATION:The Lair 420 Social Club\, 323 N 52ND ST\, Philadelphia\, PA\, 19139\, United States
ATTACH;FMTTYPE=image/jpeg:https://www.vkind.com/wp-content/uploads/2023/07/Vegan-Sunday-Brunch.jpg
GEO:39.9660173;-75.2244895
X-APPLE-STRUCTURED-LOCATION;VALUE=URI;X-ADDRESS=The Lair 420 Social Club 323 N 52ND ST Philadelphia PA 19139 United States;X-APPLE-RADIUS=500;X-TITLE=323 N 52ND ST:geo:-75.2244895,39.9660173
END:VEVENT
BEGIN:VEVENT
DTSTART;TZID=America/New_York:20261115T120000
DTEND;TZID=America/New_York:20261115T150000
DTSTAMP:20260421T083119
CREATED:20230726T140602Z
LAST-MODIFIED:20230726T140602Z
UID:10001284-1794744000-1794754800@www.vkind.com
SUMMARY:Vegan Sunday Brunch
DESCRIPTION:Every Sunday \nNoon to 3 pm \nVegan Sunday Brunch \nThe Lair (420 Safe Place) \nSunday Funday (games\, movies\, & brunch)
URL:https://www.vkind.com/vegan-events/vegan-sunday-brunch/2026-11-15/
LOCATION:The Lair 420 Social Club\, 323 N 52ND ST\, Philadelphia\, PA\, 19139\, United States
ATTACH;FMTTYPE=image/jpeg:https://www.vkind.com/wp-content/uploads/2023/07/Vegan-Sunday-Brunch.jpg
GEO:39.9660173;-75.2244895
X-APPLE-STRUCTURED-LOCATION;VALUE=URI;X-ADDRESS=The Lair 420 Social Club 323 N 52ND ST Philadelphia PA 19139 United States;X-APPLE-RADIUS=500;X-TITLE=323 N 52ND ST:geo:-75.2244895,39.9660173
END:VEVENT
END:VCALENDAR