BEGIN:VCALENDAR
VERSION:2.0
PRODID:-//Vkind - ECPv6.15.14//NONSGML v1.0//EN
CALSCALE:GREGORIAN
METHOD:PUBLISH
X-ORIGINAL-URL:https://www.vkind.com
X-WR-CALDESC:Events for Vkind
REFRESH-INTERVAL;VALUE=DURATION:PT1H
X-Robots-Tag:noindex
X-PUBLISHED-TTL:PT1H
BEGIN:VTIMEZONE
TZID:America/Los_Angeles
BEGIN:DAYLIGHT
TZOFFSETFROM:-0800
TZOFFSETTO:-0700
TZNAME:PDT
DTSTART:20270314T100000
END:DAYLIGHT
BEGIN:STANDARD
TZOFFSETFROM:-0700
TZOFFSETTO:-0800
TZNAME:PST
DTSTART:20271107T090000
END:STANDARD
BEGIN:DAYLIGHT
TZOFFSETFROM:-0800
TZOFFSETTO:-0700
TZNAME:PDT
DTSTART:20280312T100000
END:DAYLIGHT
BEGIN:STANDARD
TZOFFSETFROM:-0700
TZOFFSETTO:-0800
TZNAME:PST
DTSTART:20281105T090000
END:STANDARD
BEGIN:DAYLIGHT
TZOFFSETFROM:-0800
TZOFFSETTO:-0700
TZNAME:PDT
DTSTART:20290311T100000
END:DAYLIGHT
BEGIN:STANDARD
TZOFFSETFROM:-0700
TZOFFSETTO:-0800
TZNAME:PST
DTSTART:20291104T090000
END:STANDARD
END:VTIMEZONE
BEGIN:VEVENT
DTSTART;TZID=America/Los_Angeles:20280812T120000
DTEND;TZID=America/Los_Angeles:20280812T150000
DTSTAMP:20260425T144331
CREATED:20230727T152440Z
LAST-MODIFIED:20230816T094354Z
UID:10007519-1849694400-1849705200@www.vkind.com
SUMMARY:SouthWest Vegan Food Tour in Las Vegas
DESCRIPTION:On this Southwest Food Tour\, you’ll sample delicious foods from around the world but in the convenience of the Southwest area. \n  \nNote: Begins at 12PM or 4PM depending on the day. \n  \nWe’ll start at a cozy vegan Italian spot\, and you’ll soon see why that is! We’ll have a seat\, share some mouth watering food! \n  \nThen we’ll head over to a local Juice Bar and you’ll learn about the benefits of juicing and smoothies. \n  \nLastly\, we’ll end at a plant based Mexican eatery where the food is yummy and (almost) guilt free. \n  \nWe’re going to focus our time at 3 major food spots in Southwest Las Vegas. You’ll sample everything from comfort food to upscale menu items! All the dishes and foods will be plant based and vary from indulgent to healthy on this unique tasting journey. \n  \nYou’ll walk no more than a half of mile in 2.5 hours because FREE transportation will be provided (for 2-4 people) in between restaurants\, and parked nearby.
URL:https://www.vkind.com/vegan-events/southwest-vegan-food-tour-in-las-vegas/2028-08-12/
LOCATION:7960 S Rainbow Blvd\, 7960 South Rainbow Boulevard\, Las Vegas\, NV\, 89139\, United States
ATTACH;FMTTYPE=image/jpeg:https://www.vkind.com/wp-content/uploads/2023/07/SouthWest-Vegan-Food-Tour-in-Las-Vegas.jpg
GEO:36.0434958;-115.2419203
X-APPLE-STRUCTURED-LOCATION;VALUE=URI;X-ADDRESS=7960 S Rainbow Blvd 7960 South Rainbow Boulevard Las Vegas NV 89139 United States;X-APPLE-RADIUS=500;X-TITLE=7960 South Rainbow Boulevard:geo:-115.2419203,36.0434958
END:VEVENT
BEGIN:VEVENT
DTSTART;TZID=America/Los_Angeles:20280813T120000
DTEND;TZID=America/Los_Angeles:20280813T150000
DTSTAMP:20260425T144331
CREATED:20230727T152440Z
LAST-MODIFIED:20230816T094354Z
UID:10007520-1849780800-1849791600@www.vkind.com
SUMMARY:SouthWest Vegan Food Tour in Las Vegas
DESCRIPTION:On this Southwest Food Tour\, you’ll sample delicious foods from around the world but in the convenience of the Southwest area. \n  \nNote: Begins at 12PM or 4PM depending on the day. \n  \nWe’ll start at a cozy vegan Italian spot\, and you’ll soon see why that is! We’ll have a seat\, share some mouth watering food! \n  \nThen we’ll head over to a local Juice Bar and you’ll learn about the benefits of juicing and smoothies. \n  \nLastly\, we’ll end at a plant based Mexican eatery where the food is yummy and (almost) guilt free. \n  \nWe’re going to focus our time at 3 major food spots in Southwest Las Vegas. You’ll sample everything from comfort food to upscale menu items! All the dishes and foods will be plant based and vary from indulgent to healthy on this unique tasting journey. \n  \nYou’ll walk no more than a half of mile in 2.5 hours because FREE transportation will be provided (for 2-4 people) in between restaurants\, and parked nearby.
URL:https://www.vkind.com/vegan-events/southwest-vegan-food-tour-in-las-vegas/2028-08-13/
LOCATION:7960 S Rainbow Blvd\, 7960 South Rainbow Boulevard\, Las Vegas\, NV\, 89139\, United States
ATTACH;FMTTYPE=image/jpeg:https://www.vkind.com/wp-content/uploads/2023/07/SouthWest-Vegan-Food-Tour-in-Las-Vegas.jpg
GEO:36.0434958;-115.2419203
X-APPLE-STRUCTURED-LOCATION;VALUE=URI;X-ADDRESS=7960 S Rainbow Blvd 7960 South Rainbow Boulevard Las Vegas NV 89139 United States;X-APPLE-RADIUS=500;X-TITLE=7960 South Rainbow Boulevard:geo:-115.2419203,36.0434958
END:VEVENT
BEGIN:VEVENT
DTSTART;TZID=America/Los_Angeles:20280814T120000
DTEND;TZID=America/Los_Angeles:20280814T150000
DTSTAMP:20260425T144331
CREATED:20230727T152440Z
LAST-MODIFIED:20230816T094354Z
UID:10007521-1849867200-1849878000@www.vkind.com
SUMMARY:SouthWest Vegan Food Tour in Las Vegas
DESCRIPTION:On this Southwest Food Tour\, you’ll sample delicious foods from around the world but in the convenience of the Southwest area. \n  \nNote: Begins at 12PM or 4PM depending on the day. \n  \nWe’ll start at a cozy vegan Italian spot\, and you’ll soon see why that is! We’ll have a seat\, share some mouth watering food! \n  \nThen we’ll head over to a local Juice Bar and you’ll learn about the benefits of juicing and smoothies. \n  \nLastly\, we’ll end at a plant based Mexican eatery where the food is yummy and (almost) guilt free. \n  \nWe’re going to focus our time at 3 major food spots in Southwest Las Vegas. You’ll sample everything from comfort food to upscale menu items! All the dishes and foods will be plant based and vary from indulgent to healthy on this unique tasting journey. \n  \nYou’ll walk no more than a half of mile in 2.5 hours because FREE transportation will be provided (for 2-4 people) in between restaurants\, and parked nearby.
URL:https://www.vkind.com/vegan-events/southwest-vegan-food-tour-in-las-vegas/2028-08-14/
LOCATION:7960 S Rainbow Blvd\, 7960 South Rainbow Boulevard\, Las Vegas\, NV\, 89139\, United States
ATTACH;FMTTYPE=image/jpeg:https://www.vkind.com/wp-content/uploads/2023/07/SouthWest-Vegan-Food-Tour-in-Las-Vegas.jpg
GEO:36.0434958;-115.2419203
X-APPLE-STRUCTURED-LOCATION;VALUE=URI;X-ADDRESS=7960 S Rainbow Blvd 7960 South Rainbow Boulevard Las Vegas NV 89139 United States;X-APPLE-RADIUS=500;X-TITLE=7960 South Rainbow Boulevard:geo:-115.2419203,36.0434958
END:VEVENT
BEGIN:VEVENT
DTSTART;TZID=America/Los_Angeles:20280815T120000
DTEND;TZID=America/Los_Angeles:20280815T150000
DTSTAMP:20260425T144331
CREATED:20230727T152440Z
LAST-MODIFIED:20230816T094354Z
UID:10007522-1849953600-1849964400@www.vkind.com
SUMMARY:SouthWest Vegan Food Tour in Las Vegas
DESCRIPTION:On this Southwest Food Tour\, you’ll sample delicious foods from around the world but in the convenience of the Southwest area. \n  \nNote: Begins at 12PM or 4PM depending on the day. \n  \nWe’ll start at a cozy vegan Italian spot\, and you’ll soon see why that is! We’ll have a seat\, share some mouth watering food! \n  \nThen we’ll head over to a local Juice Bar and you’ll learn about the benefits of juicing and smoothies. \n  \nLastly\, we’ll end at a plant based Mexican eatery where the food is yummy and (almost) guilt free. \n  \nWe’re going to focus our time at 3 major food spots in Southwest Las Vegas. You’ll sample everything from comfort food to upscale menu items! All the dishes and foods will be plant based and vary from indulgent to healthy on this unique tasting journey. \n  \nYou’ll walk no more than a half of mile in 2.5 hours because FREE transportation will be provided (for 2-4 people) in between restaurants\, and parked nearby.
URL:https://www.vkind.com/vegan-events/southwest-vegan-food-tour-in-las-vegas/2028-08-15/
LOCATION:7960 S Rainbow Blvd\, 7960 South Rainbow Boulevard\, Las Vegas\, NV\, 89139\, United States
ATTACH;FMTTYPE=image/jpeg:https://www.vkind.com/wp-content/uploads/2023/07/SouthWest-Vegan-Food-Tour-in-Las-Vegas.jpg
GEO:36.0434958;-115.2419203
X-APPLE-STRUCTURED-LOCATION;VALUE=URI;X-ADDRESS=7960 S Rainbow Blvd 7960 South Rainbow Boulevard Las Vegas NV 89139 United States;X-APPLE-RADIUS=500;X-TITLE=7960 South Rainbow Boulevard:geo:-115.2419203,36.0434958
END:VEVENT
BEGIN:VEVENT
DTSTART;TZID=America/Los_Angeles:20280816T120000
DTEND;TZID=America/Los_Angeles:20280816T150000
DTSTAMP:20260425T144331
CREATED:20230727T152440Z
LAST-MODIFIED:20230816T094354Z
UID:10007523-1850040000-1850050800@www.vkind.com
SUMMARY:SouthWest Vegan Food Tour in Las Vegas
DESCRIPTION:On this Southwest Food Tour\, you’ll sample delicious foods from around the world but in the convenience of the Southwest area. \n  \nNote: Begins at 12PM or 4PM depending on the day. \n  \nWe’ll start at a cozy vegan Italian spot\, and you’ll soon see why that is! We’ll have a seat\, share some mouth watering food! \n  \nThen we’ll head over to a local Juice Bar and you’ll learn about the benefits of juicing and smoothies. \n  \nLastly\, we’ll end at a plant based Mexican eatery where the food is yummy and (almost) guilt free. \n  \nWe’re going to focus our time at 3 major food spots in Southwest Las Vegas. You’ll sample everything from comfort food to upscale menu items! All the dishes and foods will be plant based and vary from indulgent to healthy on this unique tasting journey. \n  \nYou’ll walk no more than a half of mile in 2.5 hours because FREE transportation will be provided (for 2-4 people) in between restaurants\, and parked nearby.
URL:https://www.vkind.com/vegan-events/southwest-vegan-food-tour-in-las-vegas/2028-08-16/
LOCATION:7960 S Rainbow Blvd\, 7960 South Rainbow Boulevard\, Las Vegas\, NV\, 89139\, United States
ATTACH;FMTTYPE=image/jpeg:https://www.vkind.com/wp-content/uploads/2023/07/SouthWest-Vegan-Food-Tour-in-Las-Vegas.jpg
GEO:36.0434958;-115.2419203
X-APPLE-STRUCTURED-LOCATION;VALUE=URI;X-ADDRESS=7960 S Rainbow Blvd 7960 South Rainbow Boulevard Las Vegas NV 89139 United States;X-APPLE-RADIUS=500;X-TITLE=7960 South Rainbow Boulevard:geo:-115.2419203,36.0434958
END:VEVENT
END:VCALENDAR