BEGIN:VCALENDAR
VERSION:2.0
PRODID:-//Vkind - ECPv6.15.14//NONSGML v1.0//EN
CALSCALE:GREGORIAN
METHOD:PUBLISH
X-WR-CALNAME:Vkind
X-ORIGINAL-URL:https://www.vkind.com
X-WR-CALDESC:Events for Vkind
REFRESH-INTERVAL;VALUE=DURATION:PT1H
X-Robots-Tag:noindex
X-PUBLISHED-TTL:PT1H
BEGIN:VTIMEZONE
TZID:America/Phoenix
BEGIN:STANDARD
TZOFFSETFROM:-0700
TZOFFSETTO:-0700
TZNAME:MST
DTSTART:20210101T000000
END:STANDARD
END:VTIMEZONE
BEGIN:VEVENT
DTSTART;TZID=America/Phoenix:20221211T140000
DTEND;TZID=America/Phoenix:20221211T210000
DTSTAMP:20260424T025414
CREATED:20221109T151749Z
LAST-MODIFIED:20221109T151905Z
UID:10000339-1670767200-1670792400@www.vkind.com
SUMMARY:Vegan Night Market Portland
DESCRIPTION:The Vegan Night Market brought to you by Veggies Do It Better happens in both Portland\, Oregon\, and Seattle\, Washington!
URL:https://www.vkind.com/vegan-events/vegan-night-market-portland-2/
LOCATION:Redd on Salmon Street\, 831 SE Salmon Street\, Portland\, OR\, 97214\, United States
ATTACH;FMTTYPE=image/jpeg:https://www.vkind.com/wp-content/uploads/2022/11/Vegan-Night-Market-Portland-Logo.jpeg
GEO:45.5147308;-122.6569886
X-APPLE-STRUCTURED-LOCATION;VALUE=URI;X-ADDRESS=Redd on Salmon Street 831 SE Salmon Street Portland OR 97214 United States;X-APPLE-RADIUS=500;X-TITLE=831 SE Salmon Street:geo:-122.6569886,45.5147308
END:VEVENT
END:VCALENDAR