BEGIN:VCALENDAR
VERSION:2.0
PRODID:-//Vkind - ECPv6.15.14//NONSGML v1.0//EN
CALSCALE:GREGORIAN
METHOD:PUBLISH
X-WR-CALNAME:Vkind
X-ORIGINAL-URL:https://www.vkind.com
X-WR-CALDESC:Events for Vkind
REFRESH-INTERVAL;VALUE=DURATION:PT1H
X-Robots-Tag:noindex
X-PUBLISHED-TTL:PT1H
BEGIN:VTIMEZONE
TZID:America/New_York
BEGIN:DAYLIGHT
TZOFFSETFROM:-0500
TZOFFSETTO:-0400
TZNAME:EDT
DTSTART:20220313T070000
END:DAYLIGHT
BEGIN:STANDARD
TZOFFSETFROM:-0400
TZOFFSETTO:-0500
TZNAME:EST
DTSTART:20221106T060000
END:STANDARD
BEGIN:DAYLIGHT
TZOFFSETFROM:-0500
TZOFFSETTO:-0400
TZNAME:EDT
DTSTART:20230312T070000
END:DAYLIGHT
BEGIN:STANDARD
TZOFFSETFROM:-0400
TZOFFSETTO:-0500
TZNAME:EST
DTSTART:20231105T060000
END:STANDARD
BEGIN:DAYLIGHT
TZOFFSETFROM:-0500
TZOFFSETTO:-0400
TZNAME:EDT
DTSTART:20240310T070000
END:DAYLIGHT
BEGIN:STANDARD
TZOFFSETFROM:-0400
TZOFFSETTO:-0500
TZNAME:EST
DTSTART:20241103T060000
END:STANDARD
END:VTIMEZONE
BEGIN:VTIMEZONE
TZID:America/Los_Angeles
BEGIN:DAYLIGHT
TZOFFSETFROM:-0800
TZOFFSETTO:-0700
TZNAME:PDT
DTSTART:20220313T100000
END:DAYLIGHT
BEGIN:STANDARD
TZOFFSETFROM:-0700
TZOFFSETTO:-0800
TZNAME:PST
DTSTART:20221106T090000
END:STANDARD
BEGIN:DAYLIGHT
TZOFFSETFROM:-0800
TZOFFSETTO:-0700
TZNAME:PDT
DTSTART:20230312T100000
END:DAYLIGHT
BEGIN:STANDARD
TZOFFSETFROM:-0700
TZOFFSETTO:-0800
TZNAME:PST
DTSTART:20231105T090000
END:STANDARD
BEGIN:DAYLIGHT
TZOFFSETFROM:-0800
TZOFFSETTO:-0700
TZNAME:PDT
DTSTART:20240310T100000
END:DAYLIGHT
BEGIN:STANDARD
TZOFFSETFROM:-0700
TZOFFSETTO:-0800
TZNAME:PST
DTSTART:20241103T090000
END:STANDARD
END:VTIMEZONE
BEGIN:VTIMEZONE
TZID:America/Detroit
BEGIN:DAYLIGHT
TZOFFSETFROM:-0500
TZOFFSETTO:-0400
TZNAME:EDT
DTSTART:20220313T070000
END:DAYLIGHT
BEGIN:STANDARD
TZOFFSETFROM:-0400
TZOFFSETTO:-0500
TZNAME:EST
DTSTART:20221106T060000
END:STANDARD
BEGIN:DAYLIGHT
TZOFFSETFROM:-0500
TZOFFSETTO:-0400
TZNAME:EDT
DTSTART:20230312T070000
END:DAYLIGHT
BEGIN:STANDARD
TZOFFSETFROM:-0400
TZOFFSETTO:-0500
TZNAME:EST
DTSTART:20231105T060000
END:STANDARD
BEGIN:DAYLIGHT
TZOFFSETFROM:-0500
TZOFFSETTO:-0400
TZNAME:EDT
DTSTART:20240310T070000
END:DAYLIGHT
BEGIN:STANDARD
TZOFFSETFROM:-0400
TZOFFSETTO:-0500
TZNAME:EST
DTSTART:20241103T060000
END:STANDARD
END:VTIMEZONE
BEGIN:VTIMEZONE
TZID:America/Chicago
BEGIN:DAYLIGHT
TZOFFSETFROM:-0600
TZOFFSETTO:-0500
TZNAME:CDT
DTSTART:20220313T080000
END:DAYLIGHT
BEGIN:STANDARD
TZOFFSETFROM:-0500
TZOFFSETTO:-0600
TZNAME:CST
DTSTART:20221106T070000
END:STANDARD
BEGIN:DAYLIGHT
TZOFFSETFROM:-0600
TZOFFSETTO:-0500
TZNAME:CDT
DTSTART:20230312T080000
END:DAYLIGHT
BEGIN:STANDARD
TZOFFSETFROM:-0500
TZOFFSETTO:-0600
TZNAME:CST
DTSTART:20231105T070000
END:STANDARD
BEGIN:DAYLIGHT
TZOFFSETFROM:-0600
TZOFFSETTO:-0500
TZNAME:CDT
DTSTART:20240310T080000
END:DAYLIGHT
BEGIN:STANDARD
TZOFFSETFROM:-0500
TZOFFSETTO:-0600
TZNAME:CST
DTSTART:20241103T070000
END:STANDARD
END:VTIMEZONE
BEGIN:VEVENT
DTSTART;TZID=America/New_York:20231202T110000
DTEND;TZID=America/New_York:20231202T180000
DTSTAMP:20260423T011651
CREATED:20230531T175317Z
LAST-MODIFIED:20230531T180536Z
UID:10000532-1701514800-1701540000@www.vkind.com
SUMMARY:Vegandale Miami
DESCRIPTION:Vegandale is an experience that encompasses visual art\, music\, food\, and spirits. \nVegandale Miami is happening on December 2\, 2023.
URL:https://www.vkind.com/vegan-events/vegandale-miami/
LOCATION:Historic Virginia Key Beach Park\, 4020 Virginia Beach Dr\, Miami\, FL\, 33149\, United States
ATTACH;FMTTYPE=image/jpeg:https://www.vkind.com/wp-content/uploads/2023/05/Vegandale-Miami.jpg
GEO:25.7349443;-80.1566608
X-APPLE-STRUCTURED-LOCATION;VALUE=URI;X-ADDRESS=Historic Virginia Key Beach Park 4020 Virginia Beach Dr Miami FL 33149 United States;X-APPLE-RADIUS=500;X-TITLE=4020 Virginia Beach Dr:geo:-80.1566608,25.7349443
END:VEVENT
BEGIN:VEVENT
DTSTART;TZID=America/Los_Angeles:20231028T110000
DTEND;TZID=America/Los_Angeles:20231028T180000
DTSTAMP:20260423T011651
CREATED:20230531T174807Z
LAST-MODIFIED:20230531T180603Z
UID:10000531-1698490800-1698516000@www.vkind.com
SUMMARY:Vegandale Los Angeles
DESCRIPTION:Vegandale is an experience that encompasses visual art\, music\, food\, and spirits. \nVegandale Los Angeles is happening on October 28\, 2023. \n 
URL:https://www.vkind.com/vegan-events/vegandale-los-angeles/
LOCATION:Los Angeles State Historic Park\, 1245 N Spring St\, Los Angeles\, CA\, 90012\, United States
ATTACH;FMTTYPE=image/jpeg:https://www.vkind.com/wp-content/uploads/2023/05/Vegandale-Los-Angeles.jpg
GEO:34.0653559;-118.2351975
X-APPLE-STRUCTURED-LOCATION;VALUE=URI;X-ADDRESS=Los Angeles State Historic Park 1245 N Spring St Los Angeles CA 90012 United States;X-APPLE-RADIUS=500;X-TITLE=1245 N Spring St:geo:-118.2351975,34.0653559
END:VEVENT
BEGIN:VEVENT
DTSTART;TZID=America/Detroit:20231014T110000
DTEND;TZID=America/Detroit:20231014T180000
DTSTAMP:20260423T011651
CREATED:20230531T180232Z
LAST-MODIFIED:20230531T180741Z
UID:10000535-1697281200-1697306400@www.vkind.com
SUMMARY:Vegandale Dallas
DESCRIPTION:Vegandale is an experience that encompasses visual art\, music\, food\, and spirits. \nVegandale Dallas is happening on October 14\, 2023.
URL:https://www.vkind.com/vegan-events/vegandale-dallas/
LOCATION:Addison Circle Park\, 4970 Addison Cir\, Addison\, TX\, 75001\, United States
ATTACH;FMTTYPE=image/jpeg:https://www.vkind.com/wp-content/uploads/2023/05/Vegandale-Dallas.jpg
GEO:32.9612856;-96.8267048
X-APPLE-STRUCTURED-LOCATION;VALUE=URI;X-ADDRESS=Addison Circle Park 4970 Addison Cir Addison TX 75001 United States;X-APPLE-RADIUS=500;X-TITLE=4970 Addison Cir:geo:-96.8267048,32.9612856
END:VEVENT
BEGIN:VEVENT
DTSTART;TZID=America/Detroit:20230916T110000
DTEND;TZID=America/Detroit:20230916T180000
DTSTAMP:20260423T011651
CREATED:20230531T175840Z
LAST-MODIFIED:20230531T180524Z
UID:10000534-1694862000-1694887200@www.vkind.com
SUMMARY:Vegandale New York
DESCRIPTION:Vegandale is an experience that encompasses visual art\, music\, food\, and spirits. \nVegandale New York is happening on September 16\, 2023.
URL:https://www.vkind.com/vegan-events/vegandale-new-york/
LOCATION:Randall’s Island Park\, 20 Randalls Island Park\, New York\, NY\, 10035\, United States
ATTACH;FMTTYPE=image/jpeg:https://www.vkind.com/wp-content/uploads/2023/05/Vegandale-New-York.jpg
GEO:40.795813;-73.922517
X-APPLE-STRUCTURED-LOCATION;VALUE=URI;X-ADDRESS=Randall’s Island Park 20 Randalls Island Park New York NY 10035 United States;X-APPLE-RADIUS=500;X-TITLE=20 Randalls Island Park:geo:-73.922517,40.795813
END:VEVENT
BEGIN:VEVENT
DTSTART;TZID=America/Chicago:20230610T110000
DTEND;TZID=America/Chicago:20230610T180000
DTSTAMP:20260423T011651
CREATED:20230531T175626Z
LAST-MODIFIED:20230531T180530Z
UID:10000533-1686394800-1686420000@www.vkind.com
SUMMARY:Vegandale Chicago
DESCRIPTION:Vegandale is an experience that encompasses visual art\, music\, food\, and spirits. \nVegandale Chicago is happening on June 10\, 2023. \n 
URL:https://www.vkind.com/vegan-events/vegandale-chicago/
LOCATION:Grant Park\, Butler Field\, 350 E Monroe St\, Chicago\, IL\, 60601\, United States
ATTACH;FMTTYPE=image/jpeg:https://www.vkind.com/wp-content/uploads/2023/05/Vegandale-Chicago.jpg
GEO:41.8804018;-87.6203929
X-APPLE-STRUCTURED-LOCATION;VALUE=URI;X-ADDRESS=Grant Park Butler Field 350 E Monroe St Chicago IL 60601 United States;X-APPLE-RADIUS=500;X-TITLE=350 E Monroe St:geo:-87.6203929,41.8804018
END:VEVENT
END:VCALENDAR