BEGIN:VCALENDAR
VERSION:2.0
PRODID:-//Vkind - ECPv6.15.14//NONSGML v1.0//EN
CALSCALE:GREGORIAN
METHOD:PUBLISH
X-ORIGINAL-URL:https://www.vkind.com
X-WR-CALDESC:Events for Vkind
REFRESH-INTERVAL;VALUE=DURATION:PT1H
X-Robots-Tag:noindex
X-PUBLISHED-TTL:PT1H
BEGIN:VTIMEZONE
TZID:America/New_York
BEGIN:DAYLIGHT
TZOFFSETFROM:-0500
TZOFFSETTO:-0400
TZNAME:EDT
DTSTART:20220313T070000
END:DAYLIGHT
BEGIN:STANDARD
TZOFFSETFROM:-0400
TZOFFSETTO:-0500
TZNAME:EST
DTSTART:20221106T060000
END:STANDARD
BEGIN:DAYLIGHT
TZOFFSETFROM:-0500
TZOFFSETTO:-0400
TZNAME:EDT
DTSTART:20230312T070000
END:DAYLIGHT
BEGIN:STANDARD
TZOFFSETFROM:-0400
TZOFFSETTO:-0500
TZNAME:EST
DTSTART:20231105T060000
END:STANDARD
BEGIN:DAYLIGHT
TZOFFSETFROM:-0500
TZOFFSETTO:-0400
TZNAME:EDT
DTSTART:20240310T070000
END:DAYLIGHT
BEGIN:STANDARD
TZOFFSETFROM:-0400
TZOFFSETTO:-0500
TZNAME:EST
DTSTART:20241103T060000
END:STANDARD
END:VTIMEZONE
BEGIN:VEVENT
DTSTART;TZID=America/New_York:20230819T110000
DTEND;TZID=America/New_York:20230819T190000
DTSTAMP:20260423T151342
CREATED:20230724T175603Z
LAST-MODIFIED:20230724T175603Z
UID:10000584-1692442800-1692471600@www.vkind.com
SUMMARY:Vegan Grill N' Chill
DESCRIPTION:Join us for the 6th Annual Vegan Grill & Chill\, a celebration of delectable vegan cuisine\, community\, and a healthier way of living. Indulge in a variety of mouthwatering plant-based dishes\, connect with like-minded individuals\, and immerse yourself in an exciting day of activities for all ages. \nHighlights: \n– Culinary Delights: Experience the tantalizing flavors of vegan cuisine with an array of scrumptious options\, from savory plant-based burgers to sizzling BBQ jackfruit and delectable vegan desserts that will leave you craving for more from over 50 vendors. \n  \n– Community Connection: Connect with a vibrant community of food lovers\, eco-conscious individuals\, and those passionate about leading a compassionate lifestyle. Share stories\, make new friends\, and discover the power of community in creating positive change. \n  \n– Expert Speakers and Demonstrations: Expand your knowledge about veganism and healthy living with engaging talks by experts in the field. Learn new cooking techniques\, explore sustainable practices\, and gain insights into the benefits of a plant-based lifestyle. \n  \n– Fun-filled Activities: Enjoy live music performances by talented local artists\, participate in engaging workshops\, a classic car show and kid friendly activities. There’s something for everyone in the family to enjoy! \n  \n– VIP Experience: Elevate your day with our exclusive VIP package. Gain access to an adult-only section with complimentary cocktail seating\, where you can relax and savor the atmosphere. Enjoy priority entry\, a dedicated VIP lounge\, and additional perks to make your experience truly special. \n  \n– Vendor Experience: Delight in the offerings of our carefully curated vendors\, showcasing the best of vegan products\, services\, and initiatives. Support local businesses and discover unique vegan creations to enhance your everyday life. \n  \nDon’t miss out on this exceptional culinary celebration! Reserve your spot today and join us for a day filled with fantastic food\, positive vibes\, and lasting memories. Let’s come together and enjoy the ultimate vegan foodie experience\, including our exclusive VIP section\, at the 6th Annual Vegan Grill & Chill! 🌱🔥 Calling all foodies and plant-based enthusiasts!
URL:https://www.vkind.com/vegan-events/vegan-grill-n-chill/
LOCATION:Laurelton LIRR Station\, 225th Street & 141st Road\, New York City\, NY\, 11413\, United States
ATTACH;FMTTYPE=image/jpeg:https://www.vkind.com/wp-content/uploads/2023/07/Vegan-Grill-N-Chill.jpg
GEO:40.6686029;-73.7504477
X-APPLE-STRUCTURED-LOCATION;VALUE=URI;X-ADDRESS=Laurelton LIRR Station 225th Street & 141st Road New York City NY 11413 United States;X-APPLE-RADIUS=500;X-TITLE=225th Street & 141st Road:geo:-73.7504477,40.6686029
END:VEVENT
END:VCALENDAR