BEGIN:VCALENDAR
VERSION:2.0
PRODID:-//Vkind - ECPv6.15.14//NONSGML v1.0//EN
CALSCALE:GREGORIAN
METHOD:PUBLISH
X-ORIGINAL-URL:https://www.vkind.com
X-WR-CALDESC:Events for Vkind
REFRESH-INTERVAL;VALUE=DURATION:PT1H
X-Robots-Tag:noindex
X-PUBLISHED-TTL:PT1H
BEGIN:VTIMEZONE
TZID:America/Los_Angeles
BEGIN:DAYLIGHT
TZOFFSETFROM:-0800
TZOFFSETTO:-0700
TZNAME:PDT
DTSTART:20200308T100000
END:DAYLIGHT
BEGIN:STANDARD
TZOFFSETFROM:-0700
TZOFFSETTO:-0800
TZNAME:PST
DTSTART:20201101T090000
END:STANDARD
BEGIN:DAYLIGHT
TZOFFSETFROM:-0800
TZOFFSETTO:-0700
TZNAME:PDT
DTSTART:20210314T100000
END:DAYLIGHT
BEGIN:STANDARD
TZOFFSETFROM:-0700
TZOFFSETTO:-0800
TZNAME:PST
DTSTART:20211107T090000
END:STANDARD
BEGIN:DAYLIGHT
TZOFFSETFROM:-0800
TZOFFSETTO:-0700
TZNAME:PDT
DTSTART:20220313T100000
END:DAYLIGHT
BEGIN:STANDARD
TZOFFSETFROM:-0700
TZOFFSETTO:-0800
TZNAME:PST
DTSTART:20221106T090000
END:STANDARD
END:VTIMEZONE
BEGIN:VEVENT
DTSTART;TZID=America/Los_Angeles:20210811T170000
DTEND;TZID=America/Los_Angeles:20210811T210000
DTSTAMP:20260424T094831
CREATED:20221213T153519Z
LAST-MODIFIED:20250321T030042Z
UID:10000388-1628701200-1628715600@www.vkind.com
SUMMARY:Vegan Playground Summer Nights LA - Boomtown Brewery - August 11\, 2021
DESCRIPTION:Vegan Playground is the go-to weekly night market of the Los Angeles Arts District\, uniting lovers of food\, music\, and good times.\n\n\nVegan Playground is the go-to weekly night market of the LA Arts District\, uniting lovers of food\, music\, and good times. This event series will take place every Wednesday night. Join us and 20+ rotating vegan vendors each week in celebrating all things vegan!  \nVegan Playground LA Arts District \nBoomtown Brewery \n700 Jackson Street \nLos Angeles\, CA 90012 \n \nEvery Wednesday \n5PM – 9PM \n \nSoCal’s best vegan food\, drink\, and goods vendors \nFree admission \nFree & ample parking \nFamily Friendly \nDog Friendly \nMusic\, games\, brews \n \nAugust 11 Vendors: \nA Cuddle a Day Pet Boutique \nAll Vegan Franks \nAuraganic Juicery \nBody Kantina \nBrune Kitchen \nCena Vegan \nChampignon Eats \nCrystals by Starr \nDevi’s Donuts \nDzolik Vegan Leather \nGod in Me Designs \nHalfbakedLA \nKimama Cafe \nLobo Cuban Food \nLunita Crystal Magic \nMade Design Jewelry \nMANEATINGPLANT \nNoHo Candle Co \nOono Sushi \nOriginal Herbivore \nPrana by Lana \nSin Verguenza Chicana \nSrey Vegan \nThe Plant Lab \nVeggietize Me \nWord of Mouth Truck
URL:https://www.vkind.com/vegan-events/vegan-playground-summer-nights-la-boomtown-brewery-august-11-2021/
LOCATION:Boomtown Brewery\, 700 Jackson Street\, Los Angeles\, CA\, 90012\, United States
ATTACH;FMTTYPE=image/jpeg:https://www.vkind.com/wp-content/uploads/2021/08/d1ad4c1457097157a8f0453930a5a145.jpg
GEO:34.0507877;-118.2332004
X-APPLE-STRUCTURED-LOCATION;VALUE=URI;X-ADDRESS=Boomtown Brewery 700 Jackson Street Los Angeles CA 90012 United States;X-APPLE-RADIUS=500;X-TITLE=700 Jackson Street:geo:-118.2332004,34.0507877
END:VEVENT
BEGIN:VEVENT
DTSTART;TZID=America/Los_Angeles:20210728T170000
DTEND;TZID=America/Los_Angeles:20210728T210000
DTSTAMP:20260424T094831
CREATED:20221213T152138Z
LAST-MODIFIED:20250330T114526Z
UID:10000387-1627491600-1627506000@www.vkind.com
SUMMARY:Vegan Playground Summer Nights LA - Boomtown Brewery - July 28\, 2021
DESCRIPTION:Vegan Playground is the go-to weekly night market of the Los Angeles Arts District\, uniting lovers of food\, music\, and good times.\n\n\nVegan Playground is the go-to weekly night market of the LA Arts District\, uniting lovers of food\, music\, and good times. This event series will take place every Wednesday night. Join us and 20+ rotating vegan vendors each week in celebrating all things vegan!  \n \nVegan Playground LA Arts District \nBoomtown Brewery \n700 Jackson Street \nLos Angeles\, CA 90012 \n \nEvery Wednesday \n5PM – 9PM \n \nJULY 28TH VENDORS \nFood Vendors \nAll Vegan Franks  \nAuraganic Juicery  \nBrune Kitchen \nCena Vegan  \nCompton Vegan \nDevi’s Donuts \nDrippin Wangz \nOono Sushi \nThe Plant Lab \nThe Plant Power Truck \nRaw Crumbs \nRevive Blends \nSrey Vegan  \nTBD Coffee Co \nVeggietize Me  \nWest Coast Pretzels \nWholesome Zen  \n \nMerch Vendors: \nBody Kantina \nDzolik Vegan Leather  \nJannah Alchemist  \nMade Design Jewelry  \nNoHo Candle Co \nPlantmade \nPrana by Lana \n \nSoCal’s best vegan food\, drink\, and goods vendors \nFree admission \nFree & ample parking \nFamily Friendly \nDog Friendly \nMusic\, games\, brews
URL:https://www.vkind.com/vegan-events/vegan-playground-summer-nights-la-boomtown-brewery-july-28-2021/
LOCATION:Boomtown Brewery\, 700 Jackson Street\, Los Angeles\, CA\, 90012\, United States
ATTACH;FMTTYPE=image/jpeg:https://www.vkind.com/wp-content/uploads/2021/07/c62f2564a969d9e1dd48a99901ea79ec.jpg
GEO:34.0507877;-118.2332004
X-APPLE-STRUCTURED-LOCATION;VALUE=URI;X-ADDRESS=Boomtown Brewery 700 Jackson Street Los Angeles CA 90012 United States;X-APPLE-RADIUS=500;X-TITLE=700 Jackson Street:geo:-118.2332004,34.0507877
END:VEVENT
END:VCALENDAR