BEGIN:VCALENDAR
VERSION:2.0
PRODID:-//Vkind - ECPv6.15.14//NONSGML v1.0//EN
CALSCALE:GREGORIAN
METHOD:PUBLISH
X-WR-CALNAME:Vkind
X-ORIGINAL-URL:https://www.vkind.com
X-WR-CALDESC:Events for Vkind
REFRESH-INTERVAL;VALUE=DURATION:PT1H
X-Robots-Tag:noindex
X-PUBLISHED-TTL:PT1H
BEGIN:VTIMEZONE
TZID:America/Detroit
BEGIN:DAYLIGHT
TZOFFSETFROM:-0500
TZOFFSETTO:-0400
TZNAME:EDT
DTSTART:20220313T070000
END:DAYLIGHT
BEGIN:STANDARD
TZOFFSETFROM:-0400
TZOFFSETTO:-0500
TZNAME:EST
DTSTART:20221106T060000
END:STANDARD
BEGIN:DAYLIGHT
TZOFFSETFROM:-0500
TZOFFSETTO:-0400
TZNAME:EDT
DTSTART:20230312T070000
END:DAYLIGHT
BEGIN:STANDARD
TZOFFSETFROM:-0400
TZOFFSETTO:-0500
TZNAME:EST
DTSTART:20231105T060000
END:STANDARD
BEGIN:DAYLIGHT
TZOFFSETFROM:-0500
TZOFFSETTO:-0400
TZNAME:EDT
DTSTART:20240310T070000
END:DAYLIGHT
BEGIN:STANDARD
TZOFFSETFROM:-0400
TZOFFSETTO:-0500
TZNAME:EST
DTSTART:20241103T060000
END:STANDARD
END:VTIMEZONE
BEGIN:VEVENT
DTSTART;TZID=America/Detroit:20230917T100000
DTEND;TZID=America/Detroit:20230917T160000
DTSTAMP:20260424T090105
CREATED:20230531T183419Z
LAST-MODIFIED:20230531T183419Z
UID:10000539-1694944800-1694966400@www.vkind.com
SUMMARY:Twin Cities Veg Fest
DESCRIPTION:Twin Cities Veg Fest is the biggest festival of its kind in the Midwest! Returning to Harriet Island Park on September 17\, 2023.
URL:https://www.vkind.com/vegan-events/twin-cities-veg-fest/
LOCATION:Harriet Island Regional Park\, 108 W Water St\, St. Paul\, MN\, 55107\, United States
ATTACH;FMTTYPE=image/jpeg:https://www.vkind.com/wp-content/uploads/2023/05/Twin-Cities-VegFest.jpg
GEO:44.9378151;-93.0934087
X-APPLE-STRUCTURED-LOCATION;VALUE=URI;X-ADDRESS=Harriet Island Regional Park 108 W Water St St. Paul MN 55107 United States;X-APPLE-RADIUS=500;X-TITLE=108 W Water St:geo:-93.0934087,44.9378151
END:VEVENT
END:VCALENDAR