BEGIN:VCALENDAR
VERSION:2.0
PRODID:-//Vkind - ECPv6.15.14//NONSGML v1.0//EN
CALSCALE:GREGORIAN
METHOD:PUBLISH
X-WR-CALNAME:Vkind
X-ORIGINAL-URL:https://www.vkind.com
X-WR-CALDESC:Events for Vkind
REFRESH-INTERVAL;VALUE=DURATION:PT1H
X-Robots-Tag:noindex
X-PUBLISHED-TTL:PT1H
BEGIN:VTIMEZONE
TZID:America/Detroit
BEGIN:DAYLIGHT
TZOFFSETFROM:-0500
TZOFFSETTO:-0400
TZNAME:EDT
DTSTART:20220313T070000
END:DAYLIGHT
BEGIN:STANDARD
TZOFFSETFROM:-0400
TZOFFSETTO:-0500
TZNAME:EST
DTSTART:20221106T060000
END:STANDARD
BEGIN:DAYLIGHT
TZOFFSETFROM:-0500
TZOFFSETTO:-0400
TZNAME:EDT
DTSTART:20230312T070000
END:DAYLIGHT
BEGIN:STANDARD
TZOFFSETFROM:-0400
TZOFFSETTO:-0500
TZNAME:EST
DTSTART:20231105T060000
END:STANDARD
BEGIN:DAYLIGHT
TZOFFSETFROM:-0500
TZOFFSETTO:-0400
TZNAME:EDT
DTSTART:20240310T070000
END:DAYLIGHT
BEGIN:STANDARD
TZOFFSETFROM:-0400
TZOFFSETTO:-0500
TZNAME:EST
DTSTART:20241103T060000
END:STANDARD
END:VTIMEZONE
BEGIN:VEVENT
DTSTART;TZID=America/Detroit:20230727T080000
DTEND;TZID=America/Detroit:20230730T170000
DTSTAMP:20260423T184347
CREATED:20230531T193826Z
LAST-MODIFIED:20230531T193826Z
UID:10000550-1690444800-1690736400@www.vkind.com
SUMMARY:The Animal & Vegan Advocacy (AVA) Summit
DESCRIPTION:We are an overarching conference series for the animal and vegan advocacy movement\, bringing advocates together from around the world who are focusing on systemic change and working on various tactics\, strategies\, and approaches toward one shared vision: removing animals from our food system and other human use.
URL:https://www.vkind.com/vegan-events/the-animal-vegan-advocacy-ava-summit/
LOCATION:LAX Marriott\, 5855 W Century Blvd\, Los Angeles\, CA\, 90045\, United States
ATTACH;FMTTYPE=image/jpeg:https://www.vkind.com/wp-content/uploads/2023/05/The-Animal-Vegan-Advocacy-Summit.jpg
GEO:33.9464042;-118.3844515
X-APPLE-STRUCTURED-LOCATION;VALUE=URI;X-ADDRESS=LAX Marriott 5855 W Century Blvd Los Angeles CA 90045 United States;X-APPLE-RADIUS=500;X-TITLE=5855 W Century Blvd:geo:-118.3844515,33.9464042
END:VEVENT
END:VCALENDAR