BEGIN:VCALENDAR
VERSION:2.0
PRODID:-//Vkind - ECPv6.15.14//NONSGML v1.0//EN
CALSCALE:GREGORIAN
METHOD:PUBLISH
X-WR-CALNAME:Vkind
X-ORIGINAL-URL:https://www.vkind.com
X-WR-CALDESC:Events for Vkind
REFRESH-INTERVAL;VALUE=DURATION:PT1H
X-Robots-Tag:noindex
X-PUBLISHED-TTL:PT1H
BEGIN:VTIMEZONE
TZID:America/Chicago
BEGIN:DAYLIGHT
TZOFFSETFROM:-0600
TZOFFSETTO:-0500
TZNAME:CDT
DTSTART:20220313T080000
END:DAYLIGHT
BEGIN:STANDARD
TZOFFSETFROM:-0500
TZOFFSETTO:-0600
TZNAME:CST
DTSTART:20221106T070000
END:STANDARD
BEGIN:DAYLIGHT
TZOFFSETFROM:-0600
TZOFFSETTO:-0500
TZNAME:CDT
DTSTART:20230312T080000
END:DAYLIGHT
BEGIN:STANDARD
TZOFFSETFROM:-0500
TZOFFSETTO:-0600
TZNAME:CST
DTSTART:20231105T070000
END:STANDARD
BEGIN:DAYLIGHT
TZOFFSETFROM:-0600
TZOFFSETTO:-0500
TZNAME:CDT
DTSTART:20240310T080000
END:DAYLIGHT
BEGIN:STANDARD
TZOFFSETFROM:-0500
TZOFFSETTO:-0600
TZNAME:CST
DTSTART:20241103T070000
END:STANDARD
END:VTIMEZONE
BEGIN:VEVENT
DTSTART;TZID=America/Chicago:20231001T100000
DTEND;TZID=America/Chicago:20231001T170000
DTSTAMP:20260423T060516
CREATED:20230531T185716Z
LAST-MODIFIED:20230531T185716Z
UID:10000541-1696154400-1696179600@www.vkind.com
SUMMARY:St. Louis VegFest 2023
DESCRIPTION:For our first VegFest in 2018\, we did not know what to expect. We were blown away by over 8\,000 attendees\, countless vendors and speakers\, and the community that came together for one special day. We have since grown to showcase around 70 exciting vendors and offer speakers in the main pavilion\, entertainment\, free yoga\, and fun activities for the kids. With every event\, we improve and learn more about the vegan community. We appreciate the patronage\, support\, donations\, and feedback that have helped us grow and deepen our community roots. We look forward to seeing you at St. Louis VegFest on October 1st\, 2023 for what is sure to be a momentous event!
URL:https://www.vkind.com/vegan-events/st-louis-vegfest-2023/
LOCATION:World’s Fair Pavilion at Forest Park\, 1904 Concourse Dr\, St. Louis\, MO\, 63110\, United States
ATTACH;FMTTYPE=image/jpeg:https://www.vkind.com/wp-content/uploads/2023/05/St.-Louis-VegFest.jpg
GEO:38.63577;-90.2851811
X-APPLE-STRUCTURED-LOCATION;VALUE=URI;X-ADDRESS=World’s Fair Pavilion at Forest Park 1904 Concourse Dr St. Louis MO 63110 United States;X-APPLE-RADIUS=500;X-TITLE=1904 Concourse Dr:geo:-90.2851811,38.63577
END:VEVENT
END:VCALENDAR