BEGIN:VCALENDAR
VERSION:2.0
PRODID:-//Vkind - ECPv6.15.14//NONSGML v1.0//EN
CALSCALE:GREGORIAN
METHOD:PUBLISH
X-WR-CALNAME:Vkind
X-ORIGINAL-URL:https://www.vkind.com
X-WR-CALDESC:Events for Vkind
REFRESH-INTERVAL;VALUE=DURATION:PT1H
X-Robots-Tag:noindex
X-PUBLISHED-TTL:PT1H
BEGIN:VTIMEZONE
TZID:America/Detroit
BEGIN:DAYLIGHT
TZOFFSETFROM:-0500
TZOFFSETTO:-0400
TZNAME:EDT
DTSTART:20220313T070000
END:DAYLIGHT
BEGIN:STANDARD
TZOFFSETFROM:-0400
TZOFFSETTO:-0500
TZNAME:EST
DTSTART:20221106T060000
END:STANDARD
BEGIN:DAYLIGHT
TZOFFSETFROM:-0500
TZOFFSETTO:-0400
TZNAME:EDT
DTSTART:20230312T070000
END:DAYLIGHT
BEGIN:STANDARD
TZOFFSETFROM:-0400
TZOFFSETTO:-0500
TZNAME:EST
DTSTART:20231105T060000
END:STANDARD
BEGIN:DAYLIGHT
TZOFFSETFROM:-0500
TZOFFSETTO:-0400
TZNAME:EDT
DTSTART:20240310T070000
END:DAYLIGHT
BEGIN:STANDARD
TZOFFSETFROM:-0400
TZOFFSETTO:-0500
TZNAME:EST
DTSTART:20241103T060000
END:STANDARD
END:VTIMEZONE
BEGIN:VEVENT
DTSTART;TZID=America/Detroit:20230923T110000
DTEND;TZID=America/Detroit:20230924T170000
DTSTAMP:20260424T045520
CREATED:20230531T193307Z
LAST-MODIFIED:20230531T193400Z
UID:10000549-1695466800-1695574800@www.vkind.com
SUMMARY:SoCal VegFest 2023
DESCRIPTION:Welcome to SoCal VegFest\, a one-of-a-kind event designed to engage curiosity and inspire consciousness in people of all ages. This event-not-to-miss will include free plant-based food samplings\, musical entertainment\, guest speakers\, cooking demonstrations\, raffles\, interactive booths\, food vendors\, humane organizations\, an enjoyable children’s area with a variety of engaging opportunities especially for kids\, and more.
URL:https://www.vkind.com/vegan-events/socal-vegfest-2023/
LOCATION:OC Fair & Events Center\, 88 Fair Dr\, Costa Mesa\, CA\, 92626\, United States
GEO:33.6683871;-117.9046818
X-APPLE-STRUCTURED-LOCATION;VALUE=URI;X-ADDRESS=OC Fair & Events Center 88 Fair Dr Costa Mesa CA 92626 United States;X-APPLE-RADIUS=500;X-TITLE=88 Fair Dr:geo:-117.9046818,33.6683871
END:VEVENT
END:VCALENDAR