BEGIN:VCALENDAR
VERSION:2.0
PRODID:-//Vkind - ECPv6.15.14//NONSGML v1.0//EN
CALSCALE:GREGORIAN
METHOD:PUBLISH
X-WR-CALNAME:Vkind
X-ORIGINAL-URL:https://www.vkind.com
X-WR-CALDESC:Events for Vkind
REFRESH-INTERVAL;VALUE=DURATION:PT1H
X-Robots-Tag:noindex
X-PUBLISHED-TTL:PT1H
BEGIN:VTIMEZONE
TZID:America/Detroit
BEGIN:DAYLIGHT
TZOFFSETFROM:-0500
TZOFFSETTO:-0400
TZNAME:EDT
DTSTART:20220313T070000
END:DAYLIGHT
BEGIN:STANDARD
TZOFFSETFROM:-0400
TZOFFSETTO:-0500
TZNAME:EST
DTSTART:20221106T060000
END:STANDARD
BEGIN:DAYLIGHT
TZOFFSETFROM:-0500
TZOFFSETTO:-0400
TZNAME:EDT
DTSTART:20230312T070000
END:DAYLIGHT
BEGIN:STANDARD
TZOFFSETFROM:-0400
TZOFFSETTO:-0500
TZNAME:EST
DTSTART:20231105T060000
END:STANDARD
BEGIN:DAYLIGHT
TZOFFSETFROM:-0500
TZOFFSETTO:-0400
TZNAME:EDT
DTSTART:20240310T070000
END:DAYLIGHT
BEGIN:STANDARD
TZOFFSETFROM:-0400
TZOFFSETTO:-0500
TZNAME:EST
DTSTART:20241103T060000
END:STANDARD
END:VTIMEZONE
BEGIN:VEVENT
DTSTART;TZID=America/Detroit:20231007T100000
DTEND;TZID=America/Detroit:20231007T170000
DTSTAMP:20260424T080020
CREATED:20230531T185229Z
LAST-MODIFIED:20230531T185229Z
UID:10000540-1696672800-1696698000@www.vkind.com
SUMMARY:Midwest Soul Vegfest
DESCRIPTION:Join us! In celebrating our annual Midwest Soul Veg festival! \nEnjoy delicious vegan food\, listen to National and local speakers\, live entertainment and shop with eco-friendly vendors\, attend plant-based cooking demo\, kids corner\, educational workshops and farmers market! \nGet VEGI-CATED on the importance of a healthy Plant-Based Lifestyle. \nOur mission is to educate\, inform\, invest our resources in creating healthy communities for our children and future generations to come!\n \nThis event is family friendly and free to the public!
URL:https://www.vkind.com/vegan-events/midwest-soul-vegfest/
LOCATION:Swope Park\, 63rd Meyer Blvd.\, Kansas City\, MO\, 64130\, United States
ATTACH;FMTTYPE=image/jpeg:https://www.vkind.com/wp-content/uploads/2023/05/Midwest-Soul-Vegfest.jpg
GEO:39.012999;-94.568156
X-APPLE-STRUCTURED-LOCATION;VALUE=URI;X-ADDRESS=Swope Park 63rd Meyer Blvd. Kansas City MO 64130 United States;X-APPLE-RADIUS=500;X-TITLE=63rd Meyer Blvd.:geo:-94.568156,39.012999
END:VEVENT
END:VCALENDAR