BEGIN:VCALENDAR
VERSION:2.0
PRODID:-//Vkind - ECPv6.15.14//NONSGML v1.0//EN
CALSCALE:GREGORIAN
METHOD:PUBLISH
X-WR-CALNAME:Vkind
X-ORIGINAL-URL:https://www.vkind.com
X-WR-CALDESC:Events for Vkind
REFRESH-INTERVAL;VALUE=DURATION:PT1H
X-Robots-Tag:noindex
X-PUBLISHED-TTL:PT1H
BEGIN:VTIMEZONE
TZID:America/Phoenix
BEGIN:STANDARD
TZOFFSETFROM:-0700
TZOFFSETTO:-0700
TZNAME:MST
DTSTART:20220101T000000
END:STANDARD
END:VTIMEZONE
BEGIN:VEVENT
DTSTART;TZID=America/Phoenix:20230916T190000
DTEND;TZID=America/Phoenix:20230916T230000
DTSTAMP:20260424T122422
CREATED:20230905T193144Z
LAST-MODIFIED:20230905T193144Z
UID:10007537-1694890800-1694905200@www.vkind.com
SUMMARY:Vegan Night Market
DESCRIPTION:VEGAN NIGHT MARKET is back\nSeptember 16\, 2023 🌙 7 – 11 pm \nWe’ve expanded! More space & more food.\n236 S Scott Ave + 200 S 6th Ave\, Tucson\, AZ \nFamily-friendly\, including fur babies in the outdoor area — 21+ in the bar.
URL:https://www.vkind.com/vegan-events/vegan-night-market/
LOCATION:236 S Scott Ave\, 236 S Scott Ave\, Tucson\, AZ\, 85701\, United States
ATTACH;FMTTYPE=image/jpeg:https://www.vkind.com/wp-content/uploads/2023/09/Vegan-Night-Market.jpg
ORGANIZER;CN="DEATH FREE FOODIE":MAILTO:deathfreefoodie@gmail.com
END:VEVENT
END:VCALENDAR