BEGIN:VCALENDAR
VERSION:2.0
PRODID:-//Vkind - ECPv6.15.14//NONSGML v1.0//EN
CALSCALE:GREGORIAN
METHOD:PUBLISH
X-WR-CALNAME:Vkind
X-ORIGINAL-URL:https://www.vkind.com
X-WR-CALDESC:Events for Vkind
REFRESH-INTERVAL;VALUE=DURATION:PT1H
X-Robots-Tag:noindex
X-PUBLISHED-TTL:PT1H
BEGIN:VTIMEZONE
TZID:America/New_York
BEGIN:DAYLIGHT
TZOFFSETFROM:-0500
TZOFFSETTO:-0400
TZNAME:EDT
DTSTART:20220313T070000
END:DAYLIGHT
BEGIN:STANDARD
TZOFFSETFROM:-0400
TZOFFSETTO:-0500
TZNAME:EST
DTSTART:20221106T060000
END:STANDARD
BEGIN:DAYLIGHT
TZOFFSETFROM:-0500
TZOFFSETTO:-0400
TZNAME:EDT
DTSTART:20230312T070000
END:DAYLIGHT
BEGIN:STANDARD
TZOFFSETFROM:-0400
TZOFFSETTO:-0500
TZNAME:EST
DTSTART:20231105T060000
END:STANDARD
BEGIN:DAYLIGHT
TZOFFSETFROM:-0500
TZOFFSETTO:-0400
TZNAME:EDT
DTSTART:20240310T070000
END:DAYLIGHT
BEGIN:STANDARD
TZOFFSETFROM:-0400
TZOFFSETTO:-0500
TZNAME:EST
DTSTART:20241103T060000
END:STANDARD
END:VTIMEZONE
BEGIN:VEVENT
DTSTART;TZID=America/New_York:20230722T090000
DTEND;TZID=America/New_York:20230722T160000
DTSTAMP:20260424T045227
CREATED:20230531T194204Z
LAST-MODIFIED:20230531T194204Z
UID:10000551-1690016400-1690041600@www.vkind.com
SUMMARY:Compassionfest
DESCRIPTION:The mission of Compassionfest is to unite like-minded people who believe in the values of being just\, kindness\, equality and compassion. We’ll gather for delicious vegan food and animal-friendly product providers\, non-profits\, local artisans\, vegan tattooing\, music\, & healing workshops for all ages.
URL:https://www.vkind.com/vegan-events/compassionfest/
LOCATION:Whitneyville Cultural Commons\, 1253 Whitney Ave\, Hamden\, CT\, 06517\, United States
ATTACH;FMTTYPE=image/jpeg:https://www.vkind.com/wp-content/uploads/2023/05/Compassionfest.jpg
GEO:41.3470679;-72.9124097
X-APPLE-STRUCTURED-LOCATION;VALUE=URI;X-ADDRESS=Whitneyville Cultural Commons 1253 Whitney Ave Hamden CT 06517 United States;X-APPLE-RADIUS=500;X-TITLE=1253 Whitney Ave:geo:-72.9124097,41.3470679
END:VEVENT
END:VCALENDAR